BEGIN:VCALENDAR
VERSION:2.0
PRODID:-//FNCTA - Auvergne-Rhône-Alpes - ECPv6.2.9//NONSGML v1.0//EN
CALSCALE:GREGORIAN
METHOD:PUBLISH
X-ORIGINAL-URL:https://www.auratheatreamateur.fr
X-WR-CALDESC:évènements pour FNCTA - Auvergne-Rhône-Alpes
REFRESH-INTERVAL;VALUE=DURATION:PT1H
X-Robots-Tag:noindex
X-PUBLISHED-TTL:PT1H
BEGIN:VTIMEZONE

END:VTIMEZONE
BEGIN:VEVENT
DTSTART;TZID=UTC:20260421T014515
DTEND;TZID=UTC:20251024T213000
DTSTAMP:20260421T014515
CREATED:20250923T153259Z
LAST-MODIFIED:20250923T153259Z
UID:10001168-0-1761341400@www.auratheatreamateur.fr
SUMMARY:Le Secret (de Matthieu Savignac)
DESCRIPTION:Jeudi 23 octobre 2025 – 20h30 – MJC de La Roche sur Foron (74) \nUn soir d’été\, une falaise vertigineuse\, des retrouvailles entre un frère et sa sœur après quinze ans et six mois pour une occasion importante. Des non-dits\, des moitiés de vérité\, des langues qui peu à peu se délient… \nQue s’est-il réellement passé dans cette famille ?
URL:https://www.auratheatreamateur.fr/evenement/le-secret-de-matthieu-savignac-2/
LOCATION:MJC La Roche sur Foron\, 287\, av. Jean Jaurès\, La Roche sur Foron\, 74800
CATEGORIES:Savoie & Haute-Savoie
ATTACH;FMTTYPE=image/jpeg:https://www.auratheatreamateur.fr/wp-content/uploads/2025/09/LE-SECRET-AFFICHE-2-BLEUE-MAI-2025-1-1-scaled.jpg
END:VEVENT
BEGIN:VEVENT
DTSTART;TZID=UTC:20240625T080000
DTEND;TZID=UTC:20240630T170000
DTSTAMP:20260421T014515
CREATED:20240624T063335Z
LAST-MODIFIED:20240624T063629Z
UID:10000813-1719302400-1719766800@www.auratheatreamateur.fr
SUMMARY:COCKTAIL 13 - ORGANISÉ PAR LA TROUPE SAUVAGE
DESCRIPTION:Comme chaque année\, la Troupe Sauvage vous propose son cocktail théâtral avec le travail des p’tits sauvageons\, des sauvageons et des grands sauvages ! Mais aussi des troupes amies ! Avec des spectacles variés\, il y en a pour tous les goûts et nous avons besoin de vous pour faire vivre le théâtre au foyer municipal de Bourg Saint Andéol. \n  \n  \n 
URL:https://www.auratheatreamateur.fr/evenement/cocktail-13-organise-par-la-troupe-sauvage/
LOCATION:Foyer municipal\, avenue Notre-Dame\, Bourg-Saint-Andéol\, 07700\, France
CATEGORIES:Ardèche
ATTACH;FMTTYPE=image/png:https://www.auratheatreamateur.fr/wp-content/uploads/2024/06/Capture-decran-2024-06-24-083049.png
END:VEVENT
END:VCALENDAR