BEGIN:VCALENDAR
VERSION:2.0
PRODID:-//FNCTA - Auvergne-Rhône-Alpes - ECPv6.2.9//NONSGML v1.0//EN
CALSCALE:GREGORIAN
METHOD:PUBLISH
X-ORIGINAL-URL:https://www.auratheatreamateur.fr
X-WR-CALDESC:évènements pour FNCTA - Auvergne-Rhône-Alpes
REFRESH-INTERVAL;VALUE=DURATION:PT1H
X-Robots-Tag:noindex
X-PUBLISHED-TTL:PT1H
BEGIN:VTIMEZONE

END:VTIMEZONE
BEGIN:VEVENT
DTSTART;TZID=UTC:20260420T212347
DTEND;TZID=UTC:20251024T213000
DTSTAMP:20260420T212347
CREATED:20250923T153259Z
LAST-MODIFIED:20250923T153259Z
UID:10001168-0-1761341400@www.auratheatreamateur.fr
SUMMARY:Le Secret (de Matthieu Savignac)
DESCRIPTION:Jeudi 23 octobre 2025 – 20h30 – MJC de La Roche sur Foron (74) \nUn soir d’été\, une falaise vertigineuse\, des retrouvailles entre un frère et sa sœur après quinze ans et six mois pour une occasion importante. Des non-dits\, des moitiés de vérité\, des langues qui peu à peu se délient… \nQue s’est-il réellement passé dans cette famille ?
URL:https://www.auratheatreamateur.fr/evenement/le-secret-de-matthieu-savignac-2/
LOCATION:MJC La Roche sur Foron\, 287\, av. Jean Jaurès\, La Roche sur Foron\, 74800
CATEGORIES:Savoie & Haute-Savoie
ATTACH;FMTTYPE=image/jpeg:https://www.auratheatreamateur.fr/wp-content/uploads/2025/09/LE-SECRET-AFFICHE-2-BLEUE-MAI-2025-1-1-scaled.jpg
END:VEVENT
BEGIN:VEVENT
DTSTART;TZID=UTC:20240820T080000
DTEND;TZID=UTC:20240831T170000
DTSTAMP:20260420T212348
CREATED:20240823T141534Z
LAST-MODIFIED:20240823T141534Z
UID:10000835-1724140800-1725123600@www.auratheatreamateur.fr
SUMMARY:FNCTA des 2 Savoie x Toujours Festival 2024
DESCRIPTION:Du 20 au 31 août aura lieu la 6eme édition du Toujours Festival sur Annecy et ses environs (Château de Menthon St Bernard\, Annecy\, Veyrier du Lac\, Talloires-Montmin). \nIl y aura du théâtre\, des concerts\, des spectacles pour petits et grands\, du stand-up et des surprises via près de 30 spectacles (gratuits ou payants selon les spectacles cf programme)… Du spectacle vivant local pour la fin des vacances! \nPour la 2eme année consécutive\, le Comité FNCTA des 2 Savoie a conclu un partenariat avec les organisateurs du Toujours Festival\, afin de proposer aux adhérents des compagnies FNCTA des tarifs privilégiés. \nLe contact FNCTA de votre troupe a reçu par mail les détails avec le code de réduction à indiquer au niveau de la billetterie.\nVous bénéficiez d’une réduction de 20% valable sur tous les spectacles payants en tarif plein. \nInfos et réservations sur www.toujoursfestival.fr \nPour information\, le projet est porté par une association indépendante et bénévole. \nA bientôt \nChloé Mercier \nPrésidente du Comité FNCTA des 2 Savoie \n  \n \n  \n 
URL:https://www.auratheatreamateur.fr/evenement/fncta-des-2-savoie-x-toujours-festival-2024/
LOCATION:Annecy\, Annecy\, 74000
CATEGORIES:Savoie & Haute-Savoie
ATTACH;FMTTYPE=image/jpeg:https://www.auratheatreamateur.fr/wp-content/uploads/2024/08/unnamed.jpg
END:VEVENT
END:VCALENDAR