BEGIN:VCALENDAR
VERSION:2.0
PRODID:-//FNCTA - Auvergne-Rhône-Alpes - ECPv6.2.9//NONSGML v1.0//EN
CALSCALE:GREGORIAN
METHOD:PUBLISH
X-ORIGINAL-URL:https://www.auratheatreamateur.fr
X-WR-CALDESC:évènements pour FNCTA - Auvergne-Rhône-Alpes
REFRESH-INTERVAL;VALUE=DURATION:PT1H
X-Robots-Tag:noindex
X-PUBLISHED-TTL:PT1H
BEGIN:VTIMEZONE

END:VTIMEZONE
BEGIN:VEVENT
DTSTART;TZID=UTC:20260420T195958
DTEND;TZID=UTC:20251024T213000
DTSTAMP:20260420T195958
CREATED:20250923T153259Z
LAST-MODIFIED:20250923T153259Z
UID:10001168-0-1761341400@www.auratheatreamateur.fr
SUMMARY:Le Secret (de Matthieu Savignac)
DESCRIPTION:Jeudi 23 octobre 2025 – 20h30 – MJC de La Roche sur Foron (74) \nUn soir d’été\, une falaise vertigineuse\, des retrouvailles entre un frère et sa sœur après quinze ans et six mois pour une occasion importante. Des non-dits\, des moitiés de vérité\, des langues qui peu à peu se délient… \nQue s’est-il réellement passé dans cette famille ?
URL:https://www.auratheatreamateur.fr/evenement/le-secret-de-matthieu-savignac-2/
LOCATION:MJC La Roche sur Foron\, 287\, av. Jean Jaurès\, La Roche sur Foron\, 74800
CATEGORIES:Savoie & Haute-Savoie
ATTACH;FMTTYPE=image/jpeg:https://www.auratheatreamateur.fr/wp-content/uploads/2025/09/LE-SECRET-AFFICHE-2-BLEUE-MAI-2025-1-1-scaled.jpg
END:VEVENT
BEGIN:VEVENT
DTSTART;TZID=UTC:20241004T170000
DTEND;TZID=UTC:20241013T190000
DTSTAMP:20260420T195958
CREATED:20240926T193620Z
LAST-MODIFIED:20240926T193620Z
UID:10000877-1728061200-1728846000@www.auratheatreamateur.fr
SUMMARY:4ème Rendez-Vous d'Automne du Festival National de Théâtre Contemporain Amateur
DESCRIPTION:Créé en 2020\, le Rendez-vous d’Automne du Festival National de Théâtre Contemporain Amateur de la Dombes\, revient cette année du 4 au 13 octobre dans 9 communes de notre territoire avec des lieux et des formats originaux. \nDes troupes de l’Ain\, de l’Isère\, de la Loire et du Rhône seront présentes lors de cette 4e édition. \nEn plus des bibliothèques ou médiathèques fidèles partenaires\, nous vous donnons rendez-vous dans une Marpa\, une salle de conseil municipal\, l’atelier-relais d’un “Hôtel d’Entreprise”\, une chapelle et un château ! \nLaurent Montrade\nPrésident de Théâtre Contemporain en Dombes \nProgramme détaillé :\nhttps://www.theatrecontemporainendombes.com/_files/ugd/b340ec_b2e7c6b4af374129a4f9254e7b193ed1.pdf\nwww.tced01.com\nhttps://www.facebook.com/fnctachatillonsurchalaronne/ \nContact : 06 43 95 63 62 \n \n  \n \n 
URL:https://www.auratheatreamateur.fr/evenement/4eme-rendez-vous-dautomne-du-festival-national-de-theatre-contemporain-amateur/
LOCATION:Dombes (Ain)
CATEGORIES:Ain,Ardèche,Drôme,Isère,Loire,Rhône,Savoie & Haute-Savoie,Union régionale
ATTACH;FMTTYPE=image/webp:https://www.auratheatreamateur.fr/wp-content/uploads/2024/09/b340ec_ffc8f1dd53b54d05afc891d757a34fb2mv2.webp
END:VEVENT
BEGIN:VEVENT
DTSTART;VALUE=DATE:20241008
DTEND;VALUE=DATE:20241016
DTSTAMP:20260420T195958
CREATED:20240910T164342Z
LAST-MODIFIED:20240910T164913Z
UID:10000881-1728345600-1729036799@www.auratheatreamateur.fr
SUMMARY:Festival Les Tréteaux de Voiron – 21e édition
DESCRIPTION:Le rideau s’ouvre le 8 octobre sur la 21e édition du festival\nLes Tréteaux de Voiron [38].\n– 7 jours | 12 spectacles à la Salle des Fêtes\n– 8 spectacles scolaires | 6 interventions hors les murs\n– 9 compagnies | 55 artistes et techniciens\n– 2000 spectateurs attendus | dont 800 scolaires \nA vous de voir\, d’écouter\, d’être ému\, de rire pendant ces 7 soirées au temps suspendu…
URL:https://www.auratheatreamateur.fr/evenement/festival-les-treteaux-de-voiron-21e-edition/
LOCATION:Salle des Fêtes\, Pl. Jacques-Antoine Gau\, Voiron\, 38500
CATEGORIES:Isère
ATTACH;FMTTYPE=image/jpeg:https://www.auratheatreamateur.fr/wp-content/uploads/2024/09/Aff-TDV-2024-small-150dpi-1.jpg
END:VEVENT
BEGIN:VEVENT
DTSTART;TZID=UTC:20241012T193000
DTEND;TZID=UTC:20241012T202000
DTSTAMP:20260420T195958
CREATED:20240909T063317Z
LAST-MODIFIED:20240909T063317Z
UID:10000873-1728761400-1728764400@www.auratheatreamateur.fr
SUMMARY:Les Tréteaux de Voiron - Pan !
DESCRIPTION:Des journalistes sans vergogne\, un entomologiste benêt accompagné d’une scientifique russe psychorigide et nièce de Vladimir Poutine\, un agent secret bas du front\, un berger monolithique et une réserve naturelle habitée par des créatures mythologiques. Dans cette farce écolo-trash\, ouvertement inspirée du Songe d’une nuit d’été\, l’humour et la caricature sont aussi féroces que l’humain peut être bête et méchant. Une comédie monstrueuse moitié Shakespeare – moitié Monty Python\n\nDurée 0h50 | +8 ans\nThéâtre du Sycomore [07]\nAuteur Christophe Marachian | Mise en scène Marion Ott\, C. Marachian
URL:https://www.auratheatreamateur.fr/evenement/les-treteaux-de-voiron-pan/
LOCATION:Salle des Fêtes\, Pl. Jacques-Antoine Gau\, Voiron\, 38500
CATEGORIES:Isère
ATTACH;FMTTYPE=image/jpeg:https://www.auratheatreamateur.fr/wp-content/uploads/2024/09/Aff-Pan-150dpi.jpg
END:VEVENT
BEGIN:VEVENT
DTSTART;TZID=UTC:20241012T211500
DTEND;TZID=UTC:20241012T224500
DTSTAMP:20260420T195958
CREATED:20240909T063525Z
LAST-MODIFIED:20240909T063525Z
UID:10000874-1728767700-1728773100@www.auratheatreamateur.fr
SUMMARY:Les Tréteaux de Voiron - Une semaine pas plus
DESCRIPTION:Paul fait croire à Sophie que son meilleur ami Martin\, venant de perdre sa mère\, va venir s’installer quelque temps chez eux. Il veut en réalité la quitter\, pensant que ce ménage à trois fera exploser leur couple… Martin\, pris au piège\, accepte. Mais ce sera “une semaine… pas plus !” Démarre alors un ménage à trois totalement explosif\, “véritables” chaises musicales avec son lot de mensonges\, de coups bas et autres plaisirs quotidiens.\n\nDurée 1h30 | +10 ans\nCompagnie La Divine Comédie [78]\nAuteur Clément Michel | Mise en scène Ophélie Pineau\, Benjamin Noé
URL:https://www.auratheatreamateur.fr/evenement/les-treteaux-de-voiron-une-semaine-pas-plus/
LOCATION:Salle des Fêtes\, Pl. Jacques-Antoine Gau\, Voiron\, 38500
CATEGORIES:Isère
ATTACH;FMTTYPE=image/jpeg:https://www.auratheatreamateur.fr/wp-content/uploads/2024/09/Aff-Une-semaine-pas-plus-150dpi.jpg
END:VEVENT
END:VCALENDAR