BEGIN:VCALENDAR
VERSION:2.0
PRODID:-//FNCTA - Auvergne-Rhône-Alpes - ECPv6.2.9//NONSGML v1.0//EN
CALSCALE:GREGORIAN
METHOD:PUBLISH
X-WR-CALNAME:FNCTA - Auvergne-Rhône-Alpes
X-ORIGINAL-URL:https://www.auratheatreamateur.fr
X-WR-CALDESC:évènements pour FNCTA - Auvergne-Rhône-Alpes
REFRESH-INTERVAL;VALUE=DURATION:PT1H
X-Robots-Tag:noindex
X-PUBLISHED-TTL:PT1H
BEGIN:VTIMEZONE

END:VTIMEZONE
BEGIN:VEVENT
DTSTART;TZID=UTC:20260420T152056
DTEND;TZID=UTC:20251024T213000
DTSTAMP:20260420T152056
CREATED:20250923T153259Z
LAST-MODIFIED:20250923T153259Z
UID:10001168-0-1761341400@www.auratheatreamateur.fr
SUMMARY:Le Secret (de Matthieu Savignac)
DESCRIPTION:Jeudi 23 octobre 2025 – 20h30 – MJC de La Roche sur Foron (74) \nUn soir d’été\, une falaise vertigineuse\, des retrouvailles entre un frère et sa sœur après quinze ans et six mois pour une occasion importante. Des non-dits\, des moitiés de vérité\, des langues qui peu à peu se délient… \nQue s’est-il réellement passé dans cette famille ?
URL:https://www.auratheatreamateur.fr/evenement/le-secret-de-matthieu-savignac-2/
LOCATION:MJC La Roche sur Foron\, 287\, av. Jean Jaurès\, La Roche sur Foron\, 74800
CATEGORIES:Savoie & Haute-Savoie
ATTACH;FMTTYPE=image/jpeg:https://www.auratheatreamateur.fr/wp-content/uploads/2025/09/LE-SECRET-AFFICHE-2-BLEUE-MAI-2025-1-1-scaled.jpg
END:VEVENT
BEGIN:VEVENT
DTSTART;TZID=UTC:20250124T200000
DTEND;TZID=UTC:20250126T170000
DTSTAMP:20260420T152056
CREATED:20250106T230924Z
LAST-MODIFIED:20250106T230924Z
UID:10001023-1737748800-1737910800@www.auratheatreamateur.fr
SUMMARY:Villars Les Scènes 2025 - 7éme édition
DESCRIPTION:3 jours de théâtre !\nLe centre social Colibri organise la 7éme édition de Villars Les Scènes. Venez partager et échanger avec les comédiens après chaque représentation autour d’un verre. \nRetrouvez tous les spectacles et information dans le programme Villars Les Scènes 2025 !
URL:https://www.auratheatreamateur.fr/evenement/villars-les-scenes-2025-7eme-edition/
CATEGORIES:Ain
ATTACH;FMTTYPE=image/jpeg:https://www.auratheatreamateur.fr/wp-content/uploads/2025/01/VLS25-affiche-scaled.jpg
END:VEVENT
BEGIN:VEVENT
DTSTART;TZID=UTC:20250124T203000
DTEND;TZID=UTC:20250126T180000
DTSTAMP:20260420T152056
CREATED:20241106T093112Z
LAST-MODIFIED:20241201T194432Z
UID:10000962-1737750600-1737914400@www.auratheatreamateur.fr
SUMMARY:3e festival Barba’Trac de théâtre amateur à Barberaz (Savoie)
DESCRIPTION:Après le succès des deux premières éditions\, Le Théâtre 40\, le Comité FNCTA des 2 Savoie et la Ville de Barberaz organisent les 24\, 25 et 26 janvier 2025 le 3e festival BARBA’TRAC\, festival labellisé Union Rhône-Alpes FNCTA. \nSix spectacles au chapeau\, sans réservation\, dans la petite salle festive de Barberaz\, transformée en théâtre pour l’occasion : \nVendredi 24 à 20h30 : Venise sous la neige – de Gilles Dyrek\, par la Compagnie Accro-Planches \nSamedi 27 à 10h30 : Bataille navale – de Jean-Michel Ribes\, par La Cie Clics et Sacs \nSamedi 27 à 15h : De si vieux enfants – de Frédéric Dubost\, par les Farfollions de la Caille \nSamedi 27 à 20h30 : La nuit à l’envers – de Xavier Durringer\, par la Compagnie Allez Hop ! \nDimanche 28 à 11h : La visite de la vieille dame\, de Friedrich Dürrenmatt\, par la Compagnie Coup de Théâtre \nDimanche 28 à 17h: Psy(Cause)\, de Josiane Pinson\, par Les Source de l’Art \nRetrouvez tout le programme ici. \n 
URL:https://www.auratheatreamateur.fr/evenement/3e-festival-barbatrac-de-theatre-amateur-a-barberaz-savoie/
LOCATION:petite salle festive\, 1 avenue du Stade\, Barberaz\, 73000
CATEGORIES:Savoie & Haute-Savoie
ATTACH;FMTTYPE=image/jpeg:https://www.auratheatreamateur.fr/wp-content/uploads/2024/11/Affiche-Festival-Barbatrac-2025-V2B-OK.jpg
END:VEVENT
BEGIN:VEVENT
DTSTART;TZID=UTC:20250126T110000
DTEND;TZID=UTC:20250126T123000
DTSTAMP:20260420T152056
CREATED:20250105T100817Z
LAST-MODIFIED:20250105T100817Z
UID:10001021-1737889200-1737894600@www.auratheatreamateur.fr
SUMMARY:La visite de la vieille dame
DESCRIPTION:une pièce de Friedrich Dürrenmatt \npar la Cie Coup de Théâtre \ndans le cadre du 3e festival Barba’Trac de théâtre amateur à Barberaz (Savoie) \nTout public à partir de 12 ans \nUne vieille dame revient dans son village natal. Elle est richissime\, le village est au bord de la faillite. Toute la communauté espère que la vieille dame relancera l’activité de la ville plongée dans la misère. Mais que demandera-t-elle en échange de son aide ? \nParticipation libre au chapeau \nSans réservation
URL:https://www.auratheatreamateur.fr/evenement/la-visite-de-la-vieille-dame/
LOCATION:petite salle festive\, 1 avenue du Stade\, Barberaz\, 73000
CATEGORIES:Savoie & Haute-Savoie
ATTACH;FMTTYPE=image/png:https://www.auratheatreamateur.fr/wp-content/uploads/2025/01/affiche-La-visite-de-la-vieille-dame.png
END:VEVENT
BEGIN:VEVENT
DTSTART;TZID=UTC:20250126T170000
DTEND;TZID=UTC:20250126T180000
DTSTAMP:20260420T152056
CREATED:20250105T101214Z
LAST-MODIFIED:20250105T101214Z
UID:10001022-1737910800-1737914400@www.auratheatreamateur.fr
SUMMARY:PSY(cause)
DESCRIPTION:une pièce de Josiane Pinson \npar la Cie Les Sources de l’Art \ndans le cadre du 3e festival Barba’Trac de théâtre amateur à Barberaz (Savoie) \nA partir de 12 ans \n“Elle” est psy. Symbole d’équilibre. Seule. Mère. En analyse.\nA cause de sa mère ? De son âge ? Ou de ses patientes ?\nLes névroses\, c’est contagieux ?\nUn symbole d’équilibre qui dérape\, ça fait quoi ?\nJosiane Pinson déshabille la psyché féminine pour ausculter ses fragilités Aigre douceur et humour noir foncé. \nParticipation libre au chapeau. \nSans réservation
URL:https://www.auratheatreamateur.fr/evenement/psycause/
LOCATION:petite salle festive\, 1 avenue du Stade\, Barberaz\, 73000
CATEGORIES:Savoie & Haute-Savoie
ATTACH;FMTTYPE=image/gif:https://www.auratheatreamateur.fr/wp-content/uploads/2025/01/affiche-Psycause-basse-def.gif
END:VEVENT
END:VCALENDAR