BEGIN:VCALENDAR
VERSION:2.0
PRODID:-//FNCTA - Auvergne-Rhône-Alpes - ECPv6.2.9//NONSGML v1.0//EN
CALSCALE:GREGORIAN
METHOD:PUBLISH
X-ORIGINAL-URL:https://www.auratheatreamateur.fr
X-WR-CALDESC:évènements pour FNCTA - Auvergne-Rhône-Alpes
REFRESH-INTERVAL;VALUE=DURATION:PT1H
X-Robots-Tag:noindex
X-PUBLISHED-TTL:PT1H
BEGIN:VTIMEZONE

END:VTIMEZONE
BEGIN:VEVENT
DTSTART;TZID=UTC:20260420T134829
DTEND;TZID=UTC:20251024T213000
DTSTAMP:20260420T134829
CREATED:20250923T153259Z
LAST-MODIFIED:20250923T153259Z
UID:10001168-0-1761341400@www.auratheatreamateur.fr
SUMMARY:Le Secret (de Matthieu Savignac)
DESCRIPTION:Jeudi 23 octobre 2025 – 20h30 – MJC de La Roche sur Foron (74) \nUn soir d’été\, une falaise vertigineuse\, des retrouvailles entre un frère et sa sœur après quinze ans et six mois pour une occasion importante. Des non-dits\, des moitiés de vérité\, des langues qui peu à peu se délient… \nQue s’est-il réellement passé dans cette famille ?
URL:https://www.auratheatreamateur.fr/evenement/le-secret-de-matthieu-savignac-2/
LOCATION:MJC La Roche sur Foron\, 287\, av. Jean Jaurès\, La Roche sur Foron\, 74800
CATEGORIES:Savoie & Haute-Savoie
ATTACH;FMTTYPE=image/jpeg:https://www.auratheatreamateur.fr/wp-content/uploads/2025/09/LE-SECRET-AFFICHE-2-BLEUE-MAI-2025-1-1-scaled.jpg
END:VEVENT
BEGIN:VEVENT
DTSTART;TZID=UTC:20250207T200000
DTEND;TZID=UTC:20250207T210000
DTSTAMP:20260420T134829
CREATED:20250120T174127Z
LAST-MODIFIED:20250120T174127Z
UID:10001048-1738958400-1738962000@www.auratheatreamateur.fr
SUMMARY:Insoumise Camille Claudel - Festival Talents Hauts
DESCRIPTION:Dans cette pièce\, l’œuvre artistique est omniprésente et rend hommage à Camille Claudel\, artiste sculpteur\, comme elle aimait à se définir elle-même. Un temps suspendu sur la vie de l’artiste\, en explorant sa farouche volonté de devenir et d’être elle-même\, sans concession\, sans compromis\, dans une fidélité entière à son génie.
URL:https://www.auratheatreamateur.fr/evenement/insoumise-camille-claudel-festival-talents-hauts/
LOCATION:Salle des Fêtes de Voiron\, Place Jacques-Antoine Gau\, Voiron\, 38500\, France
CATEGORIES:Isère
ATTACH;FMTTYPE=image/jpeg:https://www.auratheatreamateur.fr/wp-content/uploads/2025/01/CC-affiche-FB-15x10-1.jpg
END:VEVENT
END:VCALENDAR