BEGIN:VCALENDAR
VERSION:2.0
PRODID:-//FNCTA - Auvergne-Rhône-Alpes - ECPv6.2.9//NONSGML v1.0//EN
CALSCALE:GREGORIAN
METHOD:PUBLISH
X-ORIGINAL-URL:https://www.auratheatreamateur.fr
X-WR-CALDESC:évènements pour FNCTA - Auvergne-Rhône-Alpes
REFRESH-INTERVAL;VALUE=DURATION:PT1H
X-Robots-Tag:noindex
X-PUBLISHED-TTL:PT1H
BEGIN:VTIMEZONE

END:VTIMEZONE
BEGIN:VEVENT
DTSTART;TZID=UTC:20260420T105202
DTEND;TZID=UTC:20251024T213000
DTSTAMP:20260420T105202
CREATED:20250923T153259Z
LAST-MODIFIED:20250923T153259Z
UID:10001168-0-1761341400@www.auratheatreamateur.fr
SUMMARY:Le Secret (de Matthieu Savignac)
DESCRIPTION:Jeudi 23 octobre 2025 – 20h30 – MJC de La Roche sur Foron (74) \nUn soir d’été\, une falaise vertigineuse\, des retrouvailles entre un frère et sa sœur après quinze ans et six mois pour une occasion importante. Des non-dits\, des moitiés de vérité\, des langues qui peu à peu se délient… \nQue s’est-il réellement passé dans cette famille ?
URL:https://www.auratheatreamateur.fr/evenement/le-secret-de-matthieu-savignac-2/
LOCATION:MJC La Roche sur Foron\, 287\, av. Jean Jaurès\, La Roche sur Foron\, 74800
CATEGORIES:Savoie & Haute-Savoie
ATTACH;FMTTYPE=image/jpeg:https://www.auratheatreamateur.fr/wp-content/uploads/2025/09/LE-SECRET-AFFICHE-2-BLEUE-MAI-2025-1-1-scaled.jpg
END:VEVENT
BEGIN:VEVENT
DTSTART;TZID=UTC:20250411T203000
DTEND;TZID=UTC:20250413T173000
DTSTAMP:20260420T105202
CREATED:20250311T105825Z
LAST-MODIFIED:20250408T081603Z
UID:10001091-1744403400-1744565400@www.auratheatreamateur.fr
SUMMARY:LES AVEYRINADES
DESCRIPTION:LES AVEYRINADES\nprésentent \nLA SÉLECTION RHÔNE-ALPES FESTHEA\nDU 11 AU 13 AVRIL 2025 \nC’est avec un immense plaisir que “Les Aveyrinades”\, Délégation Régionale du Festival National FESTHEA\, vous présentent cinq spectacles en concours pour représenter la Région Rhône-Alpes lors de l’édition 2025 de FESTHEA. \n\nTOUTES LES INFOS SUR:\nhttps://www.les-aveyrinades.com/accueil/festhea/2025-programme \n\nCette année encore\, un jury de passionnés sélectionnera la pièce qui de représentera la région Rhône-Alpes à St Cyr sur Loire (37) en octobre 2025 lors du Festival National FESTHEA.\nNous sommes impatients de célébrer le talent et la créativité qui émanent de ces troupes\,\n \nVenez partager cette aventure avec nous.\n \nL’occasion pour chacun d’entre vous de s’émouvoir\, rire ou pleurer … Tout ce qui vous fait vibrer ! \n…Et que le meilleur gagne…!  \n\n 
URL:https://www.auratheatreamateur.fr/evenement/les-aveyrinades/
LOCATION:Salle des Fêtes de Ciers\, Les Avenières Veyrins-Thuellin\, 38630
CATEGORIES:Isère
ATTACH;FMTTYPE=image/jpeg:https://www.auratheatreamateur.fr/wp-content/uploads/2025/03/AFFICHE-2025.jpg
END:VEVENT
END:VCALENDAR