BEGIN:VCALENDAR
VERSION:2.0
PRODID:-//FNCTA - Auvergne-Rhône-Alpes - ECPv6.2.9//NONSGML v1.0//EN
CALSCALE:GREGORIAN
METHOD:PUBLISH
X-WR-CALNAME:FNCTA - Auvergne-Rhône-Alpes
X-ORIGINAL-URL:https://www.auratheatreamateur.fr
X-WR-CALDESC:évènements pour FNCTA - Auvergne-Rhône-Alpes
REFRESH-INTERVAL;VALUE=DURATION:PT1H
X-Robots-Tag:noindex
X-PUBLISHED-TTL:PT1H
BEGIN:VTIMEZONE
TZID:UTC
BEGIN:STANDARD
TZOFFSETFROM:+0000
TZOFFSETTO:+0000
TZNAME:UTC
DTSTART:20260101T000000
END:STANDARD
END:VTIMEZONE
BEGIN:VEVENT
DTSTART;TZID=UTC:20260108T200000
DTEND;TZID=UTC:20260913T190000
DTSTAMP:20260426T021942
CREATED:20251203T081341Z
LAST-MODIFIED:20260126T102521Z
UID:10001237-1767902400-1789326000@www.auratheatreamateur.fr
SUMMARY:Parcours Shakespeare – Ados
DESCRIPTION:Une belle expérience de groupe à vivre au coeur du Festival Shakespeare et Cie ! Un festival fédérant les jeunes du Théâtre du Sycomore et d’autres jeunes amateurs venus de divers horizons. Chaque année\, la FNCTA organise un séjour théâtre pour les 14-20 ans sur le festival. Durant le séjour\, les ados participent à la vie du festival et assistent aux représentations.Tout au long du séjour\, la FNCTA proposera aux participant·e·s des ateliers théâtre\, animés par Thierry Tauleigne des Pièces Montées du Teil\, pour aboutir à une restitution pendant le festival et au Centre le Bournot en septembre. \nPlusieurs temps de rencontre entre les participant·e·s se dérouleront à l’Auditorium du Teil\, les : 7 février*\, 25 avril* et 14 juin*. Ces rendez-vous seront l’occasion de faire connaissance\, de créer un premier lien de groupe et de préparer les ateliers qui auront lieu pendant la période du festival. Le 7 février\, les jeunes participeront également à un atelier de sensibilisation aux dangers du numérique\, en résonance directe avec le spectacle découvert le 31 mars. \n*Ces dates sont susceptibles de changer. \nDans le cadre du Parcours Shakespeare\, une participation aux Rencontres Ardéchoises à Aubenas\, en septembre\, est prévue. Pour faciliter l’organisation\, deux formules sont proposées : participer à l’ensemble du week-end ou prendre part uniquement aux journées de vendredi et samedi. \n  \nCALENDRIER \n\nJeudi 8 janvier à 20h: Spectacle “Complex us” présenté par le Collectif Nakama.\nSamedi 7 février: Première journée de rencontre au Teil avec un atelier de sensibilisation aux dangers du numérique.\nSamedi 7 mars: Masterclass avec la Saïef Remmide du collectif Nakama.\nMardi 31 mars à 20h: Spectacle “Michelle\, doit-on t’en vouloir d’avoir fait un selfie à Auschwitz” présenté par la Compagnie Nandi.\nSamedi 25 avril: Deuxième journée de rencontre au Teil.\nSamedi 16 mai: participation à l’événement “Place des jeunes” organisé par l’Art d’En Faire à Chambonas (participation facultative)\nDimanche 14 juin: Troisième journée de rencontre au Teil.\nDu lundi 27 juillet au dimanche 2 août: Participation au Festival Shakespeare & Cie à Tournon-sur-Rhône.\nDu vendredi 11 au dimanche 13 septembre: Participation aux Rencontres Ardéchoises à Aubenas.\n\n\n\n\n\n\n\nINFOS + \nParcours Shakespeare Ados (14-20 ans)\nTarifs : 135 € adhérents FNCTA // 145€ (non adhérents)\nFiche d’inscription\, fiche d’engagement et fiche-sanitaire à joindre à l’inscription*\nContact : Christina Juhl au 06 11 73 10 10 ou cd07@fncta.fr\nAttention places limitées \n\n* à compléter et nous renvoyer avec le règlement à l’adresse :\n FNCTA CD07\n15\, boulevard Gambetta\,\n07200 Aubenas
URL:https://www.auratheatreamateur.fr/evenement/parcours-shakespeare-ados/
LOCATION:Ardèche\, 07
CATEGORIES:Ain,Ardèche,Drôme,Isère,Loire,Rhône,Savoie & Haute-Savoie
ATTACH;FMTTYPE=image/png:https://www.auratheatreamateur.fr/wp-content/uploads/2025/12/10.png
END:VEVENT
BEGIN:VEVENT
DTSTART;TZID=UTC:20260411T203000
DTEND;TZID=UTC:20261104T000000
DTSTAMP:20260426T021942
CREATED:20260215T105923Z
LAST-MODIFIED:20260215T105923Z
UID:10001334-1775939400-1793750400@www.auratheatreamateur.fr
SUMMARY:Le Secret (de Matthieu Savignac)
DESCRIPTION:Samedi 11 avril 2026 à 20h30 – Théâtre de Poche de Lavilledieu (07) \nUn soir d’été\, une falaise vertigineuse\, des retrouvailles entre un frère et sa sœur après quinze ans et six mois pour une occasion importante. Des non-dits\, des moitiés de vérité\, des langues qui peu à peu se délient… \nQue s’est-il réellement passé dans cette famille ? \n 
URL:https://www.auratheatreamateur.fr/evenement/le-secret-de-matthieu-savignac-4/
LOCATION:Théâtre de Poche\, Le Cloître\, Lavilledieu\, 07170\, France
CATEGORIES:Ardèche
ATTACH;FMTTYPE=image/jpeg:https://www.auratheatreamateur.fr/wp-content/uploads/2026/02/LE-SECRET-AFFICHE-2-BLEUE-MAI-2025-1-2-scaled.jpg
END:VEVENT
BEGIN:VEVENT
DTSTART;TZID=UTC:20260417T203000
DTEND;TZID=UTC:20260606T000000
DTSTAMP:20260426T021942
CREATED:20260226T191425Z
LAST-MODIFIED:20260226T191736Z
UID:10001863-1776457800-1780704000@www.auratheatreamateur.fr
SUMMARY:Edmond
DESCRIPTION:Paris à la Belle époque !\nEdmond Rostand est confronté à de nombreux échecs dans sa carrière d’écrivain. Son amie Sarah Bernhardt lui commande une pièce pour le comédien en vogue\, Constant Coquelin.\nC’est une course endiablée contre la montre …\nMalgré la jalousie de sa femme\, les caprices des acteurs\, les exigences de ses producteurs corses\, les histoires de cœur de son meilleur ami et le mépris des auteurs à succès\, Edmond se met à imaginer une pièce à laquelle personne ne croit : Cyrano de Bergerac ! \n>>> Infos & réservations \n 
URL:https://www.auratheatreamateur.fr/evenement/compte-11/
LOCATION:Théatre de l’Echange\, 26 rue Sommeiller\, ANNECY\, 74000
CATEGORIES:Savoie & Haute-Savoie
ATTACH;FMTTYPE=image/jpeg:https://www.auratheatreamateur.fr/wp-content/uploads/2026/02/LesEscholiers-Edmond-scaled.jpg
END:VEVENT
BEGIN:VEVENT
DTSTART;VALUE=DATE:20260422
DTEND;VALUE=DATE:20260427
DTSTAMP:20260426T021942
CREATED:20260108T120458Z
LAST-MODIFIED:20260112T112807Z
UID:10001260-1776816000-1777247999@www.auratheatreamateur.fr
SUMMARY:« LES AVEYRINADES » Festival de Spectacle Vivant Amateur du 22 au 26 avril  2026 - Sélection Rhône Alpes FESTHEA -
DESCRIPTION:[BIENVENUE À L’ÉDITION 2026 !!!\nDepuis 18 ans ce festival de Spectacle Vivants Amateurs\n” LES AVEYRINADES “\nest au rendez-vous.\n« Les Aveyrinades » et sa sélection Festhéa sera de retour cette année\nDu 22 au 26 Avril 2026\nSur la commune de Les Avenières Veyrins-Thuellin à 2 endroits différents :\nSalle des fêtes de Ciers et Salle des fêtes de Buvin. \nS’émerveiller\, rire ou pleurer… \nEt partager de beaux moments. \nÉchanges – Convivialité – Rencontres\, avec le spectacle vivant\, les comédiens\, ou bien chacun d’entre vous dans le public… \nProgramme en cours d’élaboration \nNous présenterons en tant que Délégation Régionale Festhéa\,\nles troupes candidates retenues\npour la Sélection Régionale Rhône-Alpes 2026 de FESTHEA. \nLe soutien sans faille des commerçants et sponsors Aveyrlinois nous permet de concrétiser  cette aventure\net de partager toujours autant d’émotions\, de rire\, de plaisirs…]
URL:https://www.auratheatreamateur.fr/evenement/les-aveyrinades-festival-de-spectacle-vivant-amateur-du-22-au-26-avril-2026-selection-rhone-alpes-festhea/
LOCATION:Salles des Fêtes de Ciers\, Rue du Capitaine Micoud \, Les Avenières Veyrins-Thuellin \, 38630  
CATEGORIES:Isère
ATTACH;FMTTYPE=image/png:https://www.auratheatreamateur.fr/wp-content/uploads/2026/01/AFFICHE-2026-1-scaled.png
END:VEVENT
BEGIN:VEVENT
DTSTART;VALUE=DATE:20260424
DTEND;VALUE=DATE:20260427
DTSTAMP:20260426T021942
CREATED:20260310T150248Z
LAST-MODIFIED:20260310T150248Z
UID:10001873-1776988800-1777247999@www.auratheatreamateur.fr
SUMMARY:Compte
DESCRIPTION:Cette page est restreinte. Veuillez Connexion  pour afficher cette page.
URL:https://www.auratheatreamateur.fr/evenement/compte-12/
ATTACH;FMTTYPE=image/jpeg:https://www.auratheatreamateur.fr/wp-content/uploads/2026/03/IMG-20260228-WA0000.jpg
END:VEVENT
BEGIN:VEVENT
DTSTART;TZID=UTC:20260424T200000
DTEND;TZID=UTC:20260509T212000
DTSTAMP:20260426T021942
CREATED:20260424T084109Z
LAST-MODIFIED:20260424T084109Z
UID:10001903-1777060800-1778361600@www.auratheatreamateur.fr
SUMMARY:ET LA VIE VA...
DESCRIPTION:Sept comédiens se piquent de curiosité pour une valise oubliée\ndans les coulisses d’un théâtre et prennent au mot ce qu’elle\nleur livre: des pages de vie\, légères ou plus graves\, échappées\nen bulles de poésie dans leur univers scénique.\nEt les voilà beaux parleurs\, chanteurs\, danseurs\, invitant\nle public à une fantasque ballade\, animée de textes\,\nde musiques et de chansons.
URL:https://www.auratheatreamateur.fr/evenement/et-la-vie-va-5/
ATTACH;FMTTYPE=image/jpeg:https://www.auratheatreamateur.fr/wp-content/uploads/2026/04/affiche-jonction-scaled.jpg
END:VEVENT
BEGIN:VEVENT
DTSTART;VALUE=DATE:20260426
DTEND;VALUE=DATE:20260427
DTSTAMP:20260426T021942
CREATED:20260215T105512Z
LAST-MODIFIED:20260215T105512Z
UID:10001333-1777161600-1777247999@www.auratheatreamateur.fr
SUMMARY:Le Secret (de Matthieu Savignac)
DESCRIPTION:Dimanche 26 avril 2026 - à 14h30 - Salle des Fêtes de Ciers - Festival les Aveyrinades - Les Avenières (38)\n\n\nUn soir d’été\, une falaise vertigineuse\, des retrouvailles entre un frère et sa sœur après quinze ans et six mois pour une occasion importante. Des non-dits\, des moitiés de vérité\, des langues qui peu à peu se délient… \nQue s’est-il réellement passé dans cette famille ? \n  \n 
URL:https://www.auratheatreamateur.fr/evenement/le-secret-de-matthieu-savignac-3/
LOCATION:Salle des Fêtes de Ciers\, Les Avenières Veyrins-Thuellin\, 38630
CATEGORIES:Isère
ATTACH;FMTTYPE=image/jpeg:https://www.auratheatreamateur.fr/wp-content/uploads/2026/02/LE-SECRET-AFFICHE-2-BLEUE-MAI-2025-1-1-scaled.jpg
END:VEVENT
BEGIN:VEVENT
DTSTART;TZID=UTC:20260426T110000
DTEND;TZID=UTC:20260426T120000
DTSTAMP:20260426T021942
CREATED:20260304T204925Z
LAST-MODIFIED:20260304T204925Z
UID:10001864-1777201200-1777204800@www.auratheatreamateur.fr
SUMMARY:L'homme qui plantait des arbres. De Jean Giono
DESCRIPTION:Texte intégral.\nCet hymne à la nature et à la paix\, montre que le don de soi est un fabuleux moyen d’être heureux.\nL’histoire\nC’est l’histoire d’une rencontre. Entre un randonneur et un berger. Sur les hauts plateaux de Provence. Le berger\, Elzéard Bouffier\, vit chichement. Une trentaine de moutons. Région balayée par les vents. Désertique. Rares villages de misère. Galère humaine. Elzéard se fixe une mission. Redonner vie. Redonner espoir. Il plante des graines. Deviennent arbres. Il n’attend rien. En l’espace de deux guerres\, les arbres poussent. Les racines retiennent l’eau. Des habitants s’y installent. La vie reprend le visage du plaisir. Pour ce berger : un simple don de soi. Main tendue à l’autre. Geste d’amour. Comme l’arbre\, par ses bourgeons\, offre ses feuilles et ses fruits à l’humanité.\nLecture et musique\nNous présentons ce texte\, intégralement\, sous forme de lecture à voix haute\, accompagné d’un musicien (Accordéon).\nDistribution \nLecteur-conteur :\nGuy Dieppedalle\nMusique :\nA l’accordéon : Serge Bernard\nMise en voix et lumières :\nJean-Luc Robert +\nDurée 45 mn. Texte intégral.\nPublic familial dès 8 ans. \nFête de printemps des hauteurs d’Aix-les-Bains.\nDimanche 26 avril 2026\nLieu : Parc de la Villa Rubaud. 66 chemin des Griattes. Aix-les-Bains. 73100. Savoie.\nHeures : Séances à 11h00 et à 15h15.\nEntrée libre. \nhttps://croquesesamecompagnie.net/l-homme-qui-plantait-des-arbres-de-jean-giono/ \n 
URL:https://www.auratheatreamateur.fr/evenement/lhomme-qui-plantait-des-arbres-de-jean-giono-10/
CATEGORIES:Savoie & Haute-Savoie
ATTACH;FMTTYPE=image/jpeg:https://www.auratheatreamateur.fr/wp-content/uploads/2026/03/CieCroqSesame-L-homme-qui-plantait-des-arbres-24-01-2026-400.jpg
END:VEVENT
BEGIN:VEVENT
DTSTART;TZID=UTC:20260426T150000
DTEND;TZID=UTC:20260426T170000
DTSTAMP:20260426T021942
CREATED:20260311T160008Z
LAST-MODIFIED:20260311T163814Z
UID:10001878-1777215600-1777222800@www.auratheatreamateur.fr
SUMMARY:Le pont des silences
DESCRIPTION:Nous sommes en 43. Cinq résistants kidnappent un officier allemand dans le but de l’interroger afin de lui soutirer des renseignements sur un convoi armé. L’enjeu est de taille\, détruire un pont stratégique ainsi qu’une colonne ennemie chargée de ravitailler le front d’armement.
URL:https://www.auratheatreamateur.fr/evenement/le-pont-des-silences-2/2026-04-26/
LOCATION:Centre des Arts Camille Floret\, 11 chemin de la Bouvière\, Saint-Pierre de Chandieu\, 69780
CATEGORIES:Rhône
ATTACH;FMTTYPE=image/png:https://www.auratheatreamateur.fr/wp-content/uploads/2026/03/le-pont-des-silences-affiche.png
END:VEVENT
BEGIN:VEVENT
DTSTART;TZID=UTC:20260426T160000
DTEND;TZID=UTC:20260426T180000
DTSTAMP:20260426T021942
CREATED:20260309T104111Z
LAST-MODIFIED:20260310T135150Z
UID:10001871-1777219200-1777226400@www.auratheatreamateur.fr
SUMMARY:TOM À LA FERME de Michel Marc Bouchard
DESCRIPTION:Tom\, un jeune publicitaire\, se rend en province pour les funérailles de son amant décédé dans un accident de la route. C’est dans une ferme laitière et isolée qu’il rencontre pour la première fois la mère du défunt.Elle n’a aucune idée de qui il est\, ni de ce qu’il a vécu avec son fils. Tom découvre alors l’autre réalité fabriquée par celui qui n’est plus là. Pour ne pas décevoir sa mère\, le frère du défunt contraint Tom\, par la menace et les coups\, à participer à une supercherie. Tom perd ses repères dans cette relation toxique. \n→ Site de la troupe
URL:https://www.auratheatreamateur.fr/evenement/tom-a-la-ferme-de-michel-marc-bouchard/2026-04-26/
LOCATION:ESPACE TONKIN\, 5\, av S Allende\, Villeurbanne\, 69100
CATEGORIES:Rhône
ATTACH;FMTTYPE=image/png:https://www.auratheatreamateur.fr/wp-content/uploads/2026/03/Tom-a-la-Ferme-FNCTA.png
END:VEVENT
BEGIN:VEVENT
DTSTART;TZID=UTC:20260426T163000
DTEND;TZID=UTC:20260426T183000
DTSTAMP:20260426T021942
CREATED:20260410T074310Z
LAST-MODIFIED:20260410T074310Z
UID:10001896-1777221000-1777228200@www.auratheatreamateur.fr
SUMMARY:LE PORTEUR D'HISTOIRE - THÉÂTRE D'EN FACE
DESCRIPTION:d’Alexis Michalik | par le Théâtre d’En Face \nPar une nuit pluvieuse\, au fin fond des Ardennes\, Martin Martin doit enterrer son père. Il est alors loin d’imaginer que la découverte d’un carnet manuscrit va l’entraîner dans une quête à travers l’Histoire et les continents. Quinze ans plus tard\, au cœur du désert algérien\, une mère et sa fille disparaissent mystérieusement. \n  \n  \n  \n  \n  \n 
URL:https://www.auratheatreamateur.fr/evenement/le-porteur-dhistoire-theatre-den-face-2/
LOCATION:Aurec-sur-Loire\, Aurec-sur-Loire\, 43110
CATEGORIES:Ardèche,Loire
ATTACH;FMTTYPE=image/png:https://www.auratheatreamateur.fr/wp-content/uploads/2023/07/Affiche-Le-porteur-dhistoire-Theatre-den-face.png
END:VEVENT
BEGIN:VEVENT
DTSTART;TZID=UTC:20260426T180000
DTEND;TZID=UTC:20260426T193000
DTSTAMP:20260426T021942
CREATED:20260403T072958Z
LAST-MODIFIED:20260403T073059Z
UID:10001891-1777226400-1777231800@www.auratheatreamateur.fr
SUMMARY:Les Forains
DESCRIPTION:de Stephan Wojtowicz\, par la Cie Les Planches à Voix\, mis en scène par Monique Duffey. \nAu dessus d’une voie ferrée\, Eddie compte les wagons qui passent. Le manège de Nono rouille dans son camion. Les nougats\, réglisses de Jackie moisissent dans la confiserie. Cette nuit-là\, un train s’arrète. Hélène et Olivier\, imprudemment\, en descendent. \nA partir de 10 ans. Participation libre au chapeau (12€ conseillés). Il est prudent de réserver sur https://www.letheatre40.com/reservation/les-forains.html
URL:https://www.auratheatreamateur.fr/evenement/les-forains-4/
LOCATION:Le Théâtre 40\, 40 route d'Apremont\, Barberaz\, 73000
CATEGORIES:Savoie & Haute-Savoie
ATTACH;FMTTYPE=image/jpeg:https://www.auratheatreamateur.fr/wp-content/uploads/2026/04/affiche-forains-2526-avril-2026-au-40.jpg
END:VEVENT
END:VCALENDAR