BEGIN:VCALENDAR
VERSION:2.0
PRODID:-//FNCTA - Auvergne-Rhône-Alpes - ECPv6.2.9//NONSGML v1.0//EN
CALSCALE:GREGORIAN
METHOD:PUBLISH
X-WR-CALNAME:FNCTA - Auvergne-Rhône-Alpes
X-ORIGINAL-URL:https://www.auratheatreamateur.fr
X-WR-CALDESC:évènements pour FNCTA - Auvergne-Rhône-Alpes
REFRESH-INTERVAL;VALUE=DURATION:PT1H
X-Robots-Tag:noindex
X-PUBLISHED-TTL:PT1H
BEGIN:VTIMEZONE

END:VTIMEZONE
BEGIN:VEVENT
DTSTART;TZID=UTC:20260420T212212
DTEND;TZID=UTC:20251024T213000
DTSTAMP:20260420T212212
CREATED:20250923T153259Z
LAST-MODIFIED:20250923T153259Z
UID:10001168-0-1761341400@www.auratheatreamateur.fr
SUMMARY:Le Secret (de Matthieu Savignac)
DESCRIPTION:Jeudi 23 octobre 2025 – 20h30 – MJC de La Roche sur Foron (74) \nUn soir d’été\, une falaise vertigineuse\, des retrouvailles entre un frère et sa sœur après quinze ans et six mois pour une occasion importante. Des non-dits\, des moitiés de vérité\, des langues qui peu à peu se délient… \nQue s’est-il réellement passé dans cette famille ?
URL:https://www.auratheatreamateur.fr/evenement/le-secret-de-matthieu-savignac-2/
LOCATION:MJC La Roche sur Foron\, 287\, av. Jean Jaurès\, La Roche sur Foron\, 74800
CATEGORIES:Savoie & Haute-Savoie
ATTACH;FMTTYPE=image/jpeg:https://www.auratheatreamateur.fr/wp-content/uploads/2025/09/LE-SECRET-AFFICHE-2-BLEUE-MAI-2025-1-1-scaled.jpg
END:VEVENT
BEGIN:VEVENT
DTSTART;TZID=UTC:20240712T150000
DTEND;TZID=UTC:20240809T210000
DTSTAMP:20260420T212212
CREATED:20240711T112622Z
LAST-MODIFIED:20240711T112622Z
UID:10000831-1720796400-1723237200@www.auratheatreamateur.fr
SUMMARY:17èmes Estivales du Théâtre Amateur des Pièces Montées
DESCRIPTION:Du 12 juillet au 9 août 2024 | Le Teil \n\n[ Les 17èmes estivales du théâtre amateur – Le programme dévoilé ]\n\n\n\nLa troupe de théâtre Les Pièces Montées a dévoilé le programme de ses 17èmes estivales du théâtre amateur. \n\nA vos agendas pour ne pas manquer les nombreuses soirées théâtrales qui vous attendent du 12 juillet au 9 août !\n\n\n* Spectacle jeune public\, « Autour du monde » le 12 juillet à 15H00.\n* Spectacle\, « Du coq à l’âme » le 12 juillet à 21H00\n* Spectacle de comédie\, « Vendredi 13 » le 19 juillet à 21H.\n* Spectacle jeune public\, « Pas si méchant que ça » le 26 juillet à 15H00\n* Spectacle d’improvisation\, « Cabaret d’impro » le 26 juillet à 21H00\n* Spectacle de comédie\, « B.A (mourir\, oui mais…) » le 2 aout à 21H.\n\n* Spectacle + repas\, « Anthony 400 jours d’une vie » le 9 aout à 21H00. \nINFORMATIONS PRATIQUES : \n\n\n\nPlein tarif : 8€ – Tarif réduit : 6€ – Spectacle jeune public : 6€\nSoirée repas-spectacle : 17€ (spectacle inclus)\nTarif réduit : enfants\, étudiants\, RSA\, FNCTA\, groupe de +10 personnes)\n\n\nToutes les informations ci-dessous
URL:https://www.auratheatreamateur.fr/evenement/17emes-estivales-du-theatre-amateur-des-pieces-montees/
LOCATION:Ecole élémentaire du Centre (Le Teil)\, 3 Pl. Jean Macé\, Le Teil\, 07400
CATEGORIES:Ardèche,Drôme
ATTACH;FMTTYPE=image/png:https://www.auratheatreamateur.fr/wp-content/uploads/2024/07/Capture-decran-2024-07-11-132257.png
END:VEVENT
BEGIN:VEVENT
DTSTART;TZID=UTC:20240712T150000
DTEND;TZID=UTC:20240809T210000
DTSTAMP:20260420T212212
CREATED:20250708T110523Z
LAST-MODIFIED:20250715T075444Z
UID:10001133-1720796400-1723237200@www.auratheatreamateur.fr
SUMMARY:18èmes Estivales du Théâtre Amateur des Pièces Montées
DESCRIPTION:Du 11 juillet au 8 août 2025 | Le Teil \n\n[ Les 18èmes estivales du théâtre amateur – Le programme dévoilé ]\n\n\n\nLa troupe de théâtre Les Pièces Montées a dévoilé le programme de ses 18èmes estivales du théâtre amateur. \n\n\n\n\n \n \nINFORMATIONS PRATIQUES : \n\n\n\nPlein tarif : 8€ – Tarif réduit : 6€ – Spectacle jeune public : 6€\nSoirée repas-spectacle : 17€ (spectacle inclus)\nTarif réduit : enfants\, étudiants\, RSA\, FNCTA\, groupe de +10 personnes)\n\n\n \n\n\n 
URL:https://www.auratheatreamateur.fr/evenement/18emes-estivales-du-theatre-amateur-des-pieces-montees/
LOCATION:Ecole élémentaire du Centre (Le Teil)\, 3 Pl. Jean Macé\, Le Teil\, 07400
CATEGORIES:Ardèche,Drôme
ATTACH;FMTTYPE=image/jpeg:https://www.auratheatreamateur.fr/wp-content/uploads/2025/07/497881198_1330795202049033_3831913018716360683_n.jpg
END:VEVENT
BEGIN:VEVENT
DTSTART;TZID=UTC:20240727T080000
DTEND;TZID=UTC:20240803T170000
DTSTAMP:20260420T212212
CREATED:20240628T094736Z
LAST-MODIFIED:20240628T094736Z
UID:10000828-1722067200-1722704400@www.auratheatreamateur.fr
SUMMARY:FESTIVAL SHAKESPEARE & CIE
DESCRIPTION:
URL:https://www.auratheatreamateur.fr/evenement/festival-shakespeare-cie/
LOCATION:Tournon-sur-Rhône\, France
CATEGORIES:Ardèche
ATTACH;FMTTYPE=image/jpeg:https://www.auratheatreamateur.fr/wp-content/uploads/2024/06/304927646_505728061557396_8850788819057153316_n.jpg
END:VEVENT
BEGIN:VEVENT
DTSTART;TZID=UTC:20240727T080000
DTEND;TZID=UTC:20240803T170000
DTSTAMP:20260420T212212
CREATED:20250708T110928Z
LAST-MODIFIED:20250709T095004Z
UID:10001134-1722067200-1722704400@www.auratheatreamateur.fr
SUMMARY:FESTIVAL SHAKESPEARE & CIE
DESCRIPTION:
URL:https://www.auratheatreamateur.fr/evenement/festival-shakespeare-cie-2/
LOCATION:Tournon-sur-Rhône\, France
CATEGORIES:Ardèche
ATTACH;FMTTYPE=image/jpeg:https://www.auratheatreamateur.fr/wp-content/uploads/2025/07/499829945_1258655559597972_4162356434989650977_n.jpg
END:VEVENT
BEGIN:VEVENT
DTSTART;TZID=UTC:20240729T140000
DTEND;TZID=UTC:20240803T130000
DTSTAMP:20260420T212212
CREATED:20231122T154436Z
LAST-MODIFIED:20231122T154619Z
UID:10000654-1722261600-1722690000@www.auratheatreamateur.fr
SUMMARY:Séjour Théâtre Ados au Festival Shakespeare – Tournon (07)
DESCRIPTION:Séjour au cœur d’un festival international jeunes du 29 juillet au 3 août 2024 à Tournon-sur-Rhône et Tain l’Hermitage pour les ados 14-20 ans ! \nSéjour organisé par la FNCTA Ardèche // Festival porté par le Théâtre du Sycomore \n\n\n\n\nUne belle expérience de groupe à vivre au cœur du Festival Shakespeare et Cie ! Un festival fédérant les jeunes du Théâtre du Sycomore et d’autres jeunes amateurs venus de divers horizons. Chaque année\, la FNCTA organise un séjour théâtre pour les 14-20 ans sur le festival. Durant le séjour\, les ados participent à la vie du festival et assistent aux représentations. \n\nTout au long du séjour\, la FNCTA proposera aux participant·e·s des ateliers théâtre\, animés par Thierry Tauleigne des Pièces Montées du Teil\, pour aboutir à une restitution pendant le festival. D’autres ateliers seront proposés au cours du séjour par les organisateurs du festival (musique\, écriture…)\, mais aussi des soirées (repas\, jeux…) pour apprendre à se connaître et à créer du lien. \nL’occasion de découvrir l’univers du théâtre\, avec des ateliers qui perfectionneront votre jeu\, certains qui vous ouvriront aux coulisses d’un spectacle et d’autres pour vous initier à l’organisation d’un événement culturel ! \nEn amont du séjour\, nous invitons les jeunes pour plusieurs temps de travail et de rencontre les samedi 17 février\, 13 avril et 8 juin au Teil pour préparer ensemble le séjour. \n\n\n\n\n\n\nINFOS + \nSéjour Théâtre Ados (14-20 ans)\nDu 29 juillet au 3 août 2024\nHébergement au Camping de Tournon-Sur-Rhône\nTarifs : 60 € adhérents FNCTA // 70€ (non adhérents)\nFiche d’inscription et fiche-sanitaire à joindre à l’inscription*\nContact : Christina Juhl au 06 11 73 10 10 ou cd07@fncta.fr\nAttention places limitées \n  \n\n* à compléter et nous renvoyer avec le règlement avant le 29 janvier 2024 à l’adresse :\n FNCTA CD07\n15\, bvd Gambetta\,\n07200 Aubenas
URL:https://www.auratheatreamateur.fr/evenement/sejour-theatre-ados-au-festival-shakespeare-tournon-07-2/
LOCATION:Tournon-sur-Rhône\, France
CATEGORIES:Ain,Ardèche,Drôme,Isère,Loire,Rhône,Savoie & Haute-Savoie
ATTACH;FMTTYPE=image/jpeg:https://www.auratheatreamateur.fr/wp-content/uploads/2023/11/ACTIONS-JEUNES-FNCTA3.jpg
END:VEVENT
BEGIN:VEVENT
DTSTART;TZID=UTC:20240817T080000
DTEND;TZID=UTC:20240818T170000
DTSTAMP:20260420T212212
CREATED:20240708T100433Z
LAST-MODIFIED:20240708T102816Z
UID:10000830-1723881600-1724000400@www.auratheatreamateur.fr
SUMMARY:LES ESTIVALES DE MASQUES EN SCÈNES
DESCRIPTION:LES ESTIVALES DE MASQUES EN SCÈNE \n  \nDepuis 4 ans\, amènent en Ardèche la magie du maque au théâtre. Grande innovation cette année pour démontrer la proximité du mystère. Nous organisons un CONCOURS de scènes masquées ouvert à tous les 17 et 18 aout et un stage d’initiation  gratuit les 15 et 16 aout. \nChacun d’entre nous petits ou grands peut se métamorphoser l’espace de quelques minutes et ainsi révéler sa vraie nature sans être reconnu . \nAvec un masque vous entrez en scène dans une relation authentique  entre vous même et le public\, le masque vous donne l’accès aux mondes intérieurs inconnus qui sont en vous .Vous devenez le miroir des rêves\, des désirs\, des peurs\, sur le plateau vous reflétez  les infinies beautés et leurs laideurs incommensurables sans être mis en cause car votre personnalité n’est plus là\, le masque à pris la place.Et le public découvre\, à travers vous et souvent à votre insu\,  le mystère de la nature humaine.
URL:https://www.auratheatreamateur.fr/evenement/les-estivales-de-masques-en-scenes/
LOCATION:Alba la Romaine\, Place de la Roche\, Alba la Romaine\, 07400
CATEGORIES:Ardèche
ATTACH;FMTTYPE=image/png:https://www.auratheatreamateur.fr/wp-content/uploads/2024/07/Les-estivales-2024-affiche-glisses.png
END:VEVENT
BEGIN:VEVENT
DTSTART;TZID=UTC:20240820T080000
DTEND;TZID=UTC:20240831T170000
DTSTAMP:20260420T212212
CREATED:20240823T141534Z
LAST-MODIFIED:20240823T141534Z
UID:10000835-1724140800-1725123600@www.auratheatreamateur.fr
SUMMARY:FNCTA des 2 Savoie x Toujours Festival 2024
DESCRIPTION:Du 20 au 31 août aura lieu la 6eme édition du Toujours Festival sur Annecy et ses environs (Château de Menthon St Bernard\, Annecy\, Veyrier du Lac\, Talloires-Montmin). \nIl y aura du théâtre\, des concerts\, des spectacles pour petits et grands\, du stand-up et des surprises via près de 30 spectacles (gratuits ou payants selon les spectacles cf programme)… Du spectacle vivant local pour la fin des vacances! \nPour la 2eme année consécutive\, le Comité FNCTA des 2 Savoie a conclu un partenariat avec les organisateurs du Toujours Festival\, afin de proposer aux adhérents des compagnies FNCTA des tarifs privilégiés. \nLe contact FNCTA de votre troupe a reçu par mail les détails avec le code de réduction à indiquer au niveau de la billetterie.\nVous bénéficiez d’une réduction de 20% valable sur tous les spectacles payants en tarif plein. \nInfos et réservations sur www.toujoursfestival.fr \nPour information\, le projet est porté par une association indépendante et bénévole. \nA bientôt \nChloé Mercier \nPrésidente du Comité FNCTA des 2 Savoie \n  \n \n  \n 
URL:https://www.auratheatreamateur.fr/evenement/fncta-des-2-savoie-x-toujours-festival-2024/
LOCATION:Annecy\, Annecy\, 74000
CATEGORIES:Savoie & Haute-Savoie
ATTACH;FMTTYPE=image/jpeg:https://www.auratheatreamateur.fr/wp-content/uploads/2024/08/unnamed.jpg
END:VEVENT
END:VCALENDAR