BEGIN:VCALENDAR
VERSION:2.0
PRODID:-//FNCTA - Auvergne-Rhône-Alpes - ECPv6.2.9//NONSGML v1.0//EN
CALSCALE:GREGORIAN
METHOD:PUBLISH
X-ORIGINAL-URL:https://www.auratheatreamateur.fr
X-WR-CALDESC:évènements pour FNCTA - Auvergne-Rhône-Alpes
REFRESH-INTERVAL;VALUE=DURATION:PT1H
X-Robots-Tag:noindex
X-PUBLISHED-TTL:PT1H
BEGIN:VTIMEZONE

END:VTIMEZONE
BEGIN:VEVENT
DTSTART;TZID=UTC:20260420T164923
DTEND;TZID=UTC:20251024T213000
DTSTAMP:20260420T164923
CREATED:20250923T153259Z
LAST-MODIFIED:20250923T153259Z
UID:10001168-0-1761341400@www.auratheatreamateur.fr
SUMMARY:Le Secret (de Matthieu Savignac)
DESCRIPTION:Jeudi 23 octobre 2025 – 20h30 – MJC de La Roche sur Foron (74) \nUn soir d’été\, une falaise vertigineuse\, des retrouvailles entre un frère et sa sœur après quinze ans et six mois pour une occasion importante. Des non-dits\, des moitiés de vérité\, des langues qui peu à peu se délient… \nQue s’est-il réellement passé dans cette famille ?
URL:https://www.auratheatreamateur.fr/evenement/le-secret-de-matthieu-savignac-2/
LOCATION:MJC La Roche sur Foron\, 287\, av. Jean Jaurès\, La Roche sur Foron\, 74800
CATEGORIES:Savoie & Haute-Savoie
ATTACH;FMTTYPE=image/jpeg:https://www.auratheatreamateur.fr/wp-content/uploads/2025/09/LE-SECRET-AFFICHE-2-BLEUE-MAI-2025-1-1-scaled.jpg
END:VEVENT
BEGIN:VEVENT
DTSTART;VALUE=DATE:20241109
DTEND;VALUE=DATE:20241111
DTSTAMP:20260420T164923
CREATED:20241103T145116Z
LAST-MODIFIED:20241106T095416Z
UID:10000961-1731110400-1731283199@www.auratheatreamateur.fr
SUMMARY:RENCONTRES DU VIVIER
DESCRIPTION:RENCONTRES DES COMPAGNIES DROMOISES ADHERENTES A LA FNCTA \n 
URL:https://www.auratheatreamateur.fr/evenement/rencontres-du-vivier/
LOCATION:SCENE ASSOCIATIVE PRIVEE DU VIVIER\, 930 Chemin des Trois Communes\, 930 Chemin des Trois Communes\, 26160
CATEGORIES:Drôme
ATTACH;FMTTYPE=image/png:https://www.auratheatreamateur.fr/wp-content/uploads/2024/11/‎FNCTA26-RTV-2024.‎001.png
END:VEVENT
BEGIN:VEVENT
DTSTART;TZID=UTC:20241109T110000
DTEND;TZID=UTC:20241109T115000
DTSTAMP:20260420T164923
CREATED:20241107T181212Z
LAST-MODIFIED:20241107T181740Z
UID:10000966-1731150000-1731153000@www.auratheatreamateur.fr
SUMMARY:LA FONTAINE AU TRIBUNAL DES ANIMAUX
DESCRIPTION:Jean de La Fontaine\, l’homme qui parle à tout le monde et à tous les\nâges !\nDepuis l’Antiquité\, on se sert de bestiaire pour en tirer une morale\,\nMais les animaux ne trouvent pas cela normal.\nLe renard glapit\, le loup hurle\, le bœuf mugit… tous râlent !\nLa Fontaine doit comparaître devant leur tribunal !\n– La fourmi\, pas prêteuse ? Et la cigale\, paresseuse ?\n– Croa ? Le corbeau est-il si bête qu’il ouvre largement son bec\,\nEt laisse tomber sa proie\, un véritable échec !\nAinsi\, les animaux protestent\,\nOn vous laisse découvrir le reste !\nCar il sait se défendre\, ce Jean de La Fontaine.\nVenez donc l’écouter\, cela en vaut la peine !
URL:https://www.auratheatreamateur.fr/evenement/la-fontaine-au-tribunal-des-animaux-3/
LOCATION:LE GALET\, Rue du Collège\, Reyrieux\, 01600
CATEGORIES:Ain
ATTACH;FMTTYPE=image/jpeg:https://www.auratheatreamateur.fr/wp-content/uploads/2024/11/ACE_1476-scaled.jpeg
END:VEVENT
BEGIN:VEVENT
DTSTART;TZID=UTC:20241114T200000
DTEND;TZID=UTC:20241117T223000
DTSTAMP:20260420T164923
CREATED:20241108T175305Z
LAST-MODIFIED:20241108T175357Z
UID:10000968-1731614400-1731882600@www.auratheatreamateur.fr
SUMMARY:FESTIVAL TAC AU TAC
DESCRIPTION:
URL:https://www.auratheatreamateur.fr/evenement/festival-tac-au-tac/
LOCATION:Condrieu\, 69420
CATEGORIES:Loire,Rhône
ATTACH;FMTTYPE=image/jpeg:https://www.auratheatreamateur.fr/wp-content/uploads/2024/11/464061068_946474530834889_844537882155723678_n.jpg
END:VEVENT
BEGIN:VEVENT
DTSTART;TZID=UTC:20241115T203000
DTEND;TZID=UTC:20241117T190000
DTSTAMP:20260420T164923
CREATED:20240927T092706Z
LAST-MODIFIED:20240927T092756Z
UID:10000903-1731702600-1731870000@www.auratheatreamateur.fr
SUMMARY:Automnales de Vourles - Rencontres théâtrales
DESCRIPTION:Du 15 au 17 novembre prochain\, auront lieu les Automnales de Vourles.
URL:https://www.auratheatreamateur.fr/evenement/automnales-de-vourles-rencontres-theatrales/
LOCATION:Théâtre de Maison Forte de Vourles\, 2\, rue des Vallières \, Vourles\, 69390
CATEGORIES:Rhône
ATTACH;FMTTYPE=image/png:https://www.auratheatreamateur.fr/wp-content/uploads/2024/09/Capture-decran-2024-09-27-105559.png
END:VEVENT
BEGIN:VEVENT
DTSTART;TZID=UTC:20241117T170000
DTEND;TZID=UTC:20241117T175000
DTSTAMP:20260420T164923
CREATED:20241107T182503Z
LAST-MODIFIED:20241107T182503Z
UID:10000967-1731862800-1731865800@www.auratheatreamateur.fr
SUMMARY:LA FONTAINE AU TRIBUNAL DES ANIMAUX
DESCRIPTION:Jean de La Fontaine\, l’homme qui parle à tout le monde et à tous les\nâges !\nDepuis l’Antiquité\, on se sert de bestiaire pour en tirer une morale\,\nMais les animaux ne trouvent pas cela normal.\nLe renard glapit\, le loup hurle\, le bœuf mugit… tous râlent !\nLa Fontaine doit comparaître devant leur tribunal !\n– La fourmi\, pas prêteuse ? Et la cigale\, paresseuse ?\n– Croa ? Le corbeau est-il si bête qu’il ouvre largement son bec\,\nEt laisse tomber sa proie\, un véritable échec !\nAinsi\, les animaux protestent\,\nOn vous laisse découvrir le reste !\nCar il sait se défendre\, ce Jean de La Fontaine.\nVenez donc l’écouter\, cela en vaut la peine !
URL:https://www.auratheatreamateur.fr/evenement/la-fontaine-au-tribunal-des-animaux-4/
LOCATION:ARANDE\, 24 Grand Rue \, Saint-Julien-en-Genevois\, 74160
CATEGORIES:Savoie & Haute-Savoie
ATTACH;FMTTYPE=image/jpeg:https://www.auratheatreamateur.fr/wp-content/uploads/2024/11/ACE_1800-2-scaled.jpeg
END:VEVENT
BEGIN:VEVENT
DTSTART;VALUE=DATE:20241121
DTEND;VALUE=DATE:20241125
DTSTAMP:20260420T164923
CREATED:20241025T081338Z
LAST-MODIFIED:20241029T173150Z
UID:10000954-1732147200-1732492799@www.auratheatreamateur.fr
SUMMARY:Festival “Quincy soit-il!”
DESCRIPTION:Depuis 2013 nous organisons un festival le quatrième week-end de novembre « Quincy soit-il ! » en invitant différentes troupes de France et de Suisse voisine. Cette initiative est née suite à l’incendie volontaire du théâtre et était destiné à apporter un soutien à l’association . Devant le succès et les encouragements du public mais aussi des troupes invitées nous avons décidé de pérenniser cette manifestation. \nEn 2023 le festival «Quincy soit-il !» obtient une reconnaissance par la FNCTA\, Fédération Nationale des théâtres amateurs\, et devient festival régional \nAfin de promouvoir la culture et de la rendre accessible à tous\, tous les spectacles présentés sont en participation libre. Après chaque spectacle un lieu de convivialité est ouvert\, à la salle des fêtes du village\, pour permettre des échanges entre les comédiens\, les metteurs en scène et le public autour de la librairie «entre parenthèses» qui propose les œuvres des auteurs présentés.
URL:https://www.auratheatreamateur.fr/evenement/festival-quincy-soit-il-5/2024-11-21/1/
LOCATION:théâtre de Quincy\, 36 route de l'église\, massongy\, 74140
CATEGORIES:Savoie & Haute-Savoie
ATTACH;FMTTYPE=image/jpeg:https://www.auratheatreamateur.fr/wp-content/uploads/2024/10/Flyer-QSI-2024-recto-HD.jpg
END:VEVENT
BEGIN:VEVENT
DTSTART;VALUE=DATE:20241121
DTEND;VALUE=DATE:20241123
DTSTAMP:20260420T164923
CREATED:20241025T081338Z
LAST-MODIFIED:20241029T173150Z
UID:10000957-1732221000-1732312800@www.auratheatreamateur.fr
SUMMARY:Festival “Quincy soit-il!”
DESCRIPTION:Depuis 2013 nous organisons un festival le quatrième week-end de novembre « Quincy soit-il ! » en invitant différentes troupes de France et de Suisse voisine. Cette initiative est née suite à l’incendie volontaire du théâtre et était destiné à apporter un soutien à l’association . Devant le succès et les encouragements du public mais aussi des troupes invitées nous avons décidé de pérenniser cette manifestation. \nEn 2023 le festival «Quincy soit-il !» obtient une reconnaissance par la FNCTA\, Fédération Nationale des théâtres amateurs\, et devient festival régional \nAfin de promouvoir la culture et de la rendre accessible à tous\, tous les spectacles présentés sont en participation libre. Après chaque spectacle un lieu de convivialité est ouvert\, à la salle des fêtes du village\, pour permettre des échanges entre les comédiens\, les metteurs en scène et le public autour de la librairie «entre parenthèses» qui propose les œuvres des auteurs présentés.
URL:https://www.auratheatreamateur.fr/evenement/festival-quincy-soit-il-5/2024-11-21/3/
LOCATION:théâtre de Quincy\, 36 route de l'église\, massongy\, 74140
CATEGORIES:Savoie & Haute-Savoie
ATTACH;FMTTYPE=image/jpeg:https://www.auratheatreamateur.fr/wp-content/uploads/2024/10/Flyer-QSI-2024-recto-HD.jpg
END:VEVENT
BEGIN:VEVENT
DTSTART;VALUE=DATE:20241122
DTEND;VALUE=DATE:20241125
DTSTAMP:20260420T164923
CREATED:20241025T081338Z
LAST-MODIFIED:20241029T173150Z
UID:10000958-1732307400-1732489200@www.auratheatreamateur.fr
SUMMARY:Festival “Quincy soit-il!”
DESCRIPTION:Depuis 2013 nous organisons un festival le quatrième week-end de novembre « Quincy soit-il ! » en invitant différentes troupes de France et de Suisse voisine. Cette initiative est née suite à l’incendie volontaire du théâtre et était destiné à apporter un soutien à l’association . Devant le succès et les encouragements du public mais aussi des troupes invitées nous avons décidé de pérenniser cette manifestation. \nEn 2023 le festival «Quincy soit-il !» obtient une reconnaissance par la FNCTA\, Fédération Nationale des théâtres amateurs\, et devient festival régional \nAfin de promouvoir la culture et de la rendre accessible à tous\, tous les spectacles présentés sont en participation libre. Après chaque spectacle un lieu de convivialité est ouvert\, à la salle des fêtes du village\, pour permettre des échanges entre les comédiens\, les metteurs en scène et le public autour de la librairie «entre parenthèses» qui propose les œuvres des auteurs présentés.
URL:https://www.auratheatreamateur.fr/evenement/festival-quincy-soit-il-5/2024-11-22/
LOCATION:théâtre de Quincy\, 36 route de l'église\, massongy\, 74140
CATEGORIES:Savoie & Haute-Savoie
ATTACH;FMTTYPE=image/jpeg:https://www.auratheatreamateur.fr/wp-content/uploads/2024/10/Flyer-QSI-2024-recto-HD.jpg
END:VEVENT
BEGIN:VEVENT
DTSTART;VALUE=DATE:20241123
DTEND;VALUE=DATE:20241124
DTSTAMP:20260420T164923
CREATED:20241025T081338Z
LAST-MODIFIED:20241029T173150Z
UID:10000959-1732381200-1732402800@www.auratheatreamateur.fr
SUMMARY:Festival “Quincy soit-il!”
DESCRIPTION:Depuis 2013 nous organisons un festival le quatrième week-end de novembre « Quincy soit-il ! » en invitant différentes troupes de France et de Suisse voisine. Cette initiative est née suite à l’incendie volontaire du théâtre et était destiné à apporter un soutien à l’association . Devant le succès et les encouragements du public mais aussi des troupes invitées nous avons décidé de pérenniser cette manifestation. \nEn 2023 le festival «Quincy soit-il !» obtient une reconnaissance par la FNCTA\, Fédération Nationale des théâtres amateurs\, et devient festival régional \nAfin de promouvoir la culture et de la rendre accessible à tous\, tous les spectacles présentés sont en participation libre. Après chaque spectacle un lieu de convivialité est ouvert\, à la salle des fêtes du village\, pour permettre des échanges entre les comédiens\, les metteurs en scène et le public autour de la librairie «entre parenthèses» qui propose les œuvres des auteurs présentés.
URL:https://www.auratheatreamateur.fr/evenement/festival-quincy-soit-il-5/2024-11-23/
LOCATION:théâtre de Quincy\, 36 route de l'église\, massongy\, 74140
CATEGORIES:Savoie & Haute-Savoie
ATTACH;FMTTYPE=image/jpeg:https://www.auratheatreamateur.fr/wp-content/uploads/2024/10/Flyer-QSI-2024-recto-HD.jpg
END:VEVENT
BEGIN:VEVENT
DTSTART;VALUE=DATE:20241124
DTEND;VALUE=DATE:20241125
DTSTAMP:20260420T164923
CREATED:20241025T081338Z
LAST-MODIFIED:20241029T173150Z
UID:10000960-1732444200-1732471200@www.auratheatreamateur.fr
SUMMARY:Festival “Quincy soit-il!”
DESCRIPTION:Depuis 2013 nous organisons un festival le quatrième week-end de novembre « Quincy soit-il ! » en invitant différentes troupes de France et de Suisse voisine. Cette initiative est née suite à l’incendie volontaire du théâtre et était destiné à apporter un soutien à l’association . Devant le succès et les encouragements du public mais aussi des troupes invitées nous avons décidé de pérenniser cette manifestation. \nEn 2023 le festival «Quincy soit-il !» obtient une reconnaissance par la FNCTA\, Fédération Nationale des théâtres amateurs\, et devient festival régional \nAfin de promouvoir la culture et de la rendre accessible à tous\, tous les spectacles présentés sont en participation libre. Après chaque spectacle un lieu de convivialité est ouvert\, à la salle des fêtes du village\, pour permettre des échanges entre les comédiens\, les metteurs en scène et le public autour de la librairie «entre parenthèses» qui propose les œuvres des auteurs présentés.
URL:https://www.auratheatreamateur.fr/evenement/festival-quincy-soit-il-5/2024-11-24/
LOCATION:théâtre de Quincy\, 36 route de l'église\, massongy\, 74140
CATEGORIES:Savoie & Haute-Savoie
ATTACH;FMTTYPE=image/jpeg:https://www.auratheatreamateur.fr/wp-content/uploads/2024/10/Flyer-QSI-2024-recto-HD.jpg
END:VEVENT
END:VCALENDAR