BEGIN:VCALENDAR
VERSION:2.0
PRODID:-//FNCTA - Auvergne-Rhône-Alpes - ECPv6.2.9//NONSGML v1.0//EN
CALSCALE:GREGORIAN
METHOD:PUBLISH
X-ORIGINAL-URL:https://www.auratheatreamateur.fr
X-WR-CALDESC:évènements pour FNCTA - Auvergne-Rhône-Alpes
REFRESH-INTERVAL;VALUE=DURATION:PT1H
X-Robots-Tag:noindex
X-PUBLISHED-TTL:PT1H
BEGIN:VTIMEZONE
TZID:UTC
BEGIN:STANDARD
TZOFFSETFROM:+0000
TZOFFSETTO:+0000
TZNAME:UTC
DTSTART:20270101T000000
END:STANDARD
END:VTIMEZONE
BEGIN:VEVENT
DTSTART;TZID=UTC:20270506T203000
DTEND;TZID=UTC:20270506T220000
DTSTAMP:20260420T121924
CREATED:20260226T115750Z
LAST-MODIFIED:20260226T115750Z
UID:10001465-1809635400-1809640800@www.auratheatreamateur.fr
SUMMARY:Compte
DESCRIPTION:Cette page est restreinte. Veuillez Connexion  pour afficher cette page.
URL:https://www.auratheatreamateur.fr/evenement/compte-10/2027-05-06/
LOCATION:ACTE 2 THEATRE\, 32 bis quai Arloing\, Lyon\, 69009
ATTACH;FMTTYPE=image/jpeg:https://www.auratheatreamateur.fr/wp-content/uploads/2026/02/FB_IMG_17718227161731.jpg
END:VEVENT
BEGIN:VEVENT
DTSTART;TZID=UTC:20270507T203000
DTEND;TZID=UTC:20270507T220000
DTSTAMP:20260420T121924
CREATED:20260226T115750Z
LAST-MODIFIED:20260226T115750Z
UID:10001466-1809721800-1809727200@www.auratheatreamateur.fr
SUMMARY:Compte
DESCRIPTION:Cette page est restreinte. Veuillez Connexion  pour afficher cette page.
URL:https://www.auratheatreamateur.fr/evenement/compte-10/2027-05-07/
LOCATION:ACTE 2 THEATRE\, 32 bis quai Arloing\, Lyon\, 69009
ATTACH;FMTTYPE=image/jpeg:https://www.auratheatreamateur.fr/wp-content/uploads/2026/02/FB_IMG_17718227161731.jpg
END:VEVENT
BEGIN:VEVENT
DTSTART;TZID=UTC:20270513T203000
DTEND;TZID=UTC:20270513T220000
DTSTAMP:20260420T121924
CREATED:20260226T115750Z
LAST-MODIFIED:20260226T115750Z
UID:10001467-1810240200-1810245600@www.auratheatreamateur.fr
SUMMARY:Compte
DESCRIPTION:Cette page est restreinte. Veuillez Connexion  pour afficher cette page.
URL:https://www.auratheatreamateur.fr/evenement/compte-10/2027-05-13/
LOCATION:ACTE 2 THEATRE\, 32 bis quai Arloing\, Lyon\, 69009
ATTACH;FMTTYPE=image/jpeg:https://www.auratheatreamateur.fr/wp-content/uploads/2026/02/FB_IMG_17718227161731.jpg
END:VEVENT
BEGIN:VEVENT
DTSTART;TZID=UTC:20270514T203000
DTEND;TZID=UTC:20270514T220000
DTSTAMP:20260420T121924
CREATED:20260226T115750Z
LAST-MODIFIED:20260226T115750Z
UID:10001468-1810326600-1810332000@www.auratheatreamateur.fr
SUMMARY:Compte
DESCRIPTION:Cette page est restreinte. Veuillez Connexion  pour afficher cette page.
URL:https://www.auratheatreamateur.fr/evenement/compte-10/2027-05-14/
LOCATION:ACTE 2 THEATRE\, 32 bis quai Arloing\, Lyon\, 69009
ATTACH;FMTTYPE=image/jpeg:https://www.auratheatreamateur.fr/wp-content/uploads/2026/02/FB_IMG_17718227161731.jpg
END:VEVENT
BEGIN:VEVENT
DTSTART;TZID=UTC:20270520T203000
DTEND;TZID=UTC:20270520T220000
DTSTAMP:20260420T121924
CREATED:20260226T115750Z
LAST-MODIFIED:20260226T115750Z
UID:10001469-1810845000-1810850400@www.auratheatreamateur.fr
SUMMARY:Compte
DESCRIPTION:Cette page est restreinte. Veuillez Connexion  pour afficher cette page.
URL:https://www.auratheatreamateur.fr/evenement/compte-10/2027-05-20/
LOCATION:ACTE 2 THEATRE\, 32 bis quai Arloing\, Lyon\, 69009
ATTACH;FMTTYPE=image/jpeg:https://www.auratheatreamateur.fr/wp-content/uploads/2026/02/FB_IMG_17718227161731.jpg
END:VEVENT
BEGIN:VEVENT
DTSTART;TZID=UTC:20270521T203000
DTEND;TZID=UTC:20270521T220000
DTSTAMP:20260420T121924
CREATED:20260226T115750Z
LAST-MODIFIED:20260226T115750Z
UID:10001470-1810931400-1810936800@www.auratheatreamateur.fr
SUMMARY:Compte
DESCRIPTION:Cette page est restreinte. Veuillez Connexion  pour afficher cette page.
URL:https://www.auratheatreamateur.fr/evenement/compte-10/2027-05-21/
LOCATION:ACTE 2 THEATRE\, 32 bis quai Arloing\, Lyon\, 69009
ATTACH;FMTTYPE=image/jpeg:https://www.auratheatreamateur.fr/wp-content/uploads/2026/02/FB_IMG_17718227161731.jpg
END:VEVENT
BEGIN:VEVENT
DTSTART;TZID=UTC:20270527T203000
DTEND;TZID=UTC:20270527T220000
DTSTAMP:20260420T121924
CREATED:20260226T115750Z
LAST-MODIFIED:20260226T115750Z
UID:10001471-1811449800-1811455200@www.auratheatreamateur.fr
SUMMARY:Compte
DESCRIPTION:Cette page est restreinte. Veuillez Connexion  pour afficher cette page.
URL:https://www.auratheatreamateur.fr/evenement/compte-10/2027-05-27/
LOCATION:ACTE 2 THEATRE\, 32 bis quai Arloing\, Lyon\, 69009
ATTACH;FMTTYPE=image/jpeg:https://www.auratheatreamateur.fr/wp-content/uploads/2026/02/FB_IMG_17718227161731.jpg
END:VEVENT
BEGIN:VEVENT
DTSTART;TZID=UTC:20270528T203000
DTEND;TZID=UTC:20270528T220000
DTSTAMP:20260420T121924
CREATED:20260226T115750Z
LAST-MODIFIED:20260226T115750Z
UID:10001472-1811536200-1811541600@www.auratheatreamateur.fr
SUMMARY:Compte
DESCRIPTION:Cette page est restreinte. Veuillez Connexion  pour afficher cette page.
URL:https://www.auratheatreamateur.fr/evenement/compte-10/2027-05-28/
LOCATION:ACTE 2 THEATRE\, 32 bis quai Arloing\, Lyon\, 69009
ATTACH;FMTTYPE=image/jpeg:https://www.auratheatreamateur.fr/wp-content/uploads/2026/02/FB_IMG_17718227161731.jpg
END:VEVENT
END:VCALENDAR