BEGIN:VCALENDAR
VERSION:2.0
PRODID:-//FNCTA - Auvergne-Rhône-Alpes - ECPv6.2.9//NONSGML v1.0//EN
CALSCALE:GREGORIAN
METHOD:PUBLISH
X-WR-CALNAME:FNCTA - Auvergne-Rhône-Alpes
X-ORIGINAL-URL:https://www.auratheatreamateur.fr
X-WR-CALDESC:évènements pour FNCTA - Auvergne-Rhône-Alpes
REFRESH-INTERVAL;VALUE=DURATION:PT1H
X-Robots-Tag:noindex
X-PUBLISHED-TTL:PT1H
BEGIN:VTIMEZONE
TZID:UTC
BEGIN:STANDARD
TZOFFSETFROM:+0000
TZOFFSETTO:+0000
TZNAME:UTC
DTSTART:20270101T000000
END:STANDARD
END:VTIMEZONE
BEGIN:VEVENT
DTSTART;TZID=UTC:20270701T203000
DTEND;TZID=UTC:20270701T220000
DTSTAMP:20260420T151253
CREATED:20260226T115750Z
LAST-MODIFIED:20260226T115750Z
UID:10001481-1814473800-1814479200@www.auratheatreamateur.fr
SUMMARY:Compte
DESCRIPTION:Cette page est restreinte. Veuillez Connexion  pour afficher cette page.
URL:https://www.auratheatreamateur.fr/evenement/compte-10/2027-07-01/
LOCATION:ACTE 2 THEATRE\, 32 bis quai Arloing\, Lyon\, 69009
ATTACH;FMTTYPE=image/jpeg:https://www.auratheatreamateur.fr/wp-content/uploads/2026/02/FB_IMG_17718227161731.jpg
END:VEVENT
BEGIN:VEVENT
DTSTART;TZID=UTC:20270702T203000
DTEND;TZID=UTC:20270702T220000
DTSTAMP:20260420T151253
CREATED:20260226T115750Z
LAST-MODIFIED:20260226T115750Z
UID:10001482-1814560200-1814565600@www.auratheatreamateur.fr
SUMMARY:Compte
DESCRIPTION:Cette page est restreinte. Veuillez Connexion  pour afficher cette page.
URL:https://www.auratheatreamateur.fr/evenement/compte-10/2027-07-02/
LOCATION:ACTE 2 THEATRE\, 32 bis quai Arloing\, Lyon\, 69009
ATTACH;FMTTYPE=image/jpeg:https://www.auratheatreamateur.fr/wp-content/uploads/2026/02/FB_IMG_17718227161731.jpg
END:VEVENT
BEGIN:VEVENT
DTSTART;TZID=UTC:20270708T203000
DTEND;TZID=UTC:20270708T220000
DTSTAMP:20260420T151253
CREATED:20260226T115750Z
LAST-MODIFIED:20260226T115750Z
UID:10001483-1815078600-1815084000@www.auratheatreamateur.fr
SUMMARY:Compte
DESCRIPTION:Cette page est restreinte. Veuillez Connexion  pour afficher cette page.
URL:https://www.auratheatreamateur.fr/evenement/compte-10/2027-07-08/
LOCATION:ACTE 2 THEATRE\, 32 bis quai Arloing\, Lyon\, 69009
ATTACH;FMTTYPE=image/jpeg:https://www.auratheatreamateur.fr/wp-content/uploads/2026/02/FB_IMG_17718227161731.jpg
END:VEVENT
BEGIN:VEVENT
DTSTART;TZID=UTC:20270709T203000
DTEND;TZID=UTC:20270709T220000
DTSTAMP:20260420T151253
CREATED:20260226T115750Z
LAST-MODIFIED:20260226T115750Z
UID:10001484-1815165000-1815170400@www.auratheatreamateur.fr
SUMMARY:Compte
DESCRIPTION:Cette page est restreinte. Veuillez Connexion  pour afficher cette page.
URL:https://www.auratheatreamateur.fr/evenement/compte-10/2027-07-09/
LOCATION:ACTE 2 THEATRE\, 32 bis quai Arloing\, Lyon\, 69009
ATTACH;FMTTYPE=image/jpeg:https://www.auratheatreamateur.fr/wp-content/uploads/2026/02/FB_IMG_17718227161731.jpg
END:VEVENT
BEGIN:VEVENT
DTSTART;TZID=UTC:20270715T203000
DTEND;TZID=UTC:20270715T220000
DTSTAMP:20260420T151253
CREATED:20260226T115750Z
LAST-MODIFIED:20260226T115750Z
UID:10001485-1815683400-1815688800@www.auratheatreamateur.fr
SUMMARY:Compte
DESCRIPTION:Cette page est restreinte. Veuillez Connexion  pour afficher cette page.
URL:https://www.auratheatreamateur.fr/evenement/compte-10/2027-07-15/
LOCATION:ACTE 2 THEATRE\, 32 bis quai Arloing\, Lyon\, 69009
ATTACH;FMTTYPE=image/jpeg:https://www.auratheatreamateur.fr/wp-content/uploads/2026/02/FB_IMG_17718227161731.jpg
END:VEVENT
BEGIN:VEVENT
DTSTART;TZID=UTC:20270716T203000
DTEND;TZID=UTC:20270716T220000
DTSTAMP:20260420T151253
CREATED:20260226T115750Z
LAST-MODIFIED:20260226T115750Z
UID:10001486-1815769800-1815775200@www.auratheatreamateur.fr
SUMMARY:Compte
DESCRIPTION:Cette page est restreinte. Veuillez Connexion  pour afficher cette page.
URL:https://www.auratheatreamateur.fr/evenement/compte-10/2027-07-16/
LOCATION:ACTE 2 THEATRE\, 32 bis quai Arloing\, Lyon\, 69009
ATTACH;FMTTYPE=image/jpeg:https://www.auratheatreamateur.fr/wp-content/uploads/2026/02/FB_IMG_17718227161731.jpg
END:VEVENT
BEGIN:VEVENT
DTSTART;TZID=UTC:20270722T203000
DTEND;TZID=UTC:20270722T220000
DTSTAMP:20260420T151253
CREATED:20260226T115750Z
LAST-MODIFIED:20260226T115750Z
UID:10001487-1816288200-1816293600@www.auratheatreamateur.fr
SUMMARY:Compte
DESCRIPTION:Cette page est restreinte. Veuillez Connexion  pour afficher cette page.
URL:https://www.auratheatreamateur.fr/evenement/compte-10/2027-07-22/
LOCATION:ACTE 2 THEATRE\, 32 bis quai Arloing\, Lyon\, 69009
ATTACH;FMTTYPE=image/jpeg:https://www.auratheatreamateur.fr/wp-content/uploads/2026/02/FB_IMG_17718227161731.jpg
END:VEVENT
BEGIN:VEVENT
DTSTART;TZID=UTC:20270723T203000
DTEND;TZID=UTC:20270723T220000
DTSTAMP:20260420T151253
CREATED:20260226T115750Z
LAST-MODIFIED:20260226T115750Z
UID:10001488-1816374600-1816380000@www.auratheatreamateur.fr
SUMMARY:Compte
DESCRIPTION:Cette page est restreinte. Veuillez Connexion  pour afficher cette page.
URL:https://www.auratheatreamateur.fr/evenement/compte-10/2027-07-23/
LOCATION:ACTE 2 THEATRE\, 32 bis quai Arloing\, Lyon\, 69009
ATTACH;FMTTYPE=image/jpeg:https://www.auratheatreamateur.fr/wp-content/uploads/2026/02/FB_IMG_17718227161731.jpg
END:VEVENT
BEGIN:VEVENT
DTSTART;TZID=UTC:20270729T203000
DTEND;TZID=UTC:20270729T220000
DTSTAMP:20260420T151253
CREATED:20260226T115750Z
LAST-MODIFIED:20260226T115750Z
UID:10001489-1816893000-1816898400@www.auratheatreamateur.fr
SUMMARY:Compte
DESCRIPTION:Cette page est restreinte. Veuillez Connexion  pour afficher cette page.
URL:https://www.auratheatreamateur.fr/evenement/compte-10/2027-07-29/
LOCATION:ACTE 2 THEATRE\, 32 bis quai Arloing\, Lyon\, 69009
ATTACH;FMTTYPE=image/jpeg:https://www.auratheatreamateur.fr/wp-content/uploads/2026/02/FB_IMG_17718227161731.jpg
END:VEVENT
BEGIN:VEVENT
DTSTART;TZID=UTC:20270730T203000
DTEND;TZID=UTC:20270730T220000
DTSTAMP:20260420T151253
CREATED:20260226T115750Z
LAST-MODIFIED:20260226T115750Z
UID:10001490-1816979400-1816984800@www.auratheatreamateur.fr
SUMMARY:Compte
DESCRIPTION:Cette page est restreinte. Veuillez Connexion  pour afficher cette page.
URL:https://www.auratheatreamateur.fr/evenement/compte-10/2027-07-30/
LOCATION:ACTE 2 THEATRE\, 32 bis quai Arloing\, Lyon\, 69009
ATTACH;FMTTYPE=image/jpeg:https://www.auratheatreamateur.fr/wp-content/uploads/2026/02/FB_IMG_17718227161731.jpg
END:VEVENT
END:VCALENDAR