BEGIN:VCALENDAR
VERSION:2.0
PRODID:-//FNCTA - Auvergne-Rhône-Alpes - ECPv6.2.9//NONSGML v1.0//EN
CALSCALE:GREGORIAN
METHOD:PUBLISH
X-WR-CALNAME:FNCTA - Auvergne-Rhône-Alpes
X-ORIGINAL-URL:https://www.auratheatreamateur.fr
X-WR-CALDESC:évènements pour FNCTA - Auvergne-Rhône-Alpes
REFRESH-INTERVAL;VALUE=DURATION:PT1H
X-Robots-Tag:noindex
X-PUBLISHED-TTL:PT1H
BEGIN:VTIMEZONE
TZID:UTC
BEGIN:STANDARD
TZOFFSETFROM:+0000
TZOFFSETTO:+0000
TZNAME:UTC
DTSTART:20270101T000000
END:STANDARD
END:VTIMEZONE
BEGIN:VEVENT
DTSTART;TZID=UTC:20270805T203000
DTEND;TZID=UTC:20270805T220000
DTSTAMP:20260420T164105
CREATED:20260226T115750Z
LAST-MODIFIED:20260226T115750Z
UID:10001491-1817497800-1817503200@www.auratheatreamateur.fr
SUMMARY:Compte
DESCRIPTION:Cette page est restreinte. Veuillez Connexion  pour afficher cette page.
URL:https://www.auratheatreamateur.fr/evenement/compte-10/2027-08-05/
LOCATION:ACTE 2 THEATRE\, 32 bis quai Arloing\, Lyon\, 69009
ATTACH;FMTTYPE=image/jpeg:https://www.auratheatreamateur.fr/wp-content/uploads/2026/02/FB_IMG_17718227161731.jpg
END:VEVENT
BEGIN:VEVENT
DTSTART;TZID=UTC:20270806T203000
DTEND;TZID=UTC:20270806T220000
DTSTAMP:20260420T164105
CREATED:20260226T115750Z
LAST-MODIFIED:20260226T115750Z
UID:10001492-1817584200-1817589600@www.auratheatreamateur.fr
SUMMARY:Compte
DESCRIPTION:Cette page est restreinte. Veuillez Connexion  pour afficher cette page.
URL:https://www.auratheatreamateur.fr/evenement/compte-10/2027-08-06/
LOCATION:ACTE 2 THEATRE\, 32 bis quai Arloing\, Lyon\, 69009
ATTACH;FMTTYPE=image/jpeg:https://www.auratheatreamateur.fr/wp-content/uploads/2026/02/FB_IMG_17718227161731.jpg
END:VEVENT
BEGIN:VEVENT
DTSTART;TZID=UTC:20270812T203000
DTEND;TZID=UTC:20270812T220000
DTSTAMP:20260420T164105
CREATED:20260226T115750Z
LAST-MODIFIED:20260226T115750Z
UID:10001493-1818102600-1818108000@www.auratheatreamateur.fr
SUMMARY:Compte
DESCRIPTION:Cette page est restreinte. Veuillez Connexion  pour afficher cette page.
URL:https://www.auratheatreamateur.fr/evenement/compte-10/2027-08-12/
LOCATION:ACTE 2 THEATRE\, 32 bis quai Arloing\, Lyon\, 69009
ATTACH;FMTTYPE=image/jpeg:https://www.auratheatreamateur.fr/wp-content/uploads/2026/02/FB_IMG_17718227161731.jpg
END:VEVENT
BEGIN:VEVENT
DTSTART;TZID=UTC:20270813T203000
DTEND;TZID=UTC:20270813T220000
DTSTAMP:20260420T164105
CREATED:20260226T115750Z
LAST-MODIFIED:20260226T115750Z
UID:10001494-1818189000-1818194400@www.auratheatreamateur.fr
SUMMARY:Compte
DESCRIPTION:Cette page est restreinte. Veuillez Connexion  pour afficher cette page.
URL:https://www.auratheatreamateur.fr/evenement/compte-10/2027-08-13/
LOCATION:ACTE 2 THEATRE\, 32 bis quai Arloing\, Lyon\, 69009
ATTACH;FMTTYPE=image/jpeg:https://www.auratheatreamateur.fr/wp-content/uploads/2026/02/FB_IMG_17718227161731.jpg
END:VEVENT
BEGIN:VEVENT
DTSTART;TZID=UTC:20270819T203000
DTEND;TZID=UTC:20270819T220000
DTSTAMP:20260420T164105
CREATED:20260226T115750Z
LAST-MODIFIED:20260226T115750Z
UID:10001495-1818707400-1818712800@www.auratheatreamateur.fr
SUMMARY:Compte
DESCRIPTION:Cette page est restreinte. Veuillez Connexion  pour afficher cette page.
URL:https://www.auratheatreamateur.fr/evenement/compte-10/2027-08-19/
LOCATION:ACTE 2 THEATRE\, 32 bis quai Arloing\, Lyon\, 69009
ATTACH;FMTTYPE=image/jpeg:https://www.auratheatreamateur.fr/wp-content/uploads/2026/02/FB_IMG_17718227161731.jpg
END:VEVENT
BEGIN:VEVENT
DTSTART;TZID=UTC:20270820T203000
DTEND;TZID=UTC:20270820T220000
DTSTAMP:20260420T164105
CREATED:20260226T115750Z
LAST-MODIFIED:20260226T115750Z
UID:10001496-1818793800-1818799200@www.auratheatreamateur.fr
SUMMARY:Compte
DESCRIPTION:Cette page est restreinte. Veuillez Connexion  pour afficher cette page.
URL:https://www.auratheatreamateur.fr/evenement/compte-10/2027-08-20/
LOCATION:ACTE 2 THEATRE\, 32 bis quai Arloing\, Lyon\, 69009
ATTACH;FMTTYPE=image/jpeg:https://www.auratheatreamateur.fr/wp-content/uploads/2026/02/FB_IMG_17718227161731.jpg
END:VEVENT
BEGIN:VEVENT
DTSTART;TZID=UTC:20270826T203000
DTEND;TZID=UTC:20270826T220000
DTSTAMP:20260420T164105
CREATED:20260226T115750Z
LAST-MODIFIED:20260226T115750Z
UID:10001497-1819312200-1819317600@www.auratheatreamateur.fr
SUMMARY:Compte
DESCRIPTION:Cette page est restreinte. Veuillez Connexion  pour afficher cette page.
URL:https://www.auratheatreamateur.fr/evenement/compte-10/2027-08-26/
LOCATION:ACTE 2 THEATRE\, 32 bis quai Arloing\, Lyon\, 69009
ATTACH;FMTTYPE=image/jpeg:https://www.auratheatreamateur.fr/wp-content/uploads/2026/02/FB_IMG_17718227161731.jpg
END:VEVENT
BEGIN:VEVENT
DTSTART;TZID=UTC:20270827T203000
DTEND;TZID=UTC:20270827T220000
DTSTAMP:20260420T164105
CREATED:20260226T115750Z
LAST-MODIFIED:20260226T115750Z
UID:10001498-1819398600-1819404000@www.auratheatreamateur.fr
SUMMARY:Compte
DESCRIPTION:Cette page est restreinte. Veuillez Connexion  pour afficher cette page.
URL:https://www.auratheatreamateur.fr/evenement/compte-10/2027-08-27/
LOCATION:ACTE 2 THEATRE\, 32 bis quai Arloing\, Lyon\, 69009
ATTACH;FMTTYPE=image/jpeg:https://www.auratheatreamateur.fr/wp-content/uploads/2026/02/FB_IMG_17718227161731.jpg
END:VEVENT
END:VCALENDAR