BEGIN:VCALENDAR
VERSION:2.0
PRODID:-//FNCTA - Auvergne-Rhône-Alpes - ECPv6.2.9//NONSGML v1.0//EN
CALSCALE:GREGORIAN
METHOD:PUBLISH
X-WR-CALNAME:FNCTA - Auvergne-Rhône-Alpes
X-ORIGINAL-URL:https://www.auratheatreamateur.fr
X-WR-CALDESC:évènements pour FNCTA - Auvergne-Rhône-Alpes
REFRESH-INTERVAL;VALUE=DURATION:PT1H
X-Robots-Tag:noindex
X-PUBLISHED-TTL:PT1H
BEGIN:VTIMEZONE
TZID:UTC
BEGIN:STANDARD
TZOFFSETFROM:+0000
TZOFFSETTO:+0000
TZNAME:UTC
DTSTART:20280101T000000
END:STANDARD
END:VTIMEZONE
BEGIN:VEVENT
DTSTART;TZID=UTC:20280504T203000
DTEND;TZID=UTC:20280504T220000
DTSTAMP:20260421T060621
CREATED:20260226T115750Z
LAST-MODIFIED:20260226T115750Z
UID:10001569-1841085000-1841090400@www.auratheatreamateur.fr
SUMMARY:Compte
DESCRIPTION:Cette page est restreinte. Veuillez Connexion  pour afficher cette page.
URL:https://www.auratheatreamateur.fr/evenement/compte-10/2028-05-04/
LOCATION:ACTE 2 THEATRE\, 32 bis quai Arloing\, Lyon\, 69009
ATTACH;FMTTYPE=image/jpeg:https://www.auratheatreamateur.fr/wp-content/uploads/2026/02/FB_IMG_17718227161731.jpg
END:VEVENT
BEGIN:VEVENT
DTSTART;TZID=UTC:20280505T203000
DTEND;TZID=UTC:20280505T220000
DTSTAMP:20260421T060621
CREATED:20260226T115750Z
LAST-MODIFIED:20260226T115750Z
UID:10001570-1841171400-1841176800@www.auratheatreamateur.fr
SUMMARY:Compte
DESCRIPTION:Cette page est restreinte. Veuillez Connexion  pour afficher cette page.
URL:https://www.auratheatreamateur.fr/evenement/compte-10/2028-05-05/
LOCATION:ACTE 2 THEATRE\, 32 bis quai Arloing\, Lyon\, 69009
ATTACH;FMTTYPE=image/jpeg:https://www.auratheatreamateur.fr/wp-content/uploads/2026/02/FB_IMG_17718227161731.jpg
END:VEVENT
BEGIN:VEVENT
DTSTART;TZID=UTC:20280511T203000
DTEND;TZID=UTC:20280511T220000
DTSTAMP:20260421T060621
CREATED:20260226T115750Z
LAST-MODIFIED:20260226T115750Z
UID:10001571-1841689800-1841695200@www.auratheatreamateur.fr
SUMMARY:Compte
DESCRIPTION:Cette page est restreinte. Veuillez Connexion  pour afficher cette page.
URL:https://www.auratheatreamateur.fr/evenement/compte-10/2028-05-11/
LOCATION:ACTE 2 THEATRE\, 32 bis quai Arloing\, Lyon\, 69009
ATTACH;FMTTYPE=image/jpeg:https://www.auratheatreamateur.fr/wp-content/uploads/2026/02/FB_IMG_17718227161731.jpg
END:VEVENT
BEGIN:VEVENT
DTSTART;TZID=UTC:20280512T203000
DTEND;TZID=UTC:20280512T220000
DTSTAMP:20260421T060621
CREATED:20260226T115750Z
LAST-MODIFIED:20260226T115750Z
UID:10001572-1841776200-1841781600@www.auratheatreamateur.fr
SUMMARY:Compte
DESCRIPTION:Cette page est restreinte. Veuillez Connexion  pour afficher cette page.
URL:https://www.auratheatreamateur.fr/evenement/compte-10/2028-05-12/
LOCATION:ACTE 2 THEATRE\, 32 bis quai Arloing\, Lyon\, 69009
ATTACH;FMTTYPE=image/jpeg:https://www.auratheatreamateur.fr/wp-content/uploads/2026/02/FB_IMG_17718227161731.jpg
END:VEVENT
BEGIN:VEVENT
DTSTART;TZID=UTC:20280518T203000
DTEND;TZID=UTC:20280518T220000
DTSTAMP:20260421T060621
CREATED:20260226T115750Z
LAST-MODIFIED:20260226T115750Z
UID:10001573-1842294600-1842300000@www.auratheatreamateur.fr
SUMMARY:Compte
DESCRIPTION:Cette page est restreinte. Veuillez Connexion  pour afficher cette page.
URL:https://www.auratheatreamateur.fr/evenement/compte-10/2028-05-18/
LOCATION:ACTE 2 THEATRE\, 32 bis quai Arloing\, Lyon\, 69009
ATTACH;FMTTYPE=image/jpeg:https://www.auratheatreamateur.fr/wp-content/uploads/2026/02/FB_IMG_17718227161731.jpg
END:VEVENT
BEGIN:VEVENT
DTSTART;TZID=UTC:20280519T203000
DTEND;TZID=UTC:20280519T220000
DTSTAMP:20260421T060621
CREATED:20260226T115750Z
LAST-MODIFIED:20260226T115750Z
UID:10001574-1842381000-1842386400@www.auratheatreamateur.fr
SUMMARY:Compte
DESCRIPTION:Cette page est restreinte. Veuillez Connexion  pour afficher cette page.
URL:https://www.auratheatreamateur.fr/evenement/compte-10/2028-05-19/
LOCATION:ACTE 2 THEATRE\, 32 bis quai Arloing\, Lyon\, 69009
ATTACH;FMTTYPE=image/jpeg:https://www.auratheatreamateur.fr/wp-content/uploads/2026/02/FB_IMG_17718227161731.jpg
END:VEVENT
BEGIN:VEVENT
DTSTART;TZID=UTC:20280525T203000
DTEND;TZID=UTC:20280525T220000
DTSTAMP:20260421T060621
CREATED:20260226T115750Z
LAST-MODIFIED:20260226T115750Z
UID:10001575-1842899400-1842904800@www.auratheatreamateur.fr
SUMMARY:Compte
DESCRIPTION:Cette page est restreinte. Veuillez Connexion  pour afficher cette page.
URL:https://www.auratheatreamateur.fr/evenement/compte-10/2028-05-25/
LOCATION:ACTE 2 THEATRE\, 32 bis quai Arloing\, Lyon\, 69009
ATTACH;FMTTYPE=image/jpeg:https://www.auratheatreamateur.fr/wp-content/uploads/2026/02/FB_IMG_17718227161731.jpg
END:VEVENT
BEGIN:VEVENT
DTSTART;TZID=UTC:20280526T203000
DTEND;TZID=UTC:20280526T220000
DTSTAMP:20260421T060621
CREATED:20260226T115750Z
LAST-MODIFIED:20260226T115750Z
UID:10001576-1842985800-1842991200@www.auratheatreamateur.fr
SUMMARY:Compte
DESCRIPTION:Cette page est restreinte. Veuillez Connexion  pour afficher cette page.
URL:https://www.auratheatreamateur.fr/evenement/compte-10/2028-05-26/
LOCATION:ACTE 2 THEATRE\, 32 bis quai Arloing\, Lyon\, 69009
ATTACH;FMTTYPE=image/jpeg:https://www.auratheatreamateur.fr/wp-content/uploads/2026/02/FB_IMG_17718227161731.jpg
END:VEVENT
END:VCALENDAR