BEGIN:VCALENDAR
VERSION:2.0
PRODID:-//FNCTA - Auvergne-Rhône-Alpes - ECPv6.2.9//NONSGML v1.0//EN
CALSCALE:GREGORIAN
METHOD:PUBLISH
X-WR-CALNAME:FNCTA - Auvergne-Rhône-Alpes
X-ORIGINAL-URL:https://www.auratheatreamateur.fr
X-WR-CALDESC:évènements pour FNCTA - Auvergne-Rhône-Alpes
REFRESH-INTERVAL;VALUE=DURATION:PT1H
X-Robots-Tag:noindex
X-PUBLISHED-TTL:PT1H
BEGIN:VTIMEZONE
TZID:UTC
BEGIN:STANDARD
TZOFFSETFROM:+0000
TZOFFSETTO:+0000
TZNAME:UTC
DTSTART:20280101T000000
END:STANDARD
END:VTIMEZONE
BEGIN:VEVENT
DTSTART;TZID=UTC:20281005T203000
DTEND;TZID=UTC:20281005T220000
DTSTAMP:20260421T143515
CREATED:20260226T115750Z
LAST-MODIFIED:20260226T115750Z
UID:10001613-1854390600-1854396000@www.auratheatreamateur.fr
SUMMARY:Compte
DESCRIPTION:Cette page est restreinte. Veuillez Connexion  pour afficher cette page.
URL:https://www.auratheatreamateur.fr/evenement/compte-10/2028-10-05/
LOCATION:ACTE 2 THEATRE\, 32 bis quai Arloing\, Lyon\, 69009
ATTACH;FMTTYPE=image/jpeg:https://www.auratheatreamateur.fr/wp-content/uploads/2026/02/FB_IMG_17718227161731.jpg
END:VEVENT
BEGIN:VEVENT
DTSTART;TZID=UTC:20281006T203000
DTEND;TZID=UTC:20281006T220000
DTSTAMP:20260421T143515
CREATED:20260226T115750Z
LAST-MODIFIED:20260226T115750Z
UID:10001614-1854477000-1854482400@www.auratheatreamateur.fr
SUMMARY:Compte
DESCRIPTION:Cette page est restreinte. Veuillez Connexion  pour afficher cette page.
URL:https://www.auratheatreamateur.fr/evenement/compte-10/2028-10-06/
LOCATION:ACTE 2 THEATRE\, 32 bis quai Arloing\, Lyon\, 69009
ATTACH;FMTTYPE=image/jpeg:https://www.auratheatreamateur.fr/wp-content/uploads/2026/02/FB_IMG_17718227161731.jpg
END:VEVENT
BEGIN:VEVENT
DTSTART;TZID=UTC:20281012T203000
DTEND;TZID=UTC:20281012T220000
DTSTAMP:20260421T143515
CREATED:20260226T115750Z
LAST-MODIFIED:20260226T115750Z
UID:10001615-1854995400-1855000800@www.auratheatreamateur.fr
SUMMARY:Compte
DESCRIPTION:Cette page est restreinte. Veuillez Connexion  pour afficher cette page.
URL:https://www.auratheatreamateur.fr/evenement/compte-10/2028-10-12/
LOCATION:ACTE 2 THEATRE\, 32 bis quai Arloing\, Lyon\, 69009
ATTACH;FMTTYPE=image/jpeg:https://www.auratheatreamateur.fr/wp-content/uploads/2026/02/FB_IMG_17718227161731.jpg
END:VEVENT
BEGIN:VEVENT
DTSTART;TZID=UTC:20281013T203000
DTEND;TZID=UTC:20281013T220000
DTSTAMP:20260421T143515
CREATED:20260226T115750Z
LAST-MODIFIED:20260226T115750Z
UID:10001616-1855081800-1855087200@www.auratheatreamateur.fr
SUMMARY:Compte
DESCRIPTION:Cette page est restreinte. Veuillez Connexion  pour afficher cette page.
URL:https://www.auratheatreamateur.fr/evenement/compte-10/2028-10-13/
LOCATION:ACTE 2 THEATRE\, 32 bis quai Arloing\, Lyon\, 69009
ATTACH;FMTTYPE=image/jpeg:https://www.auratheatreamateur.fr/wp-content/uploads/2026/02/FB_IMG_17718227161731.jpg
END:VEVENT
BEGIN:VEVENT
DTSTART;TZID=UTC:20281019T203000
DTEND;TZID=UTC:20281019T220000
DTSTAMP:20260421T143515
CREATED:20260226T115750Z
LAST-MODIFIED:20260226T115750Z
UID:10001617-1855600200-1855605600@www.auratheatreamateur.fr
SUMMARY:Compte
DESCRIPTION:Cette page est restreinte. Veuillez Connexion  pour afficher cette page.
URL:https://www.auratheatreamateur.fr/evenement/compte-10/2028-10-19/
LOCATION:ACTE 2 THEATRE\, 32 bis quai Arloing\, Lyon\, 69009
ATTACH;FMTTYPE=image/jpeg:https://www.auratheatreamateur.fr/wp-content/uploads/2026/02/FB_IMG_17718227161731.jpg
END:VEVENT
BEGIN:VEVENT
DTSTART;TZID=UTC:20281020T203000
DTEND;TZID=UTC:20281020T220000
DTSTAMP:20260421T143515
CREATED:20260226T115750Z
LAST-MODIFIED:20260226T115750Z
UID:10001618-1855686600-1855692000@www.auratheatreamateur.fr
SUMMARY:Compte
DESCRIPTION:Cette page est restreinte. Veuillez Connexion  pour afficher cette page.
URL:https://www.auratheatreamateur.fr/evenement/compte-10/2028-10-20/
LOCATION:ACTE 2 THEATRE\, 32 bis quai Arloing\, Lyon\, 69009
ATTACH;FMTTYPE=image/jpeg:https://www.auratheatreamateur.fr/wp-content/uploads/2026/02/FB_IMG_17718227161731.jpg
END:VEVENT
BEGIN:VEVENT
DTSTART;TZID=UTC:20281026T203000
DTEND;TZID=UTC:20281026T220000
DTSTAMP:20260421T143515
CREATED:20260226T115750Z
LAST-MODIFIED:20260226T115750Z
UID:10001619-1856205000-1856210400@www.auratheatreamateur.fr
SUMMARY:Compte
DESCRIPTION:Cette page est restreinte. Veuillez Connexion  pour afficher cette page.
URL:https://www.auratheatreamateur.fr/evenement/compte-10/2028-10-26/
LOCATION:ACTE 2 THEATRE\, 32 bis quai Arloing\, Lyon\, 69009
ATTACH;FMTTYPE=image/jpeg:https://www.auratheatreamateur.fr/wp-content/uploads/2026/02/FB_IMG_17718227161731.jpg
END:VEVENT
BEGIN:VEVENT
DTSTART;TZID=UTC:20281027T203000
DTEND;TZID=UTC:20281027T220000
DTSTAMP:20260421T143515
CREATED:20260226T115750Z
LAST-MODIFIED:20260226T115750Z
UID:10001620-1856291400-1856296800@www.auratheatreamateur.fr
SUMMARY:Compte
DESCRIPTION:Cette page est restreinte. Veuillez Connexion  pour afficher cette page.
URL:https://www.auratheatreamateur.fr/evenement/compte-10/2028-10-27/
LOCATION:ACTE 2 THEATRE\, 32 bis quai Arloing\, Lyon\, 69009
ATTACH;FMTTYPE=image/jpeg:https://www.auratheatreamateur.fr/wp-content/uploads/2026/02/FB_IMG_17718227161731.jpg
END:VEVENT
END:VCALENDAR