BEGIN:VCALENDAR
VERSION:2.0
PRODID:-//FNCTA - Auvergne-Rhône-Alpes - ECPv6.2.9//NONSGML v1.0//EN
CALSCALE:GREGORIAN
METHOD:PUBLISH
X-ORIGINAL-URL:https://www.auratheatreamateur.fr
X-WR-CALDESC:évènements pour FNCTA - Auvergne-Rhône-Alpes
REFRESH-INTERVAL;VALUE=DURATION:PT1H
X-Robots-Tag:noindex
X-PUBLISHED-TTL:PT1H
BEGIN:VTIMEZONE

END:VTIMEZONE
BEGIN:VEVENT
DTSTART;TZID=UTC:20260423T114737
DTEND;TZID=UTC:20260423T114737
DTSTAMP:20260423T114737
CREATED:20260112T172413Z
LAST-MODIFIED:20260112T172413Z
UID:49589-0-0@www.auratheatreamateur.fr
SUMMARY:Cassé de Rémi De Vos
DESCRIPTION:Christine\, dépressive depuis son licenciement de chez Prodex\, s’inquiète du déclassement de son mari\, Frédéric\, informaticien chez Sodecom\, obligé de sortir les poubelles de l’entreprise en pleine restructuration. Ne risque-t-il pas de se suicider ? Voisin\, médecin\, délégué syndical\, amie\, parents s’en mêlent dans une atmosphère toujours plus absurde. \nDans la veine du Suicidé de Nikolai Erdman\, Rémi De Vos revisite dans cette comédie à la fois les mécanismes hilarants du vaudeville et la peinture grinçante de notre société du travail.
URL:https://www.auratheatreamateur.fr/evenement/casse-de-remi-de-vos/
LOCATION:France
ATTACH;FMTTYPE=:
END:VEVENT
BEGIN:VEVENT
DTSTART;TZID=UTC:20260423T114737
DTEND;TZID=UTC:20260423T114737
DTSTAMP:20260423T114737
CREATED:20260112T172413Z
LAST-MODIFIED:20260112T172413Z
UID:49589-0-0@www.auratheatreamateur.fr
SUMMARY:Cassé de Rémi De Vos
DESCRIPTION:Christine\, dépressive depuis son licenciement de chez Prodex\, s’inquiète du déclassement de son mari\, Frédéric\, informaticien chez Sodecom\, obligé de sortir les poubelles de l’entreprise en pleine restructuration. Ne risque-t-il pas de se suicider ? Voisin\, médecin\, délégué syndical\, amie\, parents s’en mêlent dans une atmosphère toujours plus absurde. \nDans la veine du Suicidé de Nikolai Erdman\, Rémi De Vos revisite dans cette comédie à la fois les mécanismes hilarants du vaudeville et la peinture grinçante de notre société du travail.
URL:https://www.auratheatreamateur.fr/evenement/casse-de-remi-de-vos/
LOCATION:France
ATTACH;FMTTYPE=:
END:VEVENT
BEGIN:VEVENT
DTSTART;TZID=UTC:20260423T114737
DTEND;TZID=UTC:20260423T114737
DTSTAMP:20260423T114737
CREATED:20260112T172413Z
LAST-MODIFIED:20260112T172413Z
UID:49589-0-0@www.auratheatreamateur.fr
SUMMARY:Cassé de Rémi De Vos
DESCRIPTION:Christine\, dépressive depuis son licenciement de chez Prodex\, s’inquiète du déclassement de son mari\, Frédéric\, informaticien chez Sodecom\, obligé de sortir les poubelles de l’entreprise en pleine restructuration. Ne risque-t-il pas de se suicider ? Voisin\, médecin\, délégué syndical\, amie\, parents s’en mêlent dans une atmosphère toujours plus absurde. \nDans la veine du Suicidé de Nikolai Erdman\, Rémi De Vos revisite dans cette comédie à la fois les mécanismes hilarants du vaudeville et la peinture grinçante de notre société du travail.
URL:https://www.auratheatreamateur.fr/evenement/casse-de-remi-de-vos/
LOCATION:France
ATTACH;FMTTYPE=:
END:VEVENT
BEGIN:VEVENT
DTSTART;TZID=UTC:20260423T114737
DTEND;TZID=UTC:20260423T114737
DTSTAMP:20260423T114737
CREATED:20260112T172413Z
LAST-MODIFIED:20260112T172413Z
UID:49589-0-0@www.auratheatreamateur.fr
SUMMARY:Cassé de Rémi De Vos
DESCRIPTION:Christine\, dépressive depuis son licenciement de chez Prodex\, s’inquiète du déclassement de son mari\, Frédéric\, informaticien chez Sodecom\, obligé de sortir les poubelles de l’entreprise en pleine restructuration. Ne risque-t-il pas de se suicider ? Voisin\, médecin\, délégué syndical\, amie\, parents s’en mêlent dans une atmosphère toujours plus absurde. \nDans la veine du Suicidé de Nikolai Erdman\, Rémi De Vos revisite dans cette comédie à la fois les mécanismes hilarants du vaudeville et la peinture grinçante de notre société du travail.
URL:https://www.auratheatreamateur.fr/evenement/casse-de-remi-de-vos/
LOCATION:France
ATTACH;FMTTYPE=:
END:VEVENT
BEGIN:VEVENT
DTSTART;TZID=UTC:20260423T114737
DTEND;TZID=UTC:20260423T114737
DTSTAMP:20260423T114737
CREATED:20260112T172413Z
LAST-MODIFIED:20260112T172413Z
UID:49589-0-0@www.auratheatreamateur.fr
SUMMARY:Cassé de Rémi De Vos
DESCRIPTION:Christine\, dépressive depuis son licenciement de chez Prodex\, s’inquiète du déclassement de son mari\, Frédéric\, informaticien chez Sodecom\, obligé de sortir les poubelles de l’entreprise en pleine restructuration. Ne risque-t-il pas de se suicider ? Voisin\, médecin\, délégué syndical\, amie\, parents s’en mêlent dans une atmosphère toujours plus absurde. \nDans la veine du Suicidé de Nikolai Erdman\, Rémi De Vos revisite dans cette comédie à la fois les mécanismes hilarants du vaudeville et la peinture grinçante de notre société du travail.
URL:https://www.auratheatreamateur.fr/evenement/casse-de-remi-de-vos/
LOCATION:France
ATTACH;FMTTYPE=:
END:VEVENT
BEGIN:VEVENT
DTSTART;TZID=UTC:20260423T114737
DTEND;TZID=UTC:20260423T114737
DTSTAMP:20260423T114737
CREATED:20260112T172413Z
LAST-MODIFIED:20260112T172413Z
UID:49589-0-0@www.auratheatreamateur.fr
SUMMARY:Cassé de Rémi De Vos
DESCRIPTION:Christine\, dépressive depuis son licenciement de chez Prodex\, s’inquiète du déclassement de son mari\, Frédéric\, informaticien chez Sodecom\, obligé de sortir les poubelles de l’entreprise en pleine restructuration. Ne risque-t-il pas de se suicider ? Voisin\, médecin\, délégué syndical\, amie\, parents s’en mêlent dans une atmosphère toujours plus absurde. \nDans la veine du Suicidé de Nikolai Erdman\, Rémi De Vos revisite dans cette comédie à la fois les mécanismes hilarants du vaudeville et la peinture grinçante de notre société du travail.
URL:https://www.auratheatreamateur.fr/evenement/casse-de-remi-de-vos/
LOCATION:France
ATTACH;FMTTYPE=:
END:VEVENT
BEGIN:VEVENT
DTSTART;TZID=UTC:20260423T114737
DTEND;TZID=UTC:20260423T114737
DTSTAMP:20260423T114737
CREATED:20260112T172413Z
LAST-MODIFIED:20260112T172413Z
UID:49589-0-0@www.auratheatreamateur.fr
SUMMARY:Cassé de Rémi De Vos
DESCRIPTION:Christine\, dépressive depuis son licenciement de chez Prodex\, s’inquiète du déclassement de son mari\, Frédéric\, informaticien chez Sodecom\, obligé de sortir les poubelles de l’entreprise en pleine restructuration. Ne risque-t-il pas de se suicider ? Voisin\, médecin\, délégué syndical\, amie\, parents s’en mêlent dans une atmosphère toujours plus absurde. \nDans la veine du Suicidé de Nikolai Erdman\, Rémi De Vos revisite dans cette comédie à la fois les mécanismes hilarants du vaudeville et la peinture grinçante de notre société du travail.
URL:https://www.auratheatreamateur.fr/evenement/casse-de-remi-de-vos/
LOCATION:France
ATTACH;FMTTYPE=:
END:VEVENT
BEGIN:VEVENT
DTSTART;TZID=UTC:20260423T114737
DTEND;TZID=UTC:20260423T114737
DTSTAMP:20260423T114737
CREATED:20260112T172413Z
LAST-MODIFIED:20260112T172413Z
UID:49589-0-0@www.auratheatreamateur.fr
SUMMARY:Cassé de Rémi De Vos
DESCRIPTION:Christine\, dépressive depuis son licenciement de chez Prodex\, s’inquiète du déclassement de son mari\, Frédéric\, informaticien chez Sodecom\, obligé de sortir les poubelles de l’entreprise en pleine restructuration. Ne risque-t-il pas de se suicider ? Voisin\, médecin\, délégué syndical\, amie\, parents s’en mêlent dans une atmosphère toujours plus absurde. \nDans la veine du Suicidé de Nikolai Erdman\, Rémi De Vos revisite dans cette comédie à la fois les mécanismes hilarants du vaudeville et la peinture grinçante de notre société du travail.
URL:https://www.auratheatreamateur.fr/evenement/casse-de-remi-de-vos/
LOCATION:France
ATTACH;FMTTYPE=:
END:VEVENT
BEGIN:VEVENT
DTSTART;TZID=UTC:20260423T114737
DTEND;TZID=UTC:20260423T114737
DTSTAMP:20260423T114737
CREATED:20260112T172413Z
LAST-MODIFIED:20260112T172413Z
UID:49589-0-0@www.auratheatreamateur.fr
SUMMARY:Cassé de Rémi De Vos
DESCRIPTION:Christine\, dépressive depuis son licenciement de chez Prodex\, s’inquiète du déclassement de son mari\, Frédéric\, informaticien chez Sodecom\, obligé de sortir les poubelles de l’entreprise en pleine restructuration. Ne risque-t-il pas de se suicider ? Voisin\, médecin\, délégué syndical\, amie\, parents s’en mêlent dans une atmosphère toujours plus absurde. \nDans la veine du Suicidé de Nikolai Erdman\, Rémi De Vos revisite dans cette comédie à la fois les mécanismes hilarants du vaudeville et la peinture grinçante de notre société du travail.
URL:https://www.auratheatreamateur.fr/evenement/casse-de-remi-de-vos/
LOCATION:France
ATTACH;FMTTYPE=:
END:VEVENT
BEGIN:VEVENT
DTSTART;TZID=UTC:20260423T114737
DTEND;TZID=UTC:20260423T114737
DTSTAMP:20260423T114737
CREATED:20260112T172413Z
LAST-MODIFIED:20260112T172413Z
UID:49589-0-0@www.auratheatreamateur.fr
SUMMARY:Cassé de Rémi De Vos
DESCRIPTION:Christine\, dépressive depuis son licenciement de chez Prodex\, s’inquiète du déclassement de son mari\, Frédéric\, informaticien chez Sodecom\, obligé de sortir les poubelles de l’entreprise en pleine restructuration. Ne risque-t-il pas de se suicider ? Voisin\, médecin\, délégué syndical\, amie\, parents s’en mêlent dans une atmosphère toujours plus absurde. \nDans la veine du Suicidé de Nikolai Erdman\, Rémi De Vos revisite dans cette comédie à la fois les mécanismes hilarants du vaudeville et la peinture grinçante de notre société du travail.
URL:https://www.auratheatreamateur.fr/evenement/casse-de-remi-de-vos/
LOCATION:France
ATTACH;FMTTYPE=:
END:VEVENT
BEGIN:VEVENT
DTSTART;TZID=UTC:20260423T114737
DTEND;TZID=UTC:20260423T114737
DTSTAMP:20260423T114737
CREATED:20260112T172413Z
LAST-MODIFIED:20260112T172413Z
UID:49589-0-0@www.auratheatreamateur.fr
SUMMARY:Cassé de Rémi De Vos
DESCRIPTION:Christine\, dépressive depuis son licenciement de chez Prodex\, s’inquiète du déclassement de son mari\, Frédéric\, informaticien chez Sodecom\, obligé de sortir les poubelles de l’entreprise en pleine restructuration. Ne risque-t-il pas de se suicider ? Voisin\, médecin\, délégué syndical\, amie\, parents s’en mêlent dans une atmosphère toujours plus absurde. \nDans la veine du Suicidé de Nikolai Erdman\, Rémi De Vos revisite dans cette comédie à la fois les mécanismes hilarants du vaudeville et la peinture grinçante de notre société du travail.
URL:https://www.auratheatreamateur.fr/evenement/casse-de-remi-de-vos/
LOCATION:France
ATTACH;FMTTYPE=:
END:VEVENT
BEGIN:VEVENT
DTSTART;TZID=UTC:20260423T114737
DTEND;TZID=UTC:20260423T114737
DTSTAMP:20260423T114737
CREATED:20260112T172413Z
LAST-MODIFIED:20260112T172413Z
UID:49589-0-0@www.auratheatreamateur.fr
SUMMARY:Cassé de Rémi De Vos
DESCRIPTION:Christine\, dépressive depuis son licenciement de chez Prodex\, s’inquiète du déclassement de son mari\, Frédéric\, informaticien chez Sodecom\, obligé de sortir les poubelles de l’entreprise en pleine restructuration. Ne risque-t-il pas de se suicider ? Voisin\, médecin\, délégué syndical\, amie\, parents s’en mêlent dans une atmosphère toujours plus absurde. \nDans la veine du Suicidé de Nikolai Erdman\, Rémi De Vos revisite dans cette comédie à la fois les mécanismes hilarants du vaudeville et la peinture grinçante de notre société du travail.
URL:https://www.auratheatreamateur.fr/evenement/casse-de-remi-de-vos/
LOCATION:France
ATTACH;FMTTYPE=:
END:VEVENT
BEGIN:VEVENT
DTSTART;TZID=UTC:20260423T114737
DTEND;TZID=UTC:20260423T114737
DTSTAMP:20260423T114737
CREATED:20260112T172413Z
LAST-MODIFIED:20260112T172413Z
UID:49589-0-0@www.auratheatreamateur.fr
SUMMARY:Cassé de Rémi De Vos
DESCRIPTION:Christine\, dépressive depuis son licenciement de chez Prodex\, s’inquiète du déclassement de son mari\, Frédéric\, informaticien chez Sodecom\, obligé de sortir les poubelles de l’entreprise en pleine restructuration. Ne risque-t-il pas de se suicider ? Voisin\, médecin\, délégué syndical\, amie\, parents s’en mêlent dans une atmosphère toujours plus absurde. \nDans la veine du Suicidé de Nikolai Erdman\, Rémi De Vos revisite dans cette comédie à la fois les mécanismes hilarants du vaudeville et la peinture grinçante de notre société du travail.
URL:https://www.auratheatreamateur.fr/evenement/casse-de-remi-de-vos/
LOCATION:France
ATTACH;FMTTYPE=:
END:VEVENT
BEGIN:VEVENT
DTSTART;TZID=UTC:20260423T114737
DTEND;TZID=UTC:20260423T114737
DTSTAMP:20260423T114737
CREATED:20260112T172413Z
LAST-MODIFIED:20260112T172413Z
UID:49589-0-0@www.auratheatreamateur.fr
SUMMARY:Cassé de Rémi De Vos
DESCRIPTION:Christine\, dépressive depuis son licenciement de chez Prodex\, s’inquiète du déclassement de son mari\, Frédéric\, informaticien chez Sodecom\, obligé de sortir les poubelles de l’entreprise en pleine restructuration. Ne risque-t-il pas de se suicider ? Voisin\, médecin\, délégué syndical\, amie\, parents s’en mêlent dans une atmosphère toujours plus absurde. \nDans la veine du Suicidé de Nikolai Erdman\, Rémi De Vos revisite dans cette comédie à la fois les mécanismes hilarants du vaudeville et la peinture grinçante de notre société du travail.
URL:https://www.auratheatreamateur.fr/evenement/casse-de-remi-de-vos/
LOCATION:France
ATTACH;FMTTYPE=:
END:VEVENT
BEGIN:VEVENT
DTSTART;TZID=UTC:20260423T114737
DTEND;TZID=UTC:20260423T114737
DTSTAMP:20260423T114737
CREATED:20260112T172413Z
LAST-MODIFIED:20260112T172413Z
UID:49589-0-0@www.auratheatreamateur.fr
SUMMARY:Cassé de Rémi De Vos
DESCRIPTION:Christine\, dépressive depuis son licenciement de chez Prodex\, s’inquiète du déclassement de son mari\, Frédéric\, informaticien chez Sodecom\, obligé de sortir les poubelles de l’entreprise en pleine restructuration. Ne risque-t-il pas de se suicider ? Voisin\, médecin\, délégué syndical\, amie\, parents s’en mêlent dans une atmosphère toujours plus absurde. \nDans la veine du Suicidé de Nikolai Erdman\, Rémi De Vos revisite dans cette comédie à la fois les mécanismes hilarants du vaudeville et la peinture grinçante de notre société du travail.
URL:https://www.auratheatreamateur.fr/evenement/casse-de-remi-de-vos/
LOCATION:France
ATTACH;FMTTYPE=:
END:VEVENT
BEGIN:VEVENT
DTSTART;TZID=UTC:20260423T114737
DTEND;TZID=UTC:20260423T114737
DTSTAMP:20260423T114737
CREATED:20260112T172413Z
LAST-MODIFIED:20260112T172413Z
UID:49589-0-0@www.auratheatreamateur.fr
SUMMARY:Cassé de Rémi De Vos
DESCRIPTION:Christine\, dépressive depuis son licenciement de chez Prodex\, s’inquiète du déclassement de son mari\, Frédéric\, informaticien chez Sodecom\, obligé de sortir les poubelles de l’entreprise en pleine restructuration. Ne risque-t-il pas de se suicider ? Voisin\, médecin\, délégué syndical\, amie\, parents s’en mêlent dans une atmosphère toujours plus absurde. \nDans la veine du Suicidé de Nikolai Erdman\, Rémi De Vos revisite dans cette comédie à la fois les mécanismes hilarants du vaudeville et la peinture grinçante de notre société du travail.
URL:https://www.auratheatreamateur.fr/evenement/casse-de-remi-de-vos/
LOCATION:France
ATTACH;FMTTYPE=:
END:VEVENT
BEGIN:VEVENT
DTSTART;TZID=UTC:20260423T114737
DTEND;TZID=UTC:20260423T114737
DTSTAMP:20260423T114737
CREATED:20260112T172413Z
LAST-MODIFIED:20260112T172413Z
UID:49589-0-0@www.auratheatreamateur.fr
SUMMARY:Cassé de Rémi De Vos
DESCRIPTION:Christine\, dépressive depuis son licenciement de chez Prodex\, s’inquiète du déclassement de son mari\, Frédéric\, informaticien chez Sodecom\, obligé de sortir les poubelles de l’entreprise en pleine restructuration. Ne risque-t-il pas de se suicider ? Voisin\, médecin\, délégué syndical\, amie\, parents s’en mêlent dans une atmosphère toujours plus absurde. \nDans la veine du Suicidé de Nikolai Erdman\, Rémi De Vos revisite dans cette comédie à la fois les mécanismes hilarants du vaudeville et la peinture grinçante de notre société du travail.
URL:https://www.auratheatreamateur.fr/evenement/casse-de-remi-de-vos/
LOCATION:France
ATTACH;FMTTYPE=:
END:VEVENT
BEGIN:VEVENT
DTSTART;TZID=UTC:20260423T114737
DTEND;TZID=UTC:20260423T114737
DTSTAMP:20260423T114737
CREATED:20260112T172413Z
LAST-MODIFIED:20260112T172413Z
UID:49589-0-0@www.auratheatreamateur.fr
SUMMARY:Cassé de Rémi De Vos
DESCRIPTION:Christine\, dépressive depuis son licenciement de chez Prodex\, s’inquiète du déclassement de son mari\, Frédéric\, informaticien chez Sodecom\, obligé de sortir les poubelles de l’entreprise en pleine restructuration. Ne risque-t-il pas de se suicider ? Voisin\, médecin\, délégué syndical\, amie\, parents s’en mêlent dans une atmosphère toujours plus absurde. \nDans la veine du Suicidé de Nikolai Erdman\, Rémi De Vos revisite dans cette comédie à la fois les mécanismes hilarants du vaudeville et la peinture grinçante de notre société du travail.
URL:https://www.auratheatreamateur.fr/evenement/casse-de-remi-de-vos/
LOCATION:France
ATTACH;FMTTYPE=:
END:VEVENT
BEGIN:VEVENT
DTSTART;TZID=UTC:20260423T114737
DTEND;TZID=UTC:20260423T114737
DTSTAMP:20260423T114737
CREATED:20260112T172413Z
LAST-MODIFIED:20260112T172413Z
UID:49589-0-0@www.auratheatreamateur.fr
SUMMARY:Cassé de Rémi De Vos
DESCRIPTION:Christine\, dépressive depuis son licenciement de chez Prodex\, s’inquiète du déclassement de son mari\, Frédéric\, informaticien chez Sodecom\, obligé de sortir les poubelles de l’entreprise en pleine restructuration. Ne risque-t-il pas de se suicider ? Voisin\, médecin\, délégué syndical\, amie\, parents s’en mêlent dans une atmosphère toujours plus absurde. \nDans la veine du Suicidé de Nikolai Erdman\, Rémi De Vos revisite dans cette comédie à la fois les mécanismes hilarants du vaudeville et la peinture grinçante de notre société du travail.
URL:https://www.auratheatreamateur.fr/evenement/casse-de-remi-de-vos/
LOCATION:France
ATTACH;FMTTYPE=:
END:VEVENT
BEGIN:VEVENT
DTSTART;TZID=UTC:20260423T114737
DTEND;TZID=UTC:20260423T114737
DTSTAMP:20260423T114737
CREATED:20260112T172413Z
LAST-MODIFIED:20260112T172413Z
UID:49589-0-0@www.auratheatreamateur.fr
SUMMARY:Cassé de Rémi De Vos
DESCRIPTION:Christine\, dépressive depuis son licenciement de chez Prodex\, s’inquiète du déclassement de son mari\, Frédéric\, informaticien chez Sodecom\, obligé de sortir les poubelles de l’entreprise en pleine restructuration. Ne risque-t-il pas de se suicider ? Voisin\, médecin\, délégué syndical\, amie\, parents s’en mêlent dans une atmosphère toujours plus absurde. \nDans la veine du Suicidé de Nikolai Erdman\, Rémi De Vos revisite dans cette comédie à la fois les mécanismes hilarants du vaudeville et la peinture grinçante de notre société du travail.
URL:https://www.auratheatreamateur.fr/evenement/casse-de-remi-de-vos/
LOCATION:France
ATTACH;FMTTYPE=:
END:VEVENT
BEGIN:VEVENT
DTSTART;TZID=UTC:20260423T114737
DTEND;TZID=UTC:20260423T114737
DTSTAMP:20260423T114737
CREATED:20260112T172413Z
LAST-MODIFIED:20260112T172413Z
UID:49589-0-0@www.auratheatreamateur.fr
SUMMARY:Cassé de Rémi De Vos
DESCRIPTION:Christine\, dépressive depuis son licenciement de chez Prodex\, s’inquiète du déclassement de son mari\, Frédéric\, informaticien chez Sodecom\, obligé de sortir les poubelles de l’entreprise en pleine restructuration. Ne risque-t-il pas de se suicider ? Voisin\, médecin\, délégué syndical\, amie\, parents s’en mêlent dans une atmosphère toujours plus absurde. \nDans la veine du Suicidé de Nikolai Erdman\, Rémi De Vos revisite dans cette comédie à la fois les mécanismes hilarants du vaudeville et la peinture grinçante de notre société du travail.
URL:https://www.auratheatreamateur.fr/evenement/casse-de-remi-de-vos/
LOCATION:France
ATTACH;FMTTYPE=:
END:VEVENT
BEGIN:VEVENT
DTSTART;TZID=UTC:20260423T114737
DTEND;TZID=UTC:20260423T114737
DTSTAMP:20260423T114737
CREATED:20260112T172413Z
LAST-MODIFIED:20260112T172413Z
UID:49589-0-0@www.auratheatreamateur.fr
SUMMARY:Cassé de Rémi De Vos
DESCRIPTION:Christine\, dépressive depuis son licenciement de chez Prodex\, s’inquiète du déclassement de son mari\, Frédéric\, informaticien chez Sodecom\, obligé de sortir les poubelles de l’entreprise en pleine restructuration. Ne risque-t-il pas de se suicider ? Voisin\, médecin\, délégué syndical\, amie\, parents s’en mêlent dans une atmosphère toujours plus absurde. \nDans la veine du Suicidé de Nikolai Erdman\, Rémi De Vos revisite dans cette comédie à la fois les mécanismes hilarants du vaudeville et la peinture grinçante de notre société du travail.
URL:https://www.auratheatreamateur.fr/evenement/casse-de-remi-de-vos/
LOCATION:France
ATTACH;FMTTYPE=:
END:VEVENT
BEGIN:VEVENT
DTSTART;TZID=UTC:20260423T114737
DTEND;TZID=UTC:20260423T114737
DTSTAMP:20260423T114737
CREATED:20260112T172413Z
LAST-MODIFIED:20260112T172413Z
UID:49589-0-0@www.auratheatreamateur.fr
SUMMARY:Cassé de Rémi De Vos
DESCRIPTION:Christine\, dépressive depuis son licenciement de chez Prodex\, s’inquiète du déclassement de son mari\, Frédéric\, informaticien chez Sodecom\, obligé de sortir les poubelles de l’entreprise en pleine restructuration. Ne risque-t-il pas de se suicider ? Voisin\, médecin\, délégué syndical\, amie\, parents s’en mêlent dans une atmosphère toujours plus absurde. \nDans la veine du Suicidé de Nikolai Erdman\, Rémi De Vos revisite dans cette comédie à la fois les mécanismes hilarants du vaudeville et la peinture grinçante de notre société du travail.
URL:https://www.auratheatreamateur.fr/evenement/casse-de-remi-de-vos/
LOCATION:France
ATTACH;FMTTYPE=:
END:VEVENT
BEGIN:VEVENT
DTSTART;TZID=UTC:20260423T114737
DTEND;TZID=UTC:20260423T114737
DTSTAMP:20260423T114737
CREATED:20260112T172413Z
LAST-MODIFIED:20260112T172413Z
UID:49589-0-0@www.auratheatreamateur.fr
SUMMARY:Cassé de Rémi De Vos
DESCRIPTION:Christine\, dépressive depuis son licenciement de chez Prodex\, s’inquiète du déclassement de son mari\, Frédéric\, informaticien chez Sodecom\, obligé de sortir les poubelles de l’entreprise en pleine restructuration. Ne risque-t-il pas de se suicider ? Voisin\, médecin\, délégué syndical\, amie\, parents s’en mêlent dans une atmosphère toujours plus absurde. \nDans la veine du Suicidé de Nikolai Erdman\, Rémi De Vos revisite dans cette comédie à la fois les mécanismes hilarants du vaudeville et la peinture grinçante de notre société du travail.
URL:https://www.auratheatreamateur.fr/evenement/casse-de-remi-de-vos/
LOCATION:France
ATTACH;FMTTYPE=:
END:VEVENT
BEGIN:VEVENT
DTSTART;TZID=UTC:20260423T114737
DTEND;TZID=UTC:20260423T114737
DTSTAMP:20260423T114737
CREATED:20260112T172413Z
LAST-MODIFIED:20260112T172413Z
UID:49589-0-0@www.auratheatreamateur.fr
SUMMARY:Cassé de Rémi De Vos
DESCRIPTION:Christine\, dépressive depuis son licenciement de chez Prodex\, s’inquiète du déclassement de son mari\, Frédéric\, informaticien chez Sodecom\, obligé de sortir les poubelles de l’entreprise en pleine restructuration. Ne risque-t-il pas de se suicider ? Voisin\, médecin\, délégué syndical\, amie\, parents s’en mêlent dans une atmosphère toujours plus absurde. \nDans la veine du Suicidé de Nikolai Erdman\, Rémi De Vos revisite dans cette comédie à la fois les mécanismes hilarants du vaudeville et la peinture grinçante de notre société du travail.
URL:https://www.auratheatreamateur.fr/evenement/casse-de-remi-de-vos/
LOCATION:France
ATTACH;FMTTYPE=:
END:VEVENT
BEGIN:VEVENT
DTSTART;TZID=UTC:20260423T114737
DTEND;TZID=UTC:20260423T114737
DTSTAMP:20260423T114737
CREATED:20260112T172413Z
LAST-MODIFIED:20260112T172413Z
UID:49589-0-0@www.auratheatreamateur.fr
SUMMARY:Cassé de Rémi De Vos
DESCRIPTION:Christine\, dépressive depuis son licenciement de chez Prodex\, s’inquiète du déclassement de son mari\, Frédéric\, informaticien chez Sodecom\, obligé de sortir les poubelles de l’entreprise en pleine restructuration. Ne risque-t-il pas de se suicider ? Voisin\, médecin\, délégué syndical\, amie\, parents s’en mêlent dans une atmosphère toujours plus absurde. \nDans la veine du Suicidé de Nikolai Erdman\, Rémi De Vos revisite dans cette comédie à la fois les mécanismes hilarants du vaudeville et la peinture grinçante de notre société du travail.
URL:https://www.auratheatreamateur.fr/evenement/casse-de-remi-de-vos/
LOCATION:France
ATTACH;FMTTYPE=:
END:VEVENT
BEGIN:VEVENT
DTSTART;TZID=UTC:20260423T114737
DTEND;TZID=UTC:20260423T114737
DTSTAMP:20260423T114737
CREATED:20260112T172413Z
LAST-MODIFIED:20260112T172413Z
UID:49589-0-0@www.auratheatreamateur.fr
SUMMARY:Cassé de Rémi De Vos
DESCRIPTION:Christine\, dépressive depuis son licenciement de chez Prodex\, s’inquiète du déclassement de son mari\, Frédéric\, informaticien chez Sodecom\, obligé de sortir les poubelles de l’entreprise en pleine restructuration. Ne risque-t-il pas de se suicider ? Voisin\, médecin\, délégué syndical\, amie\, parents s’en mêlent dans une atmosphère toujours plus absurde. \nDans la veine du Suicidé de Nikolai Erdman\, Rémi De Vos revisite dans cette comédie à la fois les mécanismes hilarants du vaudeville et la peinture grinçante de notre société du travail.
URL:https://www.auratheatreamateur.fr/evenement/casse-de-remi-de-vos/
LOCATION:France
ATTACH;FMTTYPE=:
END:VEVENT
BEGIN:VEVENT
DTSTART;TZID=UTC:20260423T114737
DTEND;TZID=UTC:20260423T114737
DTSTAMP:20260423T114737
CREATED:20260112T172413Z
LAST-MODIFIED:20260112T172413Z
UID:49589-0-0@www.auratheatreamateur.fr
SUMMARY:Cassé de Rémi De Vos
DESCRIPTION:Christine\, dépressive depuis son licenciement de chez Prodex\, s’inquiète du déclassement de son mari\, Frédéric\, informaticien chez Sodecom\, obligé de sortir les poubelles de l’entreprise en pleine restructuration. Ne risque-t-il pas de se suicider ? Voisin\, médecin\, délégué syndical\, amie\, parents s’en mêlent dans une atmosphère toujours plus absurde. \nDans la veine du Suicidé de Nikolai Erdman\, Rémi De Vos revisite dans cette comédie à la fois les mécanismes hilarants du vaudeville et la peinture grinçante de notre société du travail.
URL:https://www.auratheatreamateur.fr/evenement/casse-de-remi-de-vos/
LOCATION:France
ATTACH;FMTTYPE=:
END:VEVENT
BEGIN:VEVENT
DTSTART;TZID=UTC:20260423T114737
DTEND;TZID=UTC:20260423T114737
DTSTAMP:20260423T114737
CREATED:20260112T172413Z
LAST-MODIFIED:20260112T172413Z
UID:49589-0-0@www.auratheatreamateur.fr
SUMMARY:Cassé de Rémi De Vos
DESCRIPTION:Christine\, dépressive depuis son licenciement de chez Prodex\, s’inquiète du déclassement de son mari\, Frédéric\, informaticien chez Sodecom\, obligé de sortir les poubelles de l’entreprise en pleine restructuration. Ne risque-t-il pas de se suicider ? Voisin\, médecin\, délégué syndical\, amie\, parents s’en mêlent dans une atmosphère toujours plus absurde. \nDans la veine du Suicidé de Nikolai Erdman\, Rémi De Vos revisite dans cette comédie à la fois les mécanismes hilarants du vaudeville et la peinture grinçante de notre société du travail.
URL:https://www.auratheatreamateur.fr/evenement/casse-de-remi-de-vos/
LOCATION:France
ATTACH;FMTTYPE=:
END:VEVENT
BEGIN:VEVENT
DTSTART;TZID=UTC:20260423T114737
DTEND;TZID=UTC:20260423T114737
DTSTAMP:20260423T114737
CREATED:20260112T172413Z
LAST-MODIFIED:20260112T172413Z
UID:49589-0-0@www.auratheatreamateur.fr
SUMMARY:Cassé de Rémi De Vos
DESCRIPTION:Christine\, dépressive depuis son licenciement de chez Prodex\, s’inquiète du déclassement de son mari\, Frédéric\, informaticien chez Sodecom\, obligé de sortir les poubelles de l’entreprise en pleine restructuration. Ne risque-t-il pas de se suicider ? Voisin\, médecin\, délégué syndical\, amie\, parents s’en mêlent dans une atmosphère toujours plus absurde. \nDans la veine du Suicidé de Nikolai Erdman\, Rémi De Vos revisite dans cette comédie à la fois les mécanismes hilarants du vaudeville et la peinture grinçante de notre société du travail.
URL:https://www.auratheatreamateur.fr/evenement/casse-de-remi-de-vos/
LOCATION:France
ATTACH;FMTTYPE=:
END:VEVENT
END:VCALENDAR