BEGIN:VCALENDAR
VERSION:2.0
PRODID:-//FNCTA - Auvergne-Rhône-Alpes - ECPv6.2.9//NONSGML v1.0//EN
CALSCALE:GREGORIAN
METHOD:PUBLISH
X-ORIGINAL-URL:https://www.auratheatreamateur.fr
X-WR-CALDESC:évènements pour FNCTA - Auvergne-Rhône-Alpes
REFRESH-INTERVAL;VALUE=DURATION:PT1H
X-Robots-Tag:noindex
X-PUBLISHED-TTL:PT1H
BEGIN:VTIMEZONE
TZID:UTC
BEGIN:STANDARD
TZOFFSETFROM:+0000
TZOFFSETTO:+0000
TZNAME:UTC
DTSTART:20250101T000000
END:STANDARD
END:VTIMEZONE
BEGIN:VEVENT
DTSTART;TZID=UTC:20250309T150000
DTEND;TZID=UTC:20250309T173000
DTSTAMP:20260424T131745
CREATED:20250226T091814Z
LAST-MODIFIED:20250226T092642Z
UID:10001077-1741532400-1741541400@www.auratheatreamateur.fr
SUMMARY:Sacré Fernand ! - Les Gais Lurons
DESCRIPTION:Sacré Fernand raconte l’histoire d’un quinquagénaire un peu “particulier”\, qui vit à la ferme familiale avec une mère autoritaire et très économe. Son rêve ? Trouver une femme robuste\, travailleuse\, bien élevée\, et capable de donner des enfants. Mais Fernand n’est pas un cadeau… Et même Sainte Rita\, patronne des causes perdues\, pourrait bien renoncer !
URL:https://www.auratheatreamateur.fr/evenement/sacre-fernand-les-gais-lurons/2025-03-09/
LOCATION:France
ATTACH;FMTTYPE=:
END:VEVENT
BEGIN:VEVENT
DTSTART;TZID=UTC:20250309T150000
DTEND;TZID=UTC:20250309T173000
DTSTAMP:20260424T131745
CREATED:20250226T091814Z
LAST-MODIFIED:20250226T092642Z
UID:10001077-1741532400-1741541400@www.auratheatreamateur.fr
SUMMARY:Sacré Fernand ! - Les Gais Lurons
DESCRIPTION:Sacré Fernand raconte l’histoire d’un quinquagénaire un peu “particulier”\, qui vit à la ferme familiale avec une mère autoritaire et très économe. Son rêve ? Trouver une femme robuste\, travailleuse\, bien élevée\, et capable de donner des enfants. Mais Fernand n’est pas un cadeau… Et même Sainte Rita\, patronne des causes perdues\, pourrait bien renoncer !
URL:https://www.auratheatreamateur.fr/evenement/sacre-fernand-les-gais-lurons/2025-03-09/
LOCATION:France
ATTACH;FMTTYPE=:
END:VEVENT
BEGIN:VEVENT
DTSTART;TZID=UTC:20250309T150000
DTEND;TZID=UTC:20250309T173000
DTSTAMP:20260424T131745
CREATED:20250226T091814Z
LAST-MODIFIED:20250226T092642Z
UID:10001077-1741532400-1741541400@www.auratheatreamateur.fr
SUMMARY:Sacré Fernand ! - Les Gais Lurons
DESCRIPTION:Sacré Fernand raconte l’histoire d’un quinquagénaire un peu “particulier”\, qui vit à la ferme familiale avec une mère autoritaire et très économe. Son rêve ? Trouver une femme robuste\, travailleuse\, bien élevée\, et capable de donner des enfants. Mais Fernand n’est pas un cadeau… Et même Sainte Rita\, patronne des causes perdues\, pourrait bien renoncer !
URL:https://www.auratheatreamateur.fr/evenement/sacre-fernand-les-gais-lurons/2025-03-09/
LOCATION:France
ATTACH;FMTTYPE=:
END:VEVENT
BEGIN:VEVENT
DTSTART;TZID=UTC:20250309T150000
DTEND;TZID=UTC:20250309T173000
DTSTAMP:20260424T131745
CREATED:20250226T091814Z
LAST-MODIFIED:20250226T092642Z
UID:10001077-1741532400-1741541400@www.auratheatreamateur.fr
SUMMARY:Sacré Fernand ! - Les Gais Lurons
DESCRIPTION:Sacré Fernand raconte l’histoire d’un quinquagénaire un peu “particulier”\, qui vit à la ferme familiale avec une mère autoritaire et très économe. Son rêve ? Trouver une femme robuste\, travailleuse\, bien élevée\, et capable de donner des enfants. Mais Fernand n’est pas un cadeau… Et même Sainte Rita\, patronne des causes perdues\, pourrait bien renoncer !
URL:https://www.auratheatreamateur.fr/evenement/sacre-fernand-les-gais-lurons/2025-03-09/
LOCATION:France
ATTACH;FMTTYPE=:
END:VEVENT
BEGIN:VEVENT
DTSTART;TZID=UTC:20250309T150000
DTEND;TZID=UTC:20250309T173000
DTSTAMP:20260424T131745
CREATED:20250226T091814Z
LAST-MODIFIED:20250226T092642Z
UID:10001077-1741532400-1741541400@www.auratheatreamateur.fr
SUMMARY:Sacré Fernand ! - Les Gais Lurons
DESCRIPTION:Sacré Fernand raconte l’histoire d’un quinquagénaire un peu “particulier”\, qui vit à la ferme familiale avec une mère autoritaire et très économe. Son rêve ? Trouver une femme robuste\, travailleuse\, bien élevée\, et capable de donner des enfants. Mais Fernand n’est pas un cadeau… Et même Sainte Rita\, patronne des causes perdues\, pourrait bien renoncer !
URL:https://www.auratheatreamateur.fr/evenement/sacre-fernand-les-gais-lurons/2025-03-09/
LOCATION:France
ATTACH;FMTTYPE=:
END:VEVENT
BEGIN:VEVENT
DTSTART;TZID=UTC:20250309T150000
DTEND;TZID=UTC:20250309T173000
DTSTAMP:20260424T131745
CREATED:20250226T091814Z
LAST-MODIFIED:20250226T092642Z
UID:10001077-1741532400-1741541400@www.auratheatreamateur.fr
SUMMARY:Sacré Fernand ! - Les Gais Lurons
DESCRIPTION:Sacré Fernand raconte l’histoire d’un quinquagénaire un peu “particulier”\, qui vit à la ferme familiale avec une mère autoritaire et très économe. Son rêve ? Trouver une femme robuste\, travailleuse\, bien élevée\, et capable de donner des enfants. Mais Fernand n’est pas un cadeau… Et même Sainte Rita\, patronne des causes perdues\, pourrait bien renoncer !
URL:https://www.auratheatreamateur.fr/evenement/sacre-fernand-les-gais-lurons/2025-03-09/
LOCATION:France
ATTACH;FMTTYPE=:
END:VEVENT
BEGIN:VEVENT
DTSTART;TZID=UTC:20250309T150000
DTEND;TZID=UTC:20250309T173000
DTSTAMP:20260424T131745
CREATED:20250226T091814Z
LAST-MODIFIED:20250226T092642Z
UID:10001077-1741532400-1741541400@www.auratheatreamateur.fr
SUMMARY:Sacré Fernand ! - Les Gais Lurons
DESCRIPTION:Sacré Fernand raconte l’histoire d’un quinquagénaire un peu “particulier”\, qui vit à la ferme familiale avec une mère autoritaire et très économe. Son rêve ? Trouver une femme robuste\, travailleuse\, bien élevée\, et capable de donner des enfants. Mais Fernand n’est pas un cadeau… Et même Sainte Rita\, patronne des causes perdues\, pourrait bien renoncer !
URL:https://www.auratheatreamateur.fr/evenement/sacre-fernand-les-gais-lurons/2025-03-09/
LOCATION:France
ATTACH;FMTTYPE=:
END:VEVENT
BEGIN:VEVENT
DTSTART;TZID=UTC:20250309T150000
DTEND;TZID=UTC:20250309T173000
DTSTAMP:20260424T131745
CREATED:20250226T091814Z
LAST-MODIFIED:20250226T092642Z
UID:10001077-1741532400-1741541400@www.auratheatreamateur.fr
SUMMARY:Sacré Fernand ! - Les Gais Lurons
DESCRIPTION:Sacré Fernand raconte l’histoire d’un quinquagénaire un peu “particulier”\, qui vit à la ferme familiale avec une mère autoritaire et très économe. Son rêve ? Trouver une femme robuste\, travailleuse\, bien élevée\, et capable de donner des enfants. Mais Fernand n’est pas un cadeau… Et même Sainte Rita\, patronne des causes perdues\, pourrait bien renoncer !
URL:https://www.auratheatreamateur.fr/evenement/sacre-fernand-les-gais-lurons/2025-03-09/
LOCATION:France
ATTACH;FMTTYPE=:
END:VEVENT
BEGIN:VEVENT
DTSTART;TZID=UTC:20250309T150000
DTEND;TZID=UTC:20250309T173000
DTSTAMP:20260424T131745
CREATED:20250226T091814Z
LAST-MODIFIED:20250226T092642Z
UID:10001077-1741532400-1741541400@www.auratheatreamateur.fr
SUMMARY:Sacré Fernand ! - Les Gais Lurons
DESCRIPTION:Sacré Fernand raconte l’histoire d’un quinquagénaire un peu “particulier”\, qui vit à la ferme familiale avec une mère autoritaire et très économe. Son rêve ? Trouver une femme robuste\, travailleuse\, bien élevée\, et capable de donner des enfants. Mais Fernand n’est pas un cadeau… Et même Sainte Rita\, patronne des causes perdues\, pourrait bien renoncer !
URL:https://www.auratheatreamateur.fr/evenement/sacre-fernand-les-gais-lurons/2025-03-09/
LOCATION:France
ATTACH;FMTTYPE=:
END:VEVENT
BEGIN:VEVENT
DTSTART;TZID=UTC:20250309T150000
DTEND;TZID=UTC:20250309T173000
DTSTAMP:20260424T131745
CREATED:20250226T091814Z
LAST-MODIFIED:20250226T092642Z
UID:10001077-1741532400-1741541400@www.auratheatreamateur.fr
SUMMARY:Sacré Fernand ! - Les Gais Lurons
DESCRIPTION:Sacré Fernand raconte l’histoire d’un quinquagénaire un peu “particulier”\, qui vit à la ferme familiale avec une mère autoritaire et très économe. Son rêve ? Trouver une femme robuste\, travailleuse\, bien élevée\, et capable de donner des enfants. Mais Fernand n’est pas un cadeau… Et même Sainte Rita\, patronne des causes perdues\, pourrait bien renoncer !
URL:https://www.auratheatreamateur.fr/evenement/sacre-fernand-les-gais-lurons/2025-03-09/
LOCATION:France
ATTACH;FMTTYPE=:
END:VEVENT
BEGIN:VEVENT
DTSTART;TZID=UTC:20250309T150000
DTEND;TZID=UTC:20250309T173000
DTSTAMP:20260424T131745
CREATED:20250226T091814Z
LAST-MODIFIED:20250226T092642Z
UID:10001077-1741532400-1741541400@www.auratheatreamateur.fr
SUMMARY:Sacré Fernand ! - Les Gais Lurons
DESCRIPTION:Sacré Fernand raconte l’histoire d’un quinquagénaire un peu “particulier”\, qui vit à la ferme familiale avec une mère autoritaire et très économe. Son rêve ? Trouver une femme robuste\, travailleuse\, bien élevée\, et capable de donner des enfants. Mais Fernand n’est pas un cadeau… Et même Sainte Rita\, patronne des causes perdues\, pourrait bien renoncer !
URL:https://www.auratheatreamateur.fr/evenement/sacre-fernand-les-gais-lurons/2025-03-09/
LOCATION:France
ATTACH;FMTTYPE=:
END:VEVENT
BEGIN:VEVENT
DTSTART;TZID=UTC:20250309T150000
DTEND;TZID=UTC:20250309T173000
DTSTAMP:20260424T131745
CREATED:20250226T091814Z
LAST-MODIFIED:20250226T092642Z
UID:10001077-1741532400-1741541400@www.auratheatreamateur.fr
SUMMARY:Sacré Fernand ! - Les Gais Lurons
DESCRIPTION:Sacré Fernand raconte l’histoire d’un quinquagénaire un peu “particulier”\, qui vit à la ferme familiale avec une mère autoritaire et très économe. Son rêve ? Trouver une femme robuste\, travailleuse\, bien élevée\, et capable de donner des enfants. Mais Fernand n’est pas un cadeau… Et même Sainte Rita\, patronne des causes perdues\, pourrait bien renoncer !
URL:https://www.auratheatreamateur.fr/evenement/sacre-fernand-les-gais-lurons/2025-03-09/
LOCATION:France
ATTACH;FMTTYPE=:
END:VEVENT
BEGIN:VEVENT
DTSTART;TZID=UTC:20250309T150000
DTEND;TZID=UTC:20250309T173000
DTSTAMP:20260424T131745
CREATED:20250226T091814Z
LAST-MODIFIED:20250226T092642Z
UID:10001077-1741532400-1741541400@www.auratheatreamateur.fr
SUMMARY:Sacré Fernand ! - Les Gais Lurons
DESCRIPTION:Sacré Fernand raconte l’histoire d’un quinquagénaire un peu “particulier”\, qui vit à la ferme familiale avec une mère autoritaire et très économe. Son rêve ? Trouver une femme robuste\, travailleuse\, bien élevée\, et capable de donner des enfants. Mais Fernand n’est pas un cadeau… Et même Sainte Rita\, patronne des causes perdues\, pourrait bien renoncer !
URL:https://www.auratheatreamateur.fr/evenement/sacre-fernand-les-gais-lurons/2025-03-09/
LOCATION:France
ATTACH;FMTTYPE=:
END:VEVENT
BEGIN:VEVENT
DTSTART;TZID=UTC:20250309T150000
DTEND;TZID=UTC:20250309T173000
DTSTAMP:20260424T131745
CREATED:20250226T091814Z
LAST-MODIFIED:20250226T092642Z
UID:10001077-1741532400-1741541400@www.auratheatreamateur.fr
SUMMARY:Sacré Fernand ! - Les Gais Lurons
DESCRIPTION:Sacré Fernand raconte l’histoire d’un quinquagénaire un peu “particulier”\, qui vit à la ferme familiale avec une mère autoritaire et très économe. Son rêve ? Trouver une femme robuste\, travailleuse\, bien élevée\, et capable de donner des enfants. Mais Fernand n’est pas un cadeau… Et même Sainte Rita\, patronne des causes perdues\, pourrait bien renoncer !
URL:https://www.auratheatreamateur.fr/evenement/sacre-fernand-les-gais-lurons/2025-03-09/
LOCATION:France
ATTACH;FMTTYPE=:
END:VEVENT
BEGIN:VEVENT
DTSTART;TZID=UTC:20250309T150000
DTEND;TZID=UTC:20250309T173000
DTSTAMP:20260424T131745
CREATED:20250226T091814Z
LAST-MODIFIED:20250226T092642Z
UID:10001077-1741532400-1741541400@www.auratheatreamateur.fr
SUMMARY:Sacré Fernand ! - Les Gais Lurons
DESCRIPTION:Sacré Fernand raconte l’histoire d’un quinquagénaire un peu “particulier”\, qui vit à la ferme familiale avec une mère autoritaire et très économe. Son rêve ? Trouver une femme robuste\, travailleuse\, bien élevée\, et capable de donner des enfants. Mais Fernand n’est pas un cadeau… Et même Sainte Rita\, patronne des causes perdues\, pourrait bien renoncer !
URL:https://www.auratheatreamateur.fr/evenement/sacre-fernand-les-gais-lurons/2025-03-09/
LOCATION:France
ATTACH;FMTTYPE=:
END:VEVENT
BEGIN:VEVENT
DTSTART;TZID=UTC:20250309T150000
DTEND;TZID=UTC:20250309T173000
DTSTAMP:20260424T131745
CREATED:20250226T091814Z
LAST-MODIFIED:20250226T092642Z
UID:10001077-1741532400-1741541400@www.auratheatreamateur.fr
SUMMARY:Sacré Fernand ! - Les Gais Lurons
DESCRIPTION:Sacré Fernand raconte l’histoire d’un quinquagénaire un peu “particulier”\, qui vit à la ferme familiale avec une mère autoritaire et très économe. Son rêve ? Trouver une femme robuste\, travailleuse\, bien élevée\, et capable de donner des enfants. Mais Fernand n’est pas un cadeau… Et même Sainte Rita\, patronne des causes perdues\, pourrait bien renoncer !
URL:https://www.auratheatreamateur.fr/evenement/sacre-fernand-les-gais-lurons/2025-03-09/
LOCATION:France
ATTACH;FMTTYPE=:
END:VEVENT
BEGIN:VEVENT
DTSTART;TZID=UTC:20250309T150000
DTEND;TZID=UTC:20250309T173000
DTSTAMP:20260424T131745
CREATED:20250226T091814Z
LAST-MODIFIED:20250226T092642Z
UID:10001077-1741532400-1741541400@www.auratheatreamateur.fr
SUMMARY:Sacré Fernand ! - Les Gais Lurons
DESCRIPTION:Sacré Fernand raconte l’histoire d’un quinquagénaire un peu “particulier”\, qui vit à la ferme familiale avec une mère autoritaire et très économe. Son rêve ? Trouver une femme robuste\, travailleuse\, bien élevée\, et capable de donner des enfants. Mais Fernand n’est pas un cadeau… Et même Sainte Rita\, patronne des causes perdues\, pourrait bien renoncer !
URL:https://www.auratheatreamateur.fr/evenement/sacre-fernand-les-gais-lurons/2025-03-09/
LOCATION:France
ATTACH;FMTTYPE=:
END:VEVENT
BEGIN:VEVENT
DTSTART;TZID=UTC:20250309T150000
DTEND;TZID=UTC:20250309T173000
DTSTAMP:20260424T131745
CREATED:20250226T091814Z
LAST-MODIFIED:20250226T092642Z
UID:10001077-1741532400-1741541400@www.auratheatreamateur.fr
SUMMARY:Sacré Fernand ! - Les Gais Lurons
DESCRIPTION:Sacré Fernand raconte l’histoire d’un quinquagénaire un peu “particulier”\, qui vit à la ferme familiale avec une mère autoritaire et très économe. Son rêve ? Trouver une femme robuste\, travailleuse\, bien élevée\, et capable de donner des enfants. Mais Fernand n’est pas un cadeau… Et même Sainte Rita\, patronne des causes perdues\, pourrait bien renoncer !
URL:https://www.auratheatreamateur.fr/evenement/sacre-fernand-les-gais-lurons/2025-03-09/
LOCATION:France
ATTACH;FMTTYPE=:
END:VEVENT
BEGIN:VEVENT
DTSTART;TZID=UTC:20250309T150000
DTEND;TZID=UTC:20250309T173000
DTSTAMP:20260424T131745
CREATED:20250226T091814Z
LAST-MODIFIED:20250226T092642Z
UID:10001077-1741532400-1741541400@www.auratheatreamateur.fr
SUMMARY:Sacré Fernand ! - Les Gais Lurons
DESCRIPTION:Sacré Fernand raconte l’histoire d’un quinquagénaire un peu “particulier”\, qui vit à la ferme familiale avec une mère autoritaire et très économe. Son rêve ? Trouver une femme robuste\, travailleuse\, bien élevée\, et capable de donner des enfants. Mais Fernand n’est pas un cadeau… Et même Sainte Rita\, patronne des causes perdues\, pourrait bien renoncer !
URL:https://www.auratheatreamateur.fr/evenement/sacre-fernand-les-gais-lurons/2025-03-09/
LOCATION:France
ATTACH;FMTTYPE=:
END:VEVENT
BEGIN:VEVENT
DTSTART;TZID=UTC:20250309T150000
DTEND;TZID=UTC:20250309T173000
DTSTAMP:20260424T131745
CREATED:20250226T091814Z
LAST-MODIFIED:20250226T092642Z
UID:10001077-1741532400-1741541400@www.auratheatreamateur.fr
SUMMARY:Sacré Fernand ! - Les Gais Lurons
DESCRIPTION:Sacré Fernand raconte l’histoire d’un quinquagénaire un peu “particulier”\, qui vit à la ferme familiale avec une mère autoritaire et très économe. Son rêve ? Trouver une femme robuste\, travailleuse\, bien élevée\, et capable de donner des enfants. Mais Fernand n’est pas un cadeau… Et même Sainte Rita\, patronne des causes perdues\, pourrait bien renoncer !
URL:https://www.auratheatreamateur.fr/evenement/sacre-fernand-les-gais-lurons/2025-03-09/
LOCATION:France
ATTACH;FMTTYPE=:
END:VEVENT
BEGIN:VEVENT
DTSTART;TZID=UTC:20250309T150000
DTEND;TZID=UTC:20250309T173000
DTSTAMP:20260424T131745
CREATED:20250226T091814Z
LAST-MODIFIED:20250226T092642Z
UID:10001077-1741532400-1741541400@www.auratheatreamateur.fr
SUMMARY:Sacré Fernand ! - Les Gais Lurons
DESCRIPTION:Sacré Fernand raconte l’histoire d’un quinquagénaire un peu “particulier”\, qui vit à la ferme familiale avec une mère autoritaire et très économe. Son rêve ? Trouver une femme robuste\, travailleuse\, bien élevée\, et capable de donner des enfants. Mais Fernand n’est pas un cadeau… Et même Sainte Rita\, patronne des causes perdues\, pourrait bien renoncer !
URL:https://www.auratheatreamateur.fr/evenement/sacre-fernand-les-gais-lurons/2025-03-09/
LOCATION:France
ATTACH;FMTTYPE=:
END:VEVENT
BEGIN:VEVENT
DTSTART;TZID=UTC:20250309T150000
DTEND;TZID=UTC:20250309T173000
DTSTAMP:20260424T131745
CREATED:20250226T091814Z
LAST-MODIFIED:20250226T092642Z
UID:10001077-1741532400-1741541400@www.auratheatreamateur.fr
SUMMARY:Sacré Fernand ! - Les Gais Lurons
DESCRIPTION:Sacré Fernand raconte l’histoire d’un quinquagénaire un peu “particulier”\, qui vit à la ferme familiale avec une mère autoritaire et très économe. Son rêve ? Trouver une femme robuste\, travailleuse\, bien élevée\, et capable de donner des enfants. Mais Fernand n’est pas un cadeau… Et même Sainte Rita\, patronne des causes perdues\, pourrait bien renoncer !
URL:https://www.auratheatreamateur.fr/evenement/sacre-fernand-les-gais-lurons/2025-03-09/
LOCATION:France
ATTACH;FMTTYPE=:
END:VEVENT
BEGIN:VEVENT
DTSTART;TZID=UTC:20250309T150000
DTEND;TZID=UTC:20250309T173000
DTSTAMP:20260424T131745
CREATED:20250226T091814Z
LAST-MODIFIED:20250226T092642Z
UID:10001077-1741532400-1741541400@www.auratheatreamateur.fr
SUMMARY:Sacré Fernand ! - Les Gais Lurons
DESCRIPTION:Sacré Fernand raconte l’histoire d’un quinquagénaire un peu “particulier”\, qui vit à la ferme familiale avec une mère autoritaire et très économe. Son rêve ? Trouver une femme robuste\, travailleuse\, bien élevée\, et capable de donner des enfants. Mais Fernand n’est pas un cadeau… Et même Sainte Rita\, patronne des causes perdues\, pourrait bien renoncer !
URL:https://www.auratheatreamateur.fr/evenement/sacre-fernand-les-gais-lurons/2025-03-09/
LOCATION:France
ATTACH;FMTTYPE=:
END:VEVENT
BEGIN:VEVENT
DTSTART;TZID=UTC:20250309T150000
DTEND;TZID=UTC:20250309T173000
DTSTAMP:20260424T131745
CREATED:20250226T091814Z
LAST-MODIFIED:20250226T092642Z
UID:10001077-1741532400-1741541400@www.auratheatreamateur.fr
SUMMARY:Sacré Fernand ! - Les Gais Lurons
DESCRIPTION:Sacré Fernand raconte l’histoire d’un quinquagénaire un peu “particulier”\, qui vit à la ferme familiale avec une mère autoritaire et très économe. Son rêve ? Trouver une femme robuste\, travailleuse\, bien élevée\, et capable de donner des enfants. Mais Fernand n’est pas un cadeau… Et même Sainte Rita\, patronne des causes perdues\, pourrait bien renoncer !
URL:https://www.auratheatreamateur.fr/evenement/sacre-fernand-les-gais-lurons/2025-03-09/
LOCATION:France
ATTACH;FMTTYPE=:
END:VEVENT
BEGIN:VEVENT
DTSTART;TZID=UTC:20250309T150000
DTEND;TZID=UTC:20250309T173000
DTSTAMP:20260424T131745
CREATED:20250226T091814Z
LAST-MODIFIED:20250226T092642Z
UID:10001077-1741532400-1741541400@www.auratheatreamateur.fr
SUMMARY:Sacré Fernand ! - Les Gais Lurons
DESCRIPTION:Sacré Fernand raconte l’histoire d’un quinquagénaire un peu “particulier”\, qui vit à la ferme familiale avec une mère autoritaire et très économe. Son rêve ? Trouver une femme robuste\, travailleuse\, bien élevée\, et capable de donner des enfants. Mais Fernand n’est pas un cadeau… Et même Sainte Rita\, patronne des causes perdues\, pourrait bien renoncer !
URL:https://www.auratheatreamateur.fr/evenement/sacre-fernand-les-gais-lurons/2025-03-09/
LOCATION:France
ATTACH;FMTTYPE=:
END:VEVENT
BEGIN:VEVENT
DTSTART;TZID=UTC:20250309T150000
DTEND;TZID=UTC:20250309T173000
DTSTAMP:20260424T131745
CREATED:20250226T091814Z
LAST-MODIFIED:20250226T092642Z
UID:10001077-1741532400-1741541400@www.auratheatreamateur.fr
SUMMARY:Sacré Fernand ! - Les Gais Lurons
DESCRIPTION:Sacré Fernand raconte l’histoire d’un quinquagénaire un peu “particulier”\, qui vit à la ferme familiale avec une mère autoritaire et très économe. Son rêve ? Trouver une femme robuste\, travailleuse\, bien élevée\, et capable de donner des enfants. Mais Fernand n’est pas un cadeau… Et même Sainte Rita\, patronne des causes perdues\, pourrait bien renoncer !
URL:https://www.auratheatreamateur.fr/evenement/sacre-fernand-les-gais-lurons/2025-03-09/
LOCATION:France
ATTACH;FMTTYPE=:
END:VEVENT
BEGIN:VEVENT
DTSTART;TZID=UTC:20250309T150000
DTEND;TZID=UTC:20250309T173000
DTSTAMP:20260424T131745
CREATED:20250226T091814Z
LAST-MODIFIED:20250226T092642Z
UID:10001077-1741532400-1741541400@www.auratheatreamateur.fr
SUMMARY:Sacré Fernand ! - Les Gais Lurons
DESCRIPTION:Sacré Fernand raconte l’histoire d’un quinquagénaire un peu “particulier”\, qui vit à la ferme familiale avec une mère autoritaire et très économe. Son rêve ? Trouver une femme robuste\, travailleuse\, bien élevée\, et capable de donner des enfants. Mais Fernand n’est pas un cadeau… Et même Sainte Rita\, patronne des causes perdues\, pourrait bien renoncer !
URL:https://www.auratheatreamateur.fr/evenement/sacre-fernand-les-gais-lurons/2025-03-09/
LOCATION:France
ATTACH;FMTTYPE=:
END:VEVENT
BEGIN:VEVENT
DTSTART;TZID=UTC:20250309T150000
DTEND;TZID=UTC:20250309T173000
DTSTAMP:20260424T131745
CREATED:20250226T091814Z
LAST-MODIFIED:20250226T092642Z
UID:10001077-1741532400-1741541400@www.auratheatreamateur.fr
SUMMARY:Sacré Fernand ! - Les Gais Lurons
DESCRIPTION:Sacré Fernand raconte l’histoire d’un quinquagénaire un peu “particulier”\, qui vit à la ferme familiale avec une mère autoritaire et très économe. Son rêve ? Trouver une femme robuste\, travailleuse\, bien élevée\, et capable de donner des enfants. Mais Fernand n’est pas un cadeau… Et même Sainte Rita\, patronne des causes perdues\, pourrait bien renoncer !
URL:https://www.auratheatreamateur.fr/evenement/sacre-fernand-les-gais-lurons/2025-03-09/
LOCATION:France
ATTACH;FMTTYPE=:
END:VEVENT
BEGIN:VEVENT
DTSTART;TZID=UTC:20250309T150000
DTEND;TZID=UTC:20250309T173000
DTSTAMP:20260424T131745
CREATED:20250226T091814Z
LAST-MODIFIED:20250226T092642Z
UID:10001077-1741532400-1741541400@www.auratheatreamateur.fr
SUMMARY:Sacré Fernand ! - Les Gais Lurons
DESCRIPTION:Sacré Fernand raconte l’histoire d’un quinquagénaire un peu “particulier”\, qui vit à la ferme familiale avec une mère autoritaire et très économe. Son rêve ? Trouver une femme robuste\, travailleuse\, bien élevée\, et capable de donner des enfants. Mais Fernand n’est pas un cadeau… Et même Sainte Rita\, patronne des causes perdues\, pourrait bien renoncer !
URL:https://www.auratheatreamateur.fr/evenement/sacre-fernand-les-gais-lurons/2025-03-09/
LOCATION:France
ATTACH;FMTTYPE=:
END:VEVENT
BEGIN:VEVENT
DTSTART;TZID=UTC:20250309T150000
DTEND;TZID=UTC:20250309T173000
DTSTAMP:20260424T131745
CREATED:20250226T091814Z
LAST-MODIFIED:20250226T092642Z
UID:10001077-1741532400-1741541400@www.auratheatreamateur.fr
SUMMARY:Sacré Fernand ! - Les Gais Lurons
DESCRIPTION:Sacré Fernand raconte l’histoire d’un quinquagénaire un peu “particulier”\, qui vit à la ferme familiale avec une mère autoritaire et très économe. Son rêve ? Trouver une femme robuste\, travailleuse\, bien élevée\, et capable de donner des enfants. Mais Fernand n’est pas un cadeau… Et même Sainte Rita\, patronne des causes perdues\, pourrait bien renoncer !
URL:https://www.auratheatreamateur.fr/evenement/sacre-fernand-les-gais-lurons/2025-03-09/
LOCATION:France
ATTACH;FMTTYPE=:
END:VEVENT
END:VCALENDAR