BEGIN:VCALENDAR
VERSION:2.0
PRODID:-//FNCTA - Auvergne-Rhône-Alpes - ECPv6.2.9//NONSGML v1.0//EN
CALSCALE:GREGORIAN
METHOD:PUBLISH
X-ORIGINAL-URL:https://www.auratheatreamateur.fr
X-WR-CALDESC:évènements pour FNCTA - Auvergne-Rhône-Alpes
REFRESH-INTERVAL;VALUE=DURATION:PT1H
X-Robots-Tag:noindex
X-PUBLISHED-TTL:PT1H
BEGIN:VTIMEZONE
TZID:UTC
BEGIN:STANDARD
TZOFFSETFROM:+0000
TZOFFSETTO:+0000
TZNAME:UTC
DTSTART:20260101T000000
END:STANDARD
END:VTIMEZONE
BEGIN:VEVENT
DTSTART;TZID=UTC:20260903T203000
DTEND;TZID=UTC:20260903T220000
DTSTAMP:20260425T143720
CREATED:20260226T115750Z
LAST-MODIFIED:20260226T115750Z
UID:10001395-1788467400-1788472800@www.auratheatreamateur.fr
SUMMARY:Compte
DESCRIPTION:Cette page est restreinte. Veuillez Connexion  pour afficher cette page.
URL:https://www.auratheatreamateur.fr/evenement/compte-10/2026-09-03/
LOCATION:ACTE 2 THEATRE\, 32 bis quai Arloing\, Lyon\, 69009
ATTACH;FMTTYPE=image/jpeg:https://www.auratheatreamateur.fr/wp-content/uploads/2026/02/FB_IMG_17718227161731.jpg
END:VEVENT
BEGIN:VEVENT
DTSTART;TZID=UTC:20260904T203000
DTEND;TZID=UTC:20260904T220000
DTSTAMP:20260425T143720
CREATED:20260226T115750Z
LAST-MODIFIED:20260226T115750Z
UID:10001396-1788553800-1788559200@www.auratheatreamateur.fr
SUMMARY:Compte
DESCRIPTION:Cette page est restreinte. Veuillez Connexion  pour afficher cette page.
URL:https://www.auratheatreamateur.fr/evenement/compte-10/2026-09-04/
LOCATION:ACTE 2 THEATRE\, 32 bis quai Arloing\, Lyon\, 69009
ATTACH;FMTTYPE=image/jpeg:https://www.auratheatreamateur.fr/wp-content/uploads/2026/02/FB_IMG_17718227161731.jpg
END:VEVENT
BEGIN:VEVENT
DTSTART;TZID=UTC:20260910T203000
DTEND;TZID=UTC:20260910T220000
DTSTAMP:20260425T143720
CREATED:20260226T115750Z
LAST-MODIFIED:20260226T115750Z
UID:10001397-1789072200-1789077600@www.auratheatreamateur.fr
SUMMARY:Compte
DESCRIPTION:Cette page est restreinte. Veuillez Connexion  pour afficher cette page.
URL:https://www.auratheatreamateur.fr/evenement/compte-10/2026-09-10/
LOCATION:ACTE 2 THEATRE\, 32 bis quai Arloing\, Lyon\, 69009
ATTACH;FMTTYPE=image/jpeg:https://www.auratheatreamateur.fr/wp-content/uploads/2026/02/FB_IMG_17718227161731.jpg
END:VEVENT
BEGIN:VEVENT
DTSTART;TZID=UTC:20260911T203000
DTEND;TZID=UTC:20260911T220000
DTSTAMP:20260425T143720
CREATED:20260226T115750Z
LAST-MODIFIED:20260226T115750Z
UID:10001398-1789158600-1789164000@www.auratheatreamateur.fr
SUMMARY:Compte
DESCRIPTION:Cette page est restreinte. Veuillez Connexion  pour afficher cette page.
URL:https://www.auratheatreamateur.fr/evenement/compte-10/2026-09-11/
LOCATION:ACTE 2 THEATRE\, 32 bis quai Arloing\, Lyon\, 69009
ATTACH;FMTTYPE=image/jpeg:https://www.auratheatreamateur.fr/wp-content/uploads/2026/02/FB_IMG_17718227161731.jpg
END:VEVENT
BEGIN:VEVENT
DTSTART;TZID=UTC:20260917T203000
DTEND;TZID=UTC:20260917T220000
DTSTAMP:20260425T143720
CREATED:20260226T115750Z
LAST-MODIFIED:20260226T115750Z
UID:10001399-1789677000-1789682400@www.auratheatreamateur.fr
SUMMARY:Compte
DESCRIPTION:Cette page est restreinte. Veuillez Connexion  pour afficher cette page.
URL:https://www.auratheatreamateur.fr/evenement/compte-10/2026-09-17/
LOCATION:ACTE 2 THEATRE\, 32 bis quai Arloing\, Lyon\, 69009
ATTACH;FMTTYPE=image/jpeg:https://www.auratheatreamateur.fr/wp-content/uploads/2026/02/FB_IMG_17718227161731.jpg
END:VEVENT
BEGIN:VEVENT
DTSTART;TZID=UTC:20260918T203000
DTEND;TZID=UTC:20260918T220000
DTSTAMP:20260425T143720
CREATED:20260226T115750Z
LAST-MODIFIED:20260226T115750Z
UID:10001400-1789763400-1789768800@www.auratheatreamateur.fr
SUMMARY:Compte
DESCRIPTION:Cette page est restreinte. Veuillez Connexion  pour afficher cette page.
URL:https://www.auratheatreamateur.fr/evenement/compte-10/2026-09-18/
LOCATION:ACTE 2 THEATRE\, 32 bis quai Arloing\, Lyon\, 69009
ATTACH;FMTTYPE=image/jpeg:https://www.auratheatreamateur.fr/wp-content/uploads/2026/02/FB_IMG_17718227161731.jpg
END:VEVENT
BEGIN:VEVENT
DTSTART;VALUE=DATE:20260924
DTEND;VALUE=DATE:20260928
DTSTAMP:20260425T143720
CREATED:20251208T131043Z
LAST-MODIFIED:20251208T131043Z
UID:10001238-1790208000-1790553599@www.auratheatreamateur.fr
SUMMARY:10 ans du festival les vendanges de l'Oncion
DESCRIPTION:en 2026 du 24 au 27 septembre 2026 nous organisons la dixième édition de notre festival ! \nnous pouvez récupérer le dossier de candidature sur notre site : \nwww.oncion.fr \nà très bientôt \nLe comité d’organisation
URL:https://www.auratheatreamateur.fr/evenement/10-ans-du-festival-les-vendanges-de-loncion/
CATEGORIES:Savoie & Haute-Savoie
ATTACH;FMTTYPE=image/jpeg:https://www.auratheatreamateur.fr/wp-content/uploads/2025/12/affiche-2026.jpg
END:VEVENT
BEGIN:VEVENT
DTSTART;TZID=UTC:20260924T203000
DTEND;TZID=UTC:20260924T220000
DTSTAMP:20260425T143720
CREATED:20260226T115750Z
LAST-MODIFIED:20260226T115750Z
UID:10001401-1790281800-1790287200@www.auratheatreamateur.fr
SUMMARY:Compte
DESCRIPTION:Cette page est restreinte. Veuillez Connexion  pour afficher cette page.
URL:https://www.auratheatreamateur.fr/evenement/compte-10/2026-09-24/
LOCATION:ACTE 2 THEATRE\, 32 bis quai Arloing\, Lyon\, 69009
ATTACH;FMTTYPE=image/jpeg:https://www.auratheatreamateur.fr/wp-content/uploads/2026/02/FB_IMG_17718227161731.jpg
END:VEVENT
BEGIN:VEVENT
DTSTART;TZID=UTC:20260925T203000
DTEND;TZID=UTC:20260925T220000
DTSTAMP:20260425T143720
CREATED:20260226T115750Z
LAST-MODIFIED:20260226T115750Z
UID:10001402-1790368200-1790373600@www.auratheatreamateur.fr
SUMMARY:Compte
DESCRIPTION:Cette page est restreinte. Veuillez Connexion  pour afficher cette page.
URL:https://www.auratheatreamateur.fr/evenement/compte-10/2026-09-25/
LOCATION:ACTE 2 THEATRE\, 32 bis quai Arloing\, Lyon\, 69009
ATTACH;FMTTYPE=image/jpeg:https://www.auratheatreamateur.fr/wp-content/uploads/2026/02/FB_IMG_17718227161731.jpg
END:VEVENT
BEGIN:VEVENT
DTSTART;TZID=UTC:20260926T200000
DTEND;TZID=UTC:20260926T220000
DTSTAMP:20260425T143720
CREATED:20260425T090438Z
LAST-MODIFIED:20260425T090438Z
UID:10001905-1790452800-1790460000@www.auratheatreamateur.fr
SUMMARY:Au terminus des menteurs
DESCRIPTION:Profil\nMes appels à spectacle\nSoumettre un appel à spectacle\nMes évènements\nSoumettre un évènement\nFichiers partagés avec moi\nDéconnexion\n\n\n\n\n\n\n \n\nEdit Event\n\nView Your Submitted Events  \n\n			var tribe_events_pro_recurrence_data = {“rules”:[]\,”exclusions”:[]}; \nÉvènement Title: (required) \n\nÉvènement Description: (required) \n\n\nVisuel\nCode\n\n\n\nCette page est restreinte. Veuillez Connexion  pour afficher cette page.</p>
URL:https://www.auratheatreamateur.fr/evenement/au-terminus-des-menteurs-3/
LOCATION:L’Esty\, Place de la mairie\, CHAVANOD\, 74650
CATEGORIES:Savoie & Haute-Savoie
END:VEVENT
BEGIN:VEVENT
DTSTART;TZID=UTC:20260926T200000
DTEND;TZID=UTC:20260926T220000
DTSTAMP:20260425T143720
CREATED:20260425T091349Z
LAST-MODIFIED:20260425T091420Z
UID:10001907-1790452800-1790460000@www.auratheatreamateur.fr
SUMMARY:Au terminus des menteurs
DESCRIPTION:Comédie de Vivien LHERAUX \nUn homme amnésique débarque chez Maria et Pierre et oublie sa valise pleine de billets de banque.\nVouloir garder cet argent pour soi est tentant\, mais est-ce vraiment une bonne idée ? Quand la police arrive\, forcément\, ça pousse à mentir …\nLe train du mensonge transporte alors tout le monde dans un tourbillon de situations absurdes\, jusqu’à ce que tout déraille.\n\nUne comédie loufoque et déjantée où gaffes\, quiproquos et délires se donnent rendez-vous “Au terminus des menteurs” !
URL:https://www.auratheatreamateur.fr/evenement/au-terminus-des-menteurs-5/
LOCATION:L’Esty\, Place de la mairie\, Chavanod\, 74650
CATEGORIES:Savoie & Haute-Savoie
ATTACH;FMTTYPE=image/jpeg:https://www.auratheatreamateur.fr/wp-content/uploads/2026/04/Chavanod_260926-3.jpg
END:VEVENT
BEGIN:VEVENT
DTSTART;TZID=UTC:20261001T203000
DTEND;TZID=UTC:20261001T220000
DTSTAMP:20260425T143720
CREATED:20260226T115750Z
LAST-MODIFIED:20260226T115750Z
UID:10001403-1790886600-1790892000@www.auratheatreamateur.fr
SUMMARY:Compte
DESCRIPTION:Cette page est restreinte. Veuillez Connexion  pour afficher cette page.
URL:https://www.auratheatreamateur.fr/evenement/compte-10/2026-10-01/
LOCATION:ACTE 2 THEATRE\, 32 bis quai Arloing\, Lyon\, 69009
ATTACH;FMTTYPE=image/jpeg:https://www.auratheatreamateur.fr/wp-content/uploads/2026/02/FB_IMG_17718227161731.jpg
END:VEVENT
BEGIN:VEVENT
DTSTART;TZID=UTC:20261002T203000
DTEND;TZID=UTC:20261002T220000
DTSTAMP:20260425T143720
CREATED:20260226T115750Z
LAST-MODIFIED:20260226T115750Z
UID:10001404-1790973000-1790978400@www.auratheatreamateur.fr
SUMMARY:Compte
DESCRIPTION:Cette page est restreinte. Veuillez Connexion  pour afficher cette page.
URL:https://www.auratheatreamateur.fr/evenement/compte-10/2026-10-02/
LOCATION:ACTE 2 THEATRE\, 32 bis quai Arloing\, Lyon\, 69009
ATTACH;FMTTYPE=image/jpeg:https://www.auratheatreamateur.fr/wp-content/uploads/2026/02/FB_IMG_17718227161731.jpg
END:VEVENT
BEGIN:VEVENT
DTSTART;TZID=UTC:20261008T203000
DTEND;TZID=UTC:20261008T220000
DTSTAMP:20260425T143720
CREATED:20260226T115750Z
LAST-MODIFIED:20260226T115750Z
UID:10001405-1791491400-1791496800@www.auratheatreamateur.fr
SUMMARY:Compte
DESCRIPTION:Cette page est restreinte. Veuillez Connexion  pour afficher cette page.
URL:https://www.auratheatreamateur.fr/evenement/compte-10/2026-10-08/
LOCATION:ACTE 2 THEATRE\, 32 bis quai Arloing\, Lyon\, 69009
ATTACH;FMTTYPE=image/jpeg:https://www.auratheatreamateur.fr/wp-content/uploads/2026/02/FB_IMG_17718227161731.jpg
END:VEVENT
BEGIN:VEVENT
DTSTART;TZID=UTC:20261009T203000
DTEND;TZID=UTC:20261009T220000
DTSTAMP:20260425T143720
CREATED:20260226T115750Z
LAST-MODIFIED:20260226T115750Z
UID:10001406-1791577800-1791583200@www.auratheatreamateur.fr
SUMMARY:Compte
DESCRIPTION:Cette page est restreinte. Veuillez Connexion  pour afficher cette page.
URL:https://www.auratheatreamateur.fr/evenement/compte-10/2026-10-09/
LOCATION:ACTE 2 THEATRE\, 32 bis quai Arloing\, Lyon\, 69009
ATTACH;FMTTYPE=image/jpeg:https://www.auratheatreamateur.fr/wp-content/uploads/2026/02/FB_IMG_17718227161731.jpg
END:VEVENT
BEGIN:VEVENT
DTSTART;TZID=UTC:20261015T203000
DTEND;TZID=UTC:20261015T220000
DTSTAMP:20260425T143720
CREATED:20260226T115750Z
LAST-MODIFIED:20260226T115750Z
UID:10001407-1792096200-1792101600@www.auratheatreamateur.fr
SUMMARY:Compte
DESCRIPTION:Cette page est restreinte. Veuillez Connexion  pour afficher cette page.
URL:https://www.auratheatreamateur.fr/evenement/compte-10/2026-10-15/
LOCATION:ACTE 2 THEATRE\, 32 bis quai Arloing\, Lyon\, 69009
ATTACH;FMTTYPE=image/jpeg:https://www.auratheatreamateur.fr/wp-content/uploads/2026/02/FB_IMG_17718227161731.jpg
END:VEVENT
BEGIN:VEVENT
DTSTART;TZID=UTC:20261016T203000
DTEND;TZID=UTC:20261016T220000
DTSTAMP:20260425T143720
CREATED:20260226T115750Z
LAST-MODIFIED:20260226T115750Z
UID:10001408-1792182600-1792188000@www.auratheatreamateur.fr
SUMMARY:Compte
DESCRIPTION:Cette page est restreinte. Veuillez Connexion  pour afficher cette page.
URL:https://www.auratheatreamateur.fr/evenement/compte-10/2026-10-16/
LOCATION:ACTE 2 THEATRE\, 32 bis quai Arloing\, Lyon\, 69009
ATTACH;FMTTYPE=image/jpeg:https://www.auratheatreamateur.fr/wp-content/uploads/2026/02/FB_IMG_17718227161731.jpg
END:VEVENT
BEGIN:VEVENT
DTSTART;TZID=UTC:20261022T203000
DTEND;TZID=UTC:20261022T220000
DTSTAMP:20260425T143720
CREATED:20260226T115750Z
LAST-MODIFIED:20260226T115750Z
UID:10001409-1792701000-1792706400@www.auratheatreamateur.fr
SUMMARY:Compte
DESCRIPTION:Cette page est restreinte. Veuillez Connexion  pour afficher cette page.
URL:https://www.auratheatreamateur.fr/evenement/compte-10/2026-10-22/
LOCATION:ACTE 2 THEATRE\, 32 bis quai Arloing\, Lyon\, 69009
ATTACH;FMTTYPE=image/jpeg:https://www.auratheatreamateur.fr/wp-content/uploads/2026/02/FB_IMG_17718227161731.jpg
END:VEVENT
BEGIN:VEVENT
DTSTART;TZID=UTC:20261023T203000
DTEND;TZID=UTC:20261023T220000
DTSTAMP:20260425T143720
CREATED:20260226T115750Z
LAST-MODIFIED:20260226T115750Z
UID:10001410-1792787400-1792792800@www.auratheatreamateur.fr
SUMMARY:Compte
DESCRIPTION:Cette page est restreinte. Veuillez Connexion  pour afficher cette page.
URL:https://www.auratheatreamateur.fr/evenement/compte-10/2026-10-23/
LOCATION:ACTE 2 THEATRE\, 32 bis quai Arloing\, Lyon\, 69009
ATTACH;FMTTYPE=image/jpeg:https://www.auratheatreamateur.fr/wp-content/uploads/2026/02/FB_IMG_17718227161731.jpg
END:VEVENT
BEGIN:VEVENT
DTSTART;TZID=UTC:20261029T203000
DTEND;TZID=UTC:20261029T220000
DTSTAMP:20260425T143720
CREATED:20260226T115750Z
LAST-MODIFIED:20260226T115750Z
UID:10001411-1793305800-1793311200@www.auratheatreamateur.fr
SUMMARY:Compte
DESCRIPTION:Cette page est restreinte. Veuillez Connexion  pour afficher cette page.
URL:https://www.auratheatreamateur.fr/evenement/compte-10/2026-10-29/
LOCATION:ACTE 2 THEATRE\, 32 bis quai Arloing\, Lyon\, 69009
ATTACH;FMTTYPE=image/jpeg:https://www.auratheatreamateur.fr/wp-content/uploads/2026/02/FB_IMG_17718227161731.jpg
END:VEVENT
BEGIN:VEVENT
DTSTART;TZID=UTC:20261030T203000
DTEND;TZID=UTC:20261030T220000
DTSTAMP:20260425T143720
CREATED:20260226T115750Z
LAST-MODIFIED:20260226T115750Z
UID:10001412-1793392200-1793397600@www.auratheatreamateur.fr
SUMMARY:Compte
DESCRIPTION:Cette page est restreinte. Veuillez Connexion  pour afficher cette page.
URL:https://www.auratheatreamateur.fr/evenement/compte-10/2026-10-30/
LOCATION:ACTE 2 THEATRE\, 32 bis quai Arloing\, Lyon\, 69009
ATTACH;FMTTYPE=image/jpeg:https://www.auratheatreamateur.fr/wp-content/uploads/2026/02/FB_IMG_17718227161731.jpg
END:VEVENT
BEGIN:VEVENT
DTSTART;TZID=UTC:20261105T203000
DTEND;TZID=UTC:20261105T220000
DTSTAMP:20260425T143720
CREATED:20260226T115750Z
LAST-MODIFIED:20260226T115750Z
UID:10001413-1793910600-1793916000@www.auratheatreamateur.fr
SUMMARY:Compte
DESCRIPTION:Cette page est restreinte. Veuillez Connexion  pour afficher cette page.
URL:https://www.auratheatreamateur.fr/evenement/compte-10/2026-11-05/
LOCATION:ACTE 2 THEATRE\, 32 bis quai Arloing\, Lyon\, 69009
ATTACH;FMTTYPE=image/jpeg:https://www.auratheatreamateur.fr/wp-content/uploads/2026/02/FB_IMG_17718227161731.jpg
END:VEVENT
BEGIN:VEVENT
DTSTART;TZID=UTC:20261106T203000
DTEND;TZID=UTC:20261106T220000
DTSTAMP:20260425T143720
CREATED:20260226T115750Z
LAST-MODIFIED:20260226T115750Z
UID:10001414-1793997000-1794002400@www.auratheatreamateur.fr
SUMMARY:Compte
DESCRIPTION:Cette page est restreinte. Veuillez Connexion  pour afficher cette page.
URL:https://www.auratheatreamateur.fr/evenement/compte-10/2026-11-06/
LOCATION:ACTE 2 THEATRE\, 32 bis quai Arloing\, Lyon\, 69009
ATTACH;FMTTYPE=image/jpeg:https://www.auratheatreamateur.fr/wp-content/uploads/2026/02/FB_IMG_17718227161731.jpg
END:VEVENT
BEGIN:VEVENT
DTSTART;TZID=UTC:20261112T203000
DTEND;TZID=UTC:20261112T220000
DTSTAMP:20260425T143720
CREATED:20260226T115750Z
LAST-MODIFIED:20260226T115750Z
UID:10001415-1794515400-1794520800@www.auratheatreamateur.fr
SUMMARY:Compte
DESCRIPTION:Cette page est restreinte. Veuillez Connexion  pour afficher cette page.
URL:https://www.auratheatreamateur.fr/evenement/compte-10/2026-11-12/
LOCATION:ACTE 2 THEATRE\, 32 bis quai Arloing\, Lyon\, 69009
ATTACH;FMTTYPE=image/jpeg:https://www.auratheatreamateur.fr/wp-content/uploads/2026/02/FB_IMG_17718227161731.jpg
END:VEVENT
BEGIN:VEVENT
DTSTART;TZID=UTC:20261113T203000
DTEND;TZID=UTC:20261113T220000
DTSTAMP:20260425T143720
CREATED:20260226T115750Z
LAST-MODIFIED:20260226T115750Z
UID:10001416-1794601800-1794607200@www.auratheatreamateur.fr
SUMMARY:Compte
DESCRIPTION:Cette page est restreinte. Veuillez Connexion  pour afficher cette page.
URL:https://www.auratheatreamateur.fr/evenement/compte-10/2026-11-13/
LOCATION:ACTE 2 THEATRE\, 32 bis quai Arloing\, Lyon\, 69009
ATTACH;FMTTYPE=image/jpeg:https://www.auratheatreamateur.fr/wp-content/uploads/2026/02/FB_IMG_17718227161731.jpg
END:VEVENT
BEGIN:VEVENT
DTSTART;TZID=UTC:20261119T203000
DTEND;TZID=UTC:20261119T220000
DTSTAMP:20260425T143720
CREATED:20260226T115750Z
LAST-MODIFIED:20260226T115750Z
UID:10001417-1795120200-1795125600@www.auratheatreamateur.fr
SUMMARY:Compte
DESCRIPTION:Cette page est restreinte. Veuillez Connexion  pour afficher cette page.
URL:https://www.auratheatreamateur.fr/evenement/compte-10/2026-11-19/
LOCATION:ACTE 2 THEATRE\, 32 bis quai Arloing\, Lyon\, 69009
ATTACH;FMTTYPE=image/jpeg:https://www.auratheatreamateur.fr/wp-content/uploads/2026/02/FB_IMG_17718227161731.jpg
END:VEVENT
BEGIN:VEVENT
DTSTART;TZID=UTC:20261120T203000
DTEND;TZID=UTC:20261120T220000
DTSTAMP:20260425T143720
CREATED:20260226T115750Z
LAST-MODIFIED:20260226T115750Z
UID:10001418-1795206600-1795212000@www.auratheatreamateur.fr
SUMMARY:Compte
DESCRIPTION:Cette page est restreinte. Veuillez Connexion  pour afficher cette page.
URL:https://www.auratheatreamateur.fr/evenement/compte-10/2026-11-20/
LOCATION:ACTE 2 THEATRE\, 32 bis quai Arloing\, Lyon\, 69009
ATTACH;FMTTYPE=image/jpeg:https://www.auratheatreamateur.fr/wp-content/uploads/2026/02/FB_IMG_17718227161731.jpg
END:VEVENT
BEGIN:VEVENT
DTSTART;TZID=UTC:20261126T203000
DTEND;TZID=UTC:20261126T220000
DTSTAMP:20260425T143720
CREATED:20260226T115750Z
LAST-MODIFIED:20260226T115750Z
UID:10001419-1795725000-1795730400@www.auratheatreamateur.fr
SUMMARY:Compte
DESCRIPTION:Cette page est restreinte. Veuillez Connexion  pour afficher cette page.
URL:https://www.auratheatreamateur.fr/evenement/compte-10/2026-11-26/
LOCATION:ACTE 2 THEATRE\, 32 bis quai Arloing\, Lyon\, 69009
ATTACH;FMTTYPE=image/jpeg:https://www.auratheatreamateur.fr/wp-content/uploads/2026/02/FB_IMG_17718227161731.jpg
END:VEVENT
BEGIN:VEVENT
DTSTART;TZID=UTC:20261127T203000
DTEND;TZID=UTC:20261127T220000
DTSTAMP:20260425T143720
CREATED:20260226T115750Z
LAST-MODIFIED:20260226T115750Z
UID:10001420-1795811400-1795816800@www.auratheatreamateur.fr
SUMMARY:Compte
DESCRIPTION:Cette page est restreinte. Veuillez Connexion  pour afficher cette page.
URL:https://www.auratheatreamateur.fr/evenement/compte-10/2026-11-27/
LOCATION:ACTE 2 THEATRE\, 32 bis quai Arloing\, Lyon\, 69009
ATTACH;FMTTYPE=image/jpeg:https://www.auratheatreamateur.fr/wp-content/uploads/2026/02/FB_IMG_17718227161731.jpg
END:VEVENT
BEGIN:VEVENT
DTSTART;TZID=UTC:20261203T203000
DTEND;TZID=UTC:20261203T220000
DTSTAMP:20260425T143720
CREATED:20260226T115750Z
LAST-MODIFIED:20260226T115750Z
UID:10001421-1796329800-1796335200@www.auratheatreamateur.fr
SUMMARY:Compte
DESCRIPTION:Cette page est restreinte. Veuillez Connexion  pour afficher cette page.
URL:https://www.auratheatreamateur.fr/evenement/compte-10/2026-12-03/
LOCATION:ACTE 2 THEATRE\, 32 bis quai Arloing\, Lyon\, 69009
ATTACH;FMTTYPE=image/jpeg:https://www.auratheatreamateur.fr/wp-content/uploads/2026/02/FB_IMG_17718227161731.jpg
END:VEVENT
END:VCALENDAR